BEGIN:VCALENDAR
VERSION:2.0
PRODID:-//Victory Lutheran Church - ECPv6.15.11//NONSGML v1.0//EN
CALSCALE:GREGORIAN
METHOD:PUBLISH
X-WR-CALNAME:Victory Lutheran Church
X-ORIGINAL-URL:https://victorylutheran.com
X-WR-CALDESC:Events for Victory Lutheran Church
REFRESH-INTERVAL;VALUE=DURATION:PT1H
X-Robots-Tag:noindex
X-PUBLISHED-TTL:PT1H
BEGIN:VTIMEZONE
TZID:America/Phoenix
BEGIN:STANDARD
TZOFFSETFROM:-0700
TZOFFSETTO:-0700
TZNAME:MST
DTSTART:20250101T000000
END:STANDARD
END:VTIMEZONE
BEGIN:VEVENT
DTSTART;TZID=America/Phoenix:20260420T090000
DTEND;TZID=America/Phoenix:20260420T113000
DTSTAMP:20260420T024438
CREATED:20251010T194254Z
LAST-MODIFIED:20251010T202529Z
UID:10000962-1776675600-1776684600@victorylutheran.com
SUMMARY:Food Pantry
DESCRIPTION:LSS-SW (Lutheran Social Services of the Southwest) 2 Food Pantry locations in Mesa. All that is needed is a photo ID. Note: We offer food only. No financial resources available. \n\n\n\nVictory Lutheran Church Food Pantry5946 E. University Drive\, Mesa\, AZ 85205Mondays & Wednesdays\, 9:00am-11:30am480-654-4539 \n\n\n\nFirst Evangelical Lutheran Church Food Pantry142 N. Date\, Mesa\, AZ 85201Tuesdays & Thursdays\, 9:00am-11:15am(except the 2nd Tuesday of the month)and the evening of the Wednesday AFTER the 2nd Tuesday 5:00-7:00pm
URL:https://victorylutheran.com/event/food-pantry-5/2026-04-20/
LOCATION:Victory Lutheran Church\, 5946 E. University Dr.\, Mesa\, AZ\, 85205\, United States
ATTACH;FMTTYPE=image/jpeg:https://victorylutheran.com/wp-content/uploads/2023/07/Food-Pantry_thumbnail.jpg
END:VEVENT
BEGIN:VEVENT
DTSTART;TZID=America/Phoenix:20260420T133000
DTEND;TZID=America/Phoenix:20260420T150000
DTSTAMP:20260420T024438
CREATED:20251205T014806Z
LAST-MODIFIED:20260325T025405Z
UID:10010581-1776691800-1776697200@victorylutheran.com
SUMMARY:Estate & Planned Giving Seminar
DESCRIPTION:Estate & Planned Giving SeminarSponsored by VLC FoundationMonday\, April 20 @ 1:30-3:00pmDon’t miss this opportunity to shape your legacy and leave a lasting impact! Our presenter\, Mark Johnson\, is recognized for his expertise in estate planning and charitable gifting. He has presented numerous Estate Planning Workshops in churches around the country and has been a featured speaker at many conferences. Learn about the different aspects of Estate Planning and why you should plan. As you delve into the intricacies of estate planning\, you’ll find a multitude of compelling reasons to secure your legacy:– Biblical Perspective on Estate Planning– Avoid Probate– Reduce Estate Taxes– Leave Gifts for Your Favorite Charity– Individual Consulting Opportunity– And Much More!Sign up at the Welcome Desk to let us know you will be attending!
URL:https://victorylutheran.com/event/estate-planned-giving-seminar-6/
CATEGORIES:Group Time
ATTACH;FMTTYPE=image/png:https://victorylutheran.com/wp-content/uploads/2025/12/Screenshot-2026-03-20-at-3.28.55-PM.png
END:VEVENT
BEGIN:VEVENT
DTSTART;TZID=America/Phoenix:20260420T160000
DTEND;TZID=America/Phoenix:20260420T173000
DTSTAMP:20260420T024438
CREATED:20250703T195237Z
LAST-MODIFIED:20251205T171908Z
UID:10011013-1776700800-1776706200@victorylutheran.com
SUMMARY:Confirmation Class
DESCRIPTION:Our FREE Confirmation program is a three-year in-depth study of the scriptures and Luther’s Small Catechism. This program aims to provide a strong Christian foundation for youth\, emphasizing the sacraments\, commandments\, and foundational Christian beliefs. Classes are held every Monday from 4:00-5:30pm. \n\n\n\nFor more information contact Pastor Renee Bennett at 480-830-5024 xt. 121. \n\n\n\nNOTE: We will not meet December 15\, 22 & 29\, 2025.
URL:https://victorylutheran.com/event/confirmation-class-3/2026-04-20/
CATEGORIES:Group Time
END:VEVENT
END:VCALENDAR