BEGIN:VCALENDAR
VERSION:2.0
PRODID:-//Victory Lutheran Church - ECPv6.15.11//NONSGML v1.0//EN
CALSCALE:GREGORIAN
METHOD:PUBLISH
X-WR-CALNAME:Victory Lutheran Church
X-ORIGINAL-URL:https://victorylutheran.com
X-WR-CALDESC:Events for Victory Lutheran Church
REFRESH-INTERVAL;VALUE=DURATION:PT1H
X-Robots-Tag:noindex
X-PUBLISHED-TTL:PT1H
BEGIN:VTIMEZONE
TZID:America/Phoenix
BEGIN:STANDARD
TZOFFSETFROM:-0700
TZOFFSETTO:-0700
TZNAME:MST
DTSTART:20250101T000000
END:STANDARD
END:VTIMEZONE
BEGIN:VEVENT
DTSTART;TZID=America/Phoenix:20260421T083000
DTEND;TZID=America/Phoenix:20260421T143000
DTSTAMP:20260423T014655
CREATED:20260114T190352Z
LAST-MODIFIED:20260114T190407Z
UID:10011064-1776760200-1776781800@victorylutheran.com
SUMMARY:Quilters Group
DESCRIPTION:QUILTERS WILL MEET:January 20 & 21\, 2026February 17 & 18\, 2026(No meeting in March)April 21 & 22\, 2026May 19 & 21\, 2026June 16 & 17\, 2026(No meeting in July or August)September 15 & 16\, 2026October 20 & 21\, 2026November 17 & 18\, 2026(No meeting in December) \n\n\n\nOn Tuesday we meet from 8:30am-2:30pm and break for a potluck lunch at noon. On Wednesday we meet from 8:30am-11:30pm and break for coffee. \n\n\n\nHelp needed with cutting squares\, layering and tying knots. Bring your scissors and a smile! Come when you can — leave when you must.
URL:https://victorylutheran.com/event/quilters-group/2026-04-21/
CATEGORIES:Go Time
ATTACH;FMTTYPE=image/jpeg:https://victorylutheran.com/wp-content/uploads/2023/09/Quilters.jpg
END:VEVENT
BEGIN:VEVENT
DTSTART;TZID=America/Phoenix:20260421T183000
DTEND;TZID=America/Phoenix:20260421T203000
DTSTAMP:20260423T014655
CREATED:20251205T170343Z
LAST-MODIFIED:20251205T170420Z
UID:10010927-1776796200-1776803400@victorylutheran.com
SUMMARY:Small Group - "The Seekers"
DESCRIPTION:Led by Mike Menke & Judy BaileyIn-Depth Bible Study (Co-ed)When: 6:30-8:30pm\, 1st & 3rd Tuesday of the monthWhere: Victory\, Room B7Year-Round
URL:https://victorylutheran.com/event/small-group-the-seekers-2/2026-04-21/
END:VEVENT
BEGIN:VEVENT
DTSTART;TZID=America/Phoenix:20260421T190000
DTEND;TZID=America/Phoenix:20260421T200000
DTSTAMP:20260423T014655
CREATED:20230728T214538Z
LAST-MODIFIED:20230801T172346Z
UID:10001460-1776798000-1776801600@victorylutheran.com
SUMMARY:AA Men's Meeting
DESCRIPTION:The purpose of all meetings is for A.A. members to “share their experience\, strength and hope with each other that they may solve their common problem and help others to recover from alcoholism.”
URL:https://victorylutheran.com/event/aa-mens-meeting/2026-04-21/
ATTACH;FMTTYPE=image/jpeg:https://victorylutheran.com/wp-content/uploads/2023/07/1.jpg
END:VEVENT
END:VCALENDAR