BEGIN:VCALENDAR
VERSION:2.0
PRODID:-//Victory Lutheran Church - ECPv6.15.11//NONSGML v1.0//EN
CALSCALE:GREGORIAN
METHOD:PUBLISH
X-WR-CALNAME:Victory Lutheran Church
X-ORIGINAL-URL:https://victorylutheran.com
X-WR-CALDESC:Events for Victory Lutheran Church
REFRESH-INTERVAL;VALUE=DURATION:PT1H
X-Robots-Tag:noindex
X-PUBLISHED-TTL:PT1H
BEGIN:VTIMEZONE
TZID:America/Phoenix
BEGIN:STANDARD
TZOFFSETFROM:-0700
TZOFFSETTO:-0700
TZNAME:MST
DTSTART:20250101T000000
END:STANDARD
END:VTIMEZONE
BEGIN:VEVENT
DTSTART;TZID=America/Phoenix:20260422T090000
DTEND;TZID=America/Phoenix:20260422T113000
DTSTAMP:20260422T043134
CREATED:20250301T035836Z
LAST-MODIFIED:20250301T035838Z
UID:10007939-1776848400-1776857400@victorylutheran.com
SUMMARY:S.A.F.E. Event - Feed My Starving Children
DESCRIPTION:S.A.F.E. (Singles Activity Fellowship Events)\n\n\n\nFeed My Starving Children  (Off-Site)9:00-11:00am (Bus leaves at 8:00am)*1100 W. Grove Parkway\, Tempe (New location)This monthly mission trip to the Christian ­based\, non-profit organization\, is on the 4th Wednesday of each month. You can stand and package the food\, or sit and label it. Afterwards\, we stop and have lunch. \n\n\n\nRSVP REQUIRED FOR ALL EVENTS. This helps us with planning and seating.
URL:https://victorylutheran.com/event/s-a-f-e-event-feed-my-starving-children-2/2026-04-22/
END:VEVENT
BEGIN:VEVENT
DTSTART;TZID=America/Phoenix:20260422T090000
DTEND;TZID=America/Phoenix:20260422T113000
DTSTAMP:20260422T043134
CREATED:20250724T234313Z
LAST-MODIFIED:20260325T030138Z
UID:10007931-1776848400-1776857400@victorylutheran.com
SUMMARY:Victory Connections - FMSC
DESCRIPTION:Feed My Starving Children  (Off-Site)9:00-11:00am (Bus leaves at 8:00am)1100 W. Grove Parkway\, TempeThis monthly mission trip to the Christian ­based\, non-profit organization\, is on the 4th Wednesday of each month. FMSC provides free children’s meals distributed to schools\, churches\, orphanages and community centers around the world. You can stand and package the food\, or sit and label it. The bus is FREE for this event. \n\n\n\nSIGN UP REQUIRED FOR ALL EVENTS. This helps us with planning and seating.
URL:https://victorylutheran.com/event/s-a-f-e-event-feed-my-starving-children-4/
CATEGORIES:Go Time
ATTACH;FMTTYPE=image/jpeg:https://victorylutheran.com/wp-content/uploads/2025/07/Victory-Connections_APR-2026.jpg
END:VEVENT
BEGIN:VEVENT
DTSTART;TZID=America/Phoenix:20260422T090000
DTEND;TZID=America/Phoenix:20260422T113000
DTSTAMP:20260422T043134
CREATED:20251010T194254Z
LAST-MODIFIED:20251010T202529Z
UID:10000963-1776848400-1776857400@victorylutheran.com
SUMMARY:Food Pantry
DESCRIPTION:LSS-SW (Lutheran Social Services of the Southwest) 2 Food Pantry locations in Mesa. All that is needed is a photo ID. Note: We offer food only. No financial resources available. \n\n\n\nVictory Lutheran Church Food Pantry5946 E. University Drive\, Mesa\, AZ 85205Mondays & Wednesdays\, 9:00am-11:30am480-654-4539 \n\n\n\nFirst Evangelical Lutheran Church Food Pantry142 N. Date\, Mesa\, AZ 85201Tuesdays & Thursdays\, 9:00am-11:15am(except the 2nd Tuesday of the month)and the evening of the Wednesday AFTER the 2nd Tuesday 5:00-7:00pm
URL:https://victorylutheran.com/event/food-pantry-5/2026-04-22/
LOCATION:Victory Lutheran Church\, 5946 E. University Dr.\, Mesa\, AZ\, 85205\, United States
ATTACH;FMTTYPE=image/jpeg:https://victorylutheran.com/wp-content/uploads/2023/07/Food-Pantry_thumbnail.jpg
END:VEVENT
BEGIN:VEVENT
DTSTART;TZID=America/Phoenix:20260422T100000
DTEND;TZID=America/Phoenix:20260422T110000
DTSTAMP:20260422T043134
CREATED:20250703T194922Z
LAST-MODIFIED:20250703T194936Z
UID:10009105-1776852000-1776855600@victorylutheran.com
SUMMARY:Men's Bible Study
DESCRIPTION:We meet each week in the courtyard Luther Room (C-1). It is a great setting for studying and discussing sermon notes. Communion is observed.
URL:https://victorylutheran.com/event/mens-bible-study-4/2026-04-22/
CATEGORIES:Life Groups
ATTACH;FMTTYPE=image/jpeg:https://victorylutheran.com/wp-content/uploads/2023/07/Bible-and-coffee.jpg
END:VEVENT
BEGIN:VEVENT
DTSTART;TZID=America/Phoenix:20260422T123000
DTEND;TZID=America/Phoenix:20260422T133000
DTSTAMP:20260422T043134
CREATED:20230728T214657Z
LAST-MODIFIED:20230801T172234Z
UID:10001721-1776861000-1776864600@victorylutheran.com
SUMMARY:Al-Anon Meeting
DESCRIPTION:Al-Anon Family Groups is an important source of help for anyone affected by someone else’s drinking. Al-Anon groups are made up of family members and friends of alcoholics who share their experience\, strength\, and hope with each other.
URL:https://victorylutheran.com/event/al-anon-meeting/2026-04-22/
ATTACH;FMTTYPE=image/jpeg:https://victorylutheran.com/wp-content/uploads/2023/07/2.jpg
END:VEVENT
BEGIN:VEVENT
DTSTART;TZID=America/Phoenix:20260422T133000
DTEND;TZID=America/Phoenix:20260422T150000
DTSTAMP:20260422T043134
CREATED:20231230T201101Z
LAST-MODIFIED:20231230T201112Z
UID:10005411-1776864600-1776870000@victorylutheran.com
SUMMARY:Women's Bible Study
DESCRIPTION:We gather each Wednesday at 1:30pm to learn and discuss God’s Word. Open to all women.
URL:https://victorylutheran.com/event/womens-bible-study/2026-04-22/
CATEGORIES:Group Time
ATTACH;FMTTYPE=image/jpeg:https://victorylutheran.com/wp-content/uploads/2023/12/Bible-with-flower.jpg
END:VEVENT
BEGIN:VEVENT
DTSTART;TZID=America/Phoenix:20260422T200000
DTEND;TZID=America/Phoenix:20260422T210000
DTSTAMP:20260422T043134
CREATED:20240423T172328Z
LAST-MODIFIED:20240423T172410Z
UID:10006281-1776888000-1776891600@victorylutheran.com
SUMMARY:AA Meeting
DESCRIPTION:The purpose of all meetings is for A.A. members to “share their experience\, strength and hope with each other that they may solve their common problem and help others to recover from alcoholism.”
URL:https://victorylutheran.com/event/aa-meeting/2026-04-22/
ATTACH;FMTTYPE=image/jpeg:https://victorylutheran.com/wp-content/uploads/2023/07/AA-book-cover.jpg
END:VEVENT
END:VCALENDAR