BEGIN:VCALENDAR
VERSION:2.0
PRODID:-//Victory Lutheran Church - ECPv6.15.11//NONSGML v1.0//EN
CALSCALE:GREGORIAN
METHOD:PUBLISH
X-WR-CALNAME:Victory Lutheran Church
X-ORIGINAL-URL:https://victorylutheran.com
X-WR-CALDESC:Events for Victory Lutheran Church
REFRESH-INTERVAL;VALUE=DURATION:PT1H
X-Robots-Tag:noindex
X-PUBLISHED-TTL:PT1H
BEGIN:VTIMEZONE
TZID:America/Phoenix
BEGIN:STANDARD
TZOFFSETFROM:-0700
TZOFFSETTO:-0700
TZNAME:MST
DTSTART:20250101T000000
END:STANDARD
END:VTIMEZONE
BEGIN:VEVENT
DTSTART;TZID=America/Phoenix:20261101T093000
DTEND;TZID=America/Phoenix:20261101T103000
DTSTAMP:20260420T042847
CREATED:20230728T231856Z
LAST-MODIFIED:20230730T162603Z
UID:10002867-1793525400-1793529000@victorylutheran.com
SUMMARY:9:30am Worship
DESCRIPTION:
URL:https://victorylutheran.com/event/930am-worship-2/2026-11-01/
CATEGORIES:Gather Time
ATTACH;FMTTYPE=image/jpeg:https://victorylutheran.com/wp-content/uploads/2023/07/Inside-Sanctuary.jpg
END:VEVENT
BEGIN:VEVENT
DTSTART;TZID=America/Phoenix:20261101T110000
DTEND;TZID=America/Phoenix:20261101T120000
DTSTAMP:20260420T042847
CREATED:20240306T000109Z
LAST-MODIFIED:20240306T000348Z
UID:10006011-1793530800-1793534400@victorylutheran.com
SUMMARY:Contemporary Worship
DESCRIPTION:Launching New  \n\n\n\nCONTEMPORARY WORSHIP SERVICE @ 11:00AMBeginning April 7th\, Victory Lutheran will introduce a Contemporary Worship Service at 11:00am on Sunday mornings. Following Easter\, the 11:00am service will shift from traditional to contemporary music\, led by a praise team under the guidance of Jackie Jewel. \n\n\n\nThis new service has been a long-requested and carefully planned endeavor. While contemporary worship has been a part of Victory for over twenty years\, it hasn’t been present at the Mesa campus for quite some time. \n\n\n\nIt’s important to note that traditional worship remains the cornerstone of Victory’s worship experience. This is our primary focus. We’re not aiming to “blend” traditional and contemporary styles. Our Saturday service at 4:00pm and Sunday services at 8:00am and 9:30am will continue to uphold traditional styles with excellence. The 11:00am Sunday service will adopt a contemporary style\, also delivered with excellence.
URL:https://victorylutheran.com/event/contemporary-worship/2026-11-01/
CATEGORIES:Gather Time
ATTACH;FMTTYPE=image/jpeg:https://victorylutheran.com/wp-content/uploads/2024/03/Contemporary-Countdown-Next-Sunday.jpeg
END:VEVENT
BEGIN:VEVENT
DTSTART;TZID=America/Phoenix:20261101T110000
DTEND;TZID=America/Phoenix:20261101T120000
DTSTAMP:20260420T042847
CREATED:20250926T025306Z
LAST-MODIFIED:20251205T195711Z
UID:10010641-1793530800-1793534400@victorylutheran.com
SUMMARY:Children's Church
DESCRIPTION:Children’s Church will start Sunday\, October 12 and new this year\, we will have Children’s Church available at both the 9:30 and 11:00 services!. Please remember the Children’s Ministry in your prayers.
URL:https://victorylutheran.com/event/childrens-church/2026-11-01/
CATEGORIES:Gather Time
ATTACH;FMTTYPE=image/jpeg:https://victorylutheran.com/wp-content/uploads/2025/09/Childrens-Church_Oct.jpg
END:VEVENT
BEGIN:VEVENT
DTSTART;TZID=America/Phoenix:20261107T160000
DTEND;TZID=America/Phoenix:20261107T170000
DTSTAMP:20260420T042847
CREATED:20230728T231824Z
LAST-MODIFIED:20230730T162125Z
UID:10003133-1794067200-1794070800@victorylutheran.com
SUMMARY:4pm Worship
DESCRIPTION:
URL:https://victorylutheran.com/event/4pm-worship-2/2026-11-07/
CATEGORIES:Gather Time
ATTACH;FMTTYPE=image/jpeg:https://victorylutheran.com/wp-content/uploads/2023/07/Drone-Inside-Church-Frame-scaled.jpg
END:VEVENT
BEGIN:VEVENT
DTSTART;TZID=America/Phoenix:20261108T093000
DTEND;TZID=America/Phoenix:20261108T103000
DTSTAMP:20260420T042847
CREATED:20230728T231856Z
LAST-MODIFIED:20230730T162603Z
UID:10002868-1794130200-1794133800@victorylutheran.com
SUMMARY:9:30am Worship
DESCRIPTION:
URL:https://victorylutheran.com/event/930am-worship-2/2026-11-08/
CATEGORIES:Gather Time
ATTACH;FMTTYPE=image/jpeg:https://victorylutheran.com/wp-content/uploads/2023/07/Inside-Sanctuary.jpg
END:VEVENT
BEGIN:VEVENT
DTSTART;TZID=America/Phoenix:20261108T110000
DTEND;TZID=America/Phoenix:20261108T120000
DTSTAMP:20260420T042847
CREATED:20240306T000109Z
LAST-MODIFIED:20240306T000348Z
UID:10006012-1794135600-1794139200@victorylutheran.com
SUMMARY:Contemporary Worship
DESCRIPTION:Launching New  \n\n\n\nCONTEMPORARY WORSHIP SERVICE @ 11:00AMBeginning April 7th\, Victory Lutheran will introduce a Contemporary Worship Service at 11:00am on Sunday mornings. Following Easter\, the 11:00am service will shift from traditional to contemporary music\, led by a praise team under the guidance of Jackie Jewel. \n\n\n\nThis new service has been a long-requested and carefully planned endeavor. While contemporary worship has been a part of Victory for over twenty years\, it hasn’t been present at the Mesa campus for quite some time. \n\n\n\nIt’s important to note that traditional worship remains the cornerstone of Victory’s worship experience. This is our primary focus. We’re not aiming to “blend” traditional and contemporary styles. Our Saturday service at 4:00pm and Sunday services at 8:00am and 9:30am will continue to uphold traditional styles with excellence. The 11:00am Sunday service will adopt a contemporary style\, also delivered with excellence.
URL:https://victorylutheran.com/event/contemporary-worship/2026-11-08/
CATEGORIES:Gather Time
ATTACH;FMTTYPE=image/jpeg:https://victorylutheran.com/wp-content/uploads/2024/03/Contemporary-Countdown-Next-Sunday.jpeg
END:VEVENT
BEGIN:VEVENT
DTSTART;TZID=America/Phoenix:20261108T110000
DTEND;TZID=America/Phoenix:20261108T120000
DTSTAMP:20260420T042847
CREATED:20250926T025306Z
LAST-MODIFIED:20251205T195711Z
UID:10010642-1794135600-1794139200@victorylutheran.com
SUMMARY:Children's Church
DESCRIPTION:Children’s Church will start Sunday\, October 12 and new this year\, we will have Children’s Church available at both the 9:30 and 11:00 services!. Please remember the Children’s Ministry in your prayers.
URL:https://victorylutheran.com/event/childrens-church/2026-11-08/
CATEGORIES:Gather Time
ATTACH;FMTTYPE=image/jpeg:https://victorylutheran.com/wp-content/uploads/2025/09/Childrens-Church_Oct.jpg
END:VEVENT
BEGIN:VEVENT
DTSTART;TZID=America/Phoenix:20261114T160000
DTEND;TZID=America/Phoenix:20261114T170000
DTSTAMP:20260420T042847
CREATED:20230728T231824Z
LAST-MODIFIED:20230730T162125Z
UID:10003134-1794672000-1794675600@victorylutheran.com
SUMMARY:4pm Worship
DESCRIPTION:
URL:https://victorylutheran.com/event/4pm-worship-2/2026-11-14/
CATEGORIES:Gather Time
ATTACH;FMTTYPE=image/jpeg:https://victorylutheran.com/wp-content/uploads/2023/07/Drone-Inside-Church-Frame-scaled.jpg
END:VEVENT
BEGIN:VEVENT
DTSTART;TZID=America/Phoenix:20261115T093000
DTEND;TZID=America/Phoenix:20261115T103000
DTSTAMP:20260420T042847
CREATED:20230728T231856Z
LAST-MODIFIED:20230730T162603Z
UID:10002869-1794735000-1794738600@victorylutheran.com
SUMMARY:9:30am Worship
DESCRIPTION:
URL:https://victorylutheran.com/event/930am-worship-2/2026-11-15/
CATEGORIES:Gather Time
ATTACH;FMTTYPE=image/jpeg:https://victorylutheran.com/wp-content/uploads/2023/07/Inside-Sanctuary.jpg
END:VEVENT
BEGIN:VEVENT
DTSTART;TZID=America/Phoenix:20261115T110000
DTEND;TZID=America/Phoenix:20261115T120000
DTSTAMP:20260420T042847
CREATED:20240306T000109Z
LAST-MODIFIED:20240306T000348Z
UID:10006013-1794740400-1794744000@victorylutheran.com
SUMMARY:Contemporary Worship
DESCRIPTION:Launching New  \n\n\n\nCONTEMPORARY WORSHIP SERVICE @ 11:00AMBeginning April 7th\, Victory Lutheran will introduce a Contemporary Worship Service at 11:00am on Sunday mornings. Following Easter\, the 11:00am service will shift from traditional to contemporary music\, led by a praise team under the guidance of Jackie Jewel. \n\n\n\nThis new service has been a long-requested and carefully planned endeavor. While contemporary worship has been a part of Victory for over twenty years\, it hasn’t been present at the Mesa campus for quite some time. \n\n\n\nIt’s important to note that traditional worship remains the cornerstone of Victory’s worship experience. This is our primary focus. We’re not aiming to “blend” traditional and contemporary styles. Our Saturday service at 4:00pm and Sunday services at 8:00am and 9:30am will continue to uphold traditional styles with excellence. The 11:00am Sunday service will adopt a contemporary style\, also delivered with excellence.
URL:https://victorylutheran.com/event/contemporary-worship/2026-11-15/
CATEGORIES:Gather Time
ATTACH;FMTTYPE=image/jpeg:https://victorylutheran.com/wp-content/uploads/2024/03/Contemporary-Countdown-Next-Sunday.jpeg
END:VEVENT
BEGIN:VEVENT
DTSTART;TZID=America/Phoenix:20261115T110000
DTEND;TZID=America/Phoenix:20261115T120000
DTSTAMP:20260420T042847
CREATED:20250926T025306Z
LAST-MODIFIED:20251205T195711Z
UID:10010643-1794740400-1794744000@victorylutheran.com
SUMMARY:Children's Church
DESCRIPTION:Children’s Church will start Sunday\, October 12 and new this year\, we will have Children’s Church available at both the 9:30 and 11:00 services!. Please remember the Children’s Ministry in your prayers.
URL:https://victorylutheran.com/event/childrens-church/2026-11-15/
CATEGORIES:Gather Time
ATTACH;FMTTYPE=image/jpeg:https://victorylutheran.com/wp-content/uploads/2025/09/Childrens-Church_Oct.jpg
END:VEVENT
BEGIN:VEVENT
DTSTART;TZID=America/Phoenix:20261121T160000
DTEND;TZID=America/Phoenix:20261121T170000
DTSTAMP:20260420T042847
CREATED:20230728T231824Z
LAST-MODIFIED:20230730T162125Z
UID:10003135-1795276800-1795280400@victorylutheran.com
SUMMARY:4pm Worship
DESCRIPTION:
URL:https://victorylutheran.com/event/4pm-worship-2/2026-11-21/
CATEGORIES:Gather Time
ATTACH;FMTTYPE=image/jpeg:https://victorylutheran.com/wp-content/uploads/2023/07/Drone-Inside-Church-Frame-scaled.jpg
END:VEVENT
BEGIN:VEVENT
DTSTART;TZID=America/Phoenix:20261122T093000
DTEND;TZID=America/Phoenix:20261122T103000
DTSTAMP:20260420T042847
CREATED:20230728T231856Z
LAST-MODIFIED:20230730T162603Z
UID:10002870-1795339800-1795343400@victorylutheran.com
SUMMARY:9:30am Worship
DESCRIPTION:
URL:https://victorylutheran.com/event/930am-worship-2/2026-11-22/
CATEGORIES:Gather Time
ATTACH;FMTTYPE=image/jpeg:https://victorylutheran.com/wp-content/uploads/2023/07/Inside-Sanctuary.jpg
END:VEVENT
BEGIN:VEVENT
DTSTART;TZID=America/Phoenix:20261122T110000
DTEND;TZID=America/Phoenix:20261122T120000
DTSTAMP:20260420T042847
CREATED:20240306T000109Z
LAST-MODIFIED:20240306T000348Z
UID:10006014-1795345200-1795348800@victorylutheran.com
SUMMARY:Contemporary Worship
DESCRIPTION:Launching New  \n\n\n\nCONTEMPORARY WORSHIP SERVICE @ 11:00AMBeginning April 7th\, Victory Lutheran will introduce a Contemporary Worship Service at 11:00am on Sunday mornings. Following Easter\, the 11:00am service will shift from traditional to contemporary music\, led by a praise team under the guidance of Jackie Jewel. \n\n\n\nThis new service has been a long-requested and carefully planned endeavor. While contemporary worship has been a part of Victory for over twenty years\, it hasn’t been present at the Mesa campus for quite some time. \n\n\n\nIt’s important to note that traditional worship remains the cornerstone of Victory’s worship experience. This is our primary focus. We’re not aiming to “blend” traditional and contemporary styles. Our Saturday service at 4:00pm and Sunday services at 8:00am and 9:30am will continue to uphold traditional styles with excellence. The 11:00am Sunday service will adopt a contemporary style\, also delivered with excellence.
URL:https://victorylutheran.com/event/contemporary-worship/2026-11-22/
CATEGORIES:Gather Time
ATTACH;FMTTYPE=image/jpeg:https://victorylutheran.com/wp-content/uploads/2024/03/Contemporary-Countdown-Next-Sunday.jpeg
END:VEVENT
BEGIN:VEVENT
DTSTART;TZID=America/Phoenix:20261122T110000
DTEND;TZID=America/Phoenix:20261122T120000
DTSTAMP:20260420T042847
CREATED:20250926T025306Z
LAST-MODIFIED:20251205T195711Z
UID:10010644-1795345200-1795348800@victorylutheran.com
SUMMARY:Children's Church
DESCRIPTION:Children’s Church will start Sunday\, October 12 and new this year\, we will have Children’s Church available at both the 9:30 and 11:00 services!. Please remember the Children’s Ministry in your prayers.
URL:https://victorylutheran.com/event/childrens-church/2026-11-22/
CATEGORIES:Gather Time
ATTACH;FMTTYPE=image/jpeg:https://victorylutheran.com/wp-content/uploads/2025/09/Childrens-Church_Oct.jpg
END:VEVENT
BEGIN:VEVENT
DTSTART;TZID=America/Phoenix:20261128T160000
DTEND;TZID=America/Phoenix:20261128T170000
DTSTAMP:20260420T042847
CREATED:20230728T231824Z
LAST-MODIFIED:20230730T162125Z
UID:10003136-1795881600-1795885200@victorylutheran.com
SUMMARY:4pm Worship
DESCRIPTION:
URL:https://victorylutheran.com/event/4pm-worship-2/2026-11-28/
CATEGORIES:Gather Time
ATTACH;FMTTYPE=image/jpeg:https://victorylutheran.com/wp-content/uploads/2023/07/Drone-Inside-Church-Frame-scaled.jpg
END:VEVENT
BEGIN:VEVENT
DTSTART;TZID=America/Phoenix:20261129T093000
DTEND;TZID=America/Phoenix:20261129T103000
DTSTAMP:20260420T042847
CREATED:20230728T231856Z
LAST-MODIFIED:20230730T162603Z
UID:10002871-1795944600-1795948200@victorylutheran.com
SUMMARY:9:30am Worship
DESCRIPTION:
URL:https://victorylutheran.com/event/930am-worship-2/2026-11-29/
CATEGORIES:Gather Time
ATTACH;FMTTYPE=image/jpeg:https://victorylutheran.com/wp-content/uploads/2023/07/Inside-Sanctuary.jpg
END:VEVENT
BEGIN:VEVENT
DTSTART;TZID=America/Phoenix:20261129T110000
DTEND;TZID=America/Phoenix:20261129T120000
DTSTAMP:20260420T042847
CREATED:20240306T000109Z
LAST-MODIFIED:20240306T000348Z
UID:10006015-1795950000-1795953600@victorylutheran.com
SUMMARY:Contemporary Worship
DESCRIPTION:Launching New  \n\n\n\nCONTEMPORARY WORSHIP SERVICE @ 11:00AMBeginning April 7th\, Victory Lutheran will introduce a Contemporary Worship Service at 11:00am on Sunday mornings. Following Easter\, the 11:00am service will shift from traditional to contemporary music\, led by a praise team under the guidance of Jackie Jewel. \n\n\n\nThis new service has been a long-requested and carefully planned endeavor. While contemporary worship has been a part of Victory for over twenty years\, it hasn’t been present at the Mesa campus for quite some time. \n\n\n\nIt’s important to note that traditional worship remains the cornerstone of Victory’s worship experience. This is our primary focus. We’re not aiming to “blend” traditional and contemporary styles. Our Saturday service at 4:00pm and Sunday services at 8:00am and 9:30am will continue to uphold traditional styles with excellence. The 11:00am Sunday service will adopt a contemporary style\, also delivered with excellence.
URL:https://victorylutheran.com/event/contemporary-worship/2026-11-29/
CATEGORIES:Gather Time
ATTACH;FMTTYPE=image/jpeg:https://victorylutheran.com/wp-content/uploads/2024/03/Contemporary-Countdown-Next-Sunday.jpeg
END:VEVENT
BEGIN:VEVENT
DTSTART;TZID=America/Phoenix:20261129T110000
DTEND;TZID=America/Phoenix:20261129T120000
DTSTAMP:20260420T042847
CREATED:20250926T025306Z
LAST-MODIFIED:20251205T195711Z
UID:10010645-1795950000-1795953600@victorylutheran.com
SUMMARY:Children's Church
DESCRIPTION:Children’s Church will start Sunday\, October 12 and new this year\, we will have Children’s Church available at both the 9:30 and 11:00 services!. Please remember the Children’s Ministry in your prayers.
URL:https://victorylutheran.com/event/childrens-church/2026-11-29/
CATEGORIES:Gather Time
ATTACH;FMTTYPE=image/jpeg:https://victorylutheran.com/wp-content/uploads/2025/09/Childrens-Church_Oct.jpg
END:VEVENT
END:VCALENDAR