BEGIN:VCALENDAR
VERSION:2.0
PRODID:-//Victory Lutheran Church - ECPv6.15.11//NONSGML v1.0//EN
CALSCALE:GREGORIAN
METHOD:PUBLISH
X-ORIGINAL-URL:https://victorylutheran.com
X-WR-CALDESC:Events for Victory Lutheran Church
REFRESH-INTERVAL;VALUE=DURATION:PT1H
X-Robots-Tag:noindex
X-PUBLISHED-TTL:PT1H
BEGIN:VTIMEZONE
TZID:America/Phoenix
BEGIN:STANDARD
TZOFFSETFROM:-0700
TZOFFSETTO:-0700
TZNAME:MST
DTSTART:20240101T000000
END:STANDARD
END:VTIMEZONE
BEGIN:VEVENT
DTSTART;TZID=America/Phoenix:20250518T110000
DTEND;TZID=America/Phoenix:20250518T120000
DTSTAMP:20260420T221648
CREATED:20240306T000109Z
LAST-MODIFIED:20240306T000348Z
UID:10005935-1747566000-1747569600@victorylutheran.com
SUMMARY:Contemporary Worship
DESCRIPTION:Launching New  \n\n\n\nCONTEMPORARY WORSHIP SERVICE @ 11:00AMBeginning April 7th\, Victory Lutheran will introduce a Contemporary Worship Service at 11:00am on Sunday mornings. Following Easter\, the 11:00am service will shift from traditional to contemporary music\, led by a praise team under the guidance of Jackie Jewel. \n\n\n\nThis new service has been a long-requested and carefully planned endeavor. While contemporary worship has been a part of Victory for over twenty years\, it hasn’t been present at the Mesa campus for quite some time. \n\n\n\nIt’s important to note that traditional worship remains the cornerstone of Victory’s worship experience. This is our primary focus. We’re not aiming to “blend” traditional and contemporary styles. Our Saturday service at 4:00pm and Sunday services at 8:00am and 9:30am will continue to uphold traditional styles with excellence. The 11:00am Sunday service will adopt a contemporary style\, also delivered with excellence.
URL:https://victorylutheran.com/event/contemporary-worship/2025-05-18/
CATEGORIES:Gather Time
ATTACH;FMTTYPE=image/jpeg:https://victorylutheran.com/wp-content/uploads/2024/03/Contemporary-Countdown-Next-Sunday.jpeg
END:VEVENT
BEGIN:VEVENT
DTSTART;TZID=America/Phoenix:20250518T093000
DTEND;TZID=America/Phoenix:20250518T103000
DTSTAMP:20260420T221648
CREATED:20230728T231856Z
LAST-MODIFIED:20230730T162603Z
UID:10002791-1747560600-1747564200@victorylutheran.com
SUMMARY:9:30am Worship
DESCRIPTION:
URL:https://victorylutheran.com/event/930am-worship-2/2025-05-18/
CATEGORIES:Gather Time
ATTACH;FMTTYPE=image/jpeg:https://victorylutheran.com/wp-content/uploads/2023/07/Inside-Sanctuary.jpg
END:VEVENT
BEGIN:VEVENT
DTSTART;TZID=America/Phoenix:20250517T160000
DTEND;TZID=America/Phoenix:20250517T170000
DTSTAMP:20260420T221648
CREATED:20230728T231824Z
LAST-MODIFIED:20230730T162125Z
UID:10003056-1747497600-1747501200@victorylutheran.com
SUMMARY:4pm Worship
DESCRIPTION:
URL:https://victorylutheran.com/event/4pm-worship-2/2025-05-17/
CATEGORIES:Gather Time
ATTACH;FMTTYPE=image/jpeg:https://victorylutheran.com/wp-content/uploads/2023/07/Drone-Inside-Church-Frame-scaled.jpg
END:VEVENT
BEGIN:VEVENT
DTSTART;TZID=America/Phoenix:20250511T110000
DTEND;TZID=America/Phoenix:20250511T120000
DTSTAMP:20260420T221648
CREATED:20240306T000109Z
LAST-MODIFIED:20240306T000348Z
UID:10005934-1746961200-1746964800@victorylutheran.com
SUMMARY:Contemporary Worship
DESCRIPTION:Launching New  \n\n\n\nCONTEMPORARY WORSHIP SERVICE @ 11:00AMBeginning April 7th\, Victory Lutheran will introduce a Contemporary Worship Service at 11:00am on Sunday mornings. Following Easter\, the 11:00am service will shift from traditional to contemporary music\, led by a praise team under the guidance of Jackie Jewel. \n\n\n\nThis new service has been a long-requested and carefully planned endeavor. While contemporary worship has been a part of Victory for over twenty years\, it hasn’t been present at the Mesa campus for quite some time. \n\n\n\nIt’s important to note that traditional worship remains the cornerstone of Victory’s worship experience. This is our primary focus. We’re not aiming to “blend” traditional and contemporary styles. Our Saturday service at 4:00pm and Sunday services at 8:00am and 9:30am will continue to uphold traditional styles with excellence. The 11:00am Sunday service will adopt a contemporary style\, also delivered with excellence.
URL:https://victorylutheran.com/event/contemporary-worship/2025-05-11/
CATEGORIES:Gather Time
ATTACH;FMTTYPE=image/jpeg:https://victorylutheran.com/wp-content/uploads/2024/03/Contemporary-Countdown-Next-Sunday.jpeg
END:VEVENT
BEGIN:VEVENT
DTSTART;TZID=America/Phoenix:20250511T093000
DTEND;TZID=America/Phoenix:20250511T103000
DTSTAMP:20260420T221648
CREATED:20230728T231856Z
LAST-MODIFIED:20230730T162603Z
UID:10002790-1746955800-1746959400@victorylutheran.com
SUMMARY:9:30am Worship
DESCRIPTION:
URL:https://victorylutheran.com/event/930am-worship-2/2025-05-11/
CATEGORIES:Gather Time
ATTACH;FMTTYPE=image/jpeg:https://victorylutheran.com/wp-content/uploads/2023/07/Inside-Sanctuary.jpg
END:VEVENT
BEGIN:VEVENT
DTSTART;TZID=America/Phoenix:20250510T160000
DTEND;TZID=America/Phoenix:20250510T170000
DTSTAMP:20260420T221649
CREATED:20230728T231824Z
LAST-MODIFIED:20230730T162125Z
UID:10003055-1746892800-1746896400@victorylutheran.com
SUMMARY:4pm Worship
DESCRIPTION:
URL:https://victorylutheran.com/event/4pm-worship-2/2025-05-10/
CATEGORIES:Gather Time
ATTACH;FMTTYPE=image/jpeg:https://victorylutheran.com/wp-content/uploads/2023/07/Drone-Inside-Church-Frame-scaled.jpg
END:VEVENT
BEGIN:VEVENT
DTSTART;TZID=America/Phoenix:20250504T110000
DTEND;TZID=America/Phoenix:20250504T120000
DTSTAMP:20260420T221649
CREATED:20240306T000109Z
LAST-MODIFIED:20240306T000348Z
UID:10005933-1746356400-1746360000@victorylutheran.com
SUMMARY:Contemporary Worship
DESCRIPTION:Launching New  \n\n\n\nCONTEMPORARY WORSHIP SERVICE @ 11:00AMBeginning April 7th\, Victory Lutheran will introduce a Contemporary Worship Service at 11:00am on Sunday mornings. Following Easter\, the 11:00am service will shift from traditional to contemporary music\, led by a praise team under the guidance of Jackie Jewel. \n\n\n\nThis new service has been a long-requested and carefully planned endeavor. While contemporary worship has been a part of Victory for over twenty years\, it hasn’t been present at the Mesa campus for quite some time. \n\n\n\nIt’s important to note that traditional worship remains the cornerstone of Victory’s worship experience. This is our primary focus. We’re not aiming to “blend” traditional and contemporary styles. Our Saturday service at 4:00pm and Sunday services at 8:00am and 9:30am will continue to uphold traditional styles with excellence. The 11:00am Sunday service will adopt a contemporary style\, also delivered with excellence.
URL:https://victorylutheran.com/event/contemporary-worship/2025-05-04/
CATEGORIES:Gather Time
ATTACH;FMTTYPE=image/jpeg:https://victorylutheran.com/wp-content/uploads/2024/03/Contemporary-Countdown-Next-Sunday.jpeg
END:VEVENT
BEGIN:VEVENT
DTSTART;TZID=America/Phoenix:20250504T093000
DTEND;TZID=America/Phoenix:20250504T103000
DTSTAMP:20260420T221649
CREATED:20230728T231856Z
LAST-MODIFIED:20230730T162603Z
UID:10002789-1746351000-1746354600@victorylutheran.com
SUMMARY:9:30am Worship
DESCRIPTION:
URL:https://victorylutheran.com/event/930am-worship-2/2025-05-04/
CATEGORIES:Gather Time
ATTACH;FMTTYPE=image/jpeg:https://victorylutheran.com/wp-content/uploads/2023/07/Inside-Sanctuary.jpg
END:VEVENT
BEGIN:VEVENT
DTSTART;TZID=America/Phoenix:20250503T160000
DTEND;TZID=America/Phoenix:20250503T170000
DTSTAMP:20260420T221649
CREATED:20230728T231824Z
LAST-MODIFIED:20230730T162125Z
UID:10003054-1746288000-1746291600@victorylutheran.com
SUMMARY:4pm Worship
DESCRIPTION:
URL:https://victorylutheran.com/event/4pm-worship-2/2025-05-03/
CATEGORIES:Gather Time
ATTACH;FMTTYPE=image/jpeg:https://victorylutheran.com/wp-content/uploads/2023/07/Drone-Inside-Church-Frame-scaled.jpg
END:VEVENT
BEGIN:VEVENT
DTSTART;TZID=America/Phoenix:20250501T100000
DTEND;TZID=America/Phoenix:20250501T110000
DTSTAMP:20260420T221649
CREATED:20250424T232458Z
LAST-MODIFIED:20251010T180127Z
UID:10001221-1746093600-1746097200@victorylutheran.com
SUMMARY:National Day of Prayer Service
DESCRIPTION:National Day of Prayer Worship ServiceThursday\, May 1 @ 10:00am \n\n\n\nBecause of the faith of many of our founding fathers\, public prayer and national days of prayer have a long-standing and significant history in American tradition. This tradition will continue this year\, on Thursday\,  May 1st as Victory Lutheran Church joins other congregations and communities from around our great nation in the 73rd observance of the National Day of Prayer.  \n\n\n\nIn 1988\, the law was amended and signed by President Reagan\, permanently setting the day as the first Thursday of every May. Each year\, the president signs a proclamation\, encouraging all Americans to pray on this day. \n\n\n\nThis year the theme for the National Day of Prayer comes from Romans 15:13 that reads\, “Now may the God of hope fill you with all joy and peace in believing\, so that you will abound in hope by the power of the Holy Spirit.” (NASB) \n\n\n\nPlease plan to join us at 10:00am in the Courtyard Chapel as we gather to seek God’s will for our nation\, our communities\, and our church family here at Victory Lutheran. \n\n\n\nWe will be handing out a special themed Prayer Guide April 26 & 27 to guide us as we pray together as a community in Christ. 
URL:https://victorylutheran.com/event/prayer-praise-worship-service-12/
CATEGORIES:Gather Time
ATTACH;FMTTYPE=image/jpeg:https://victorylutheran.com/wp-content/uploads/2023/07/National-Day-of-Prayer_thumbnail.jpg
END:VEVENT
BEGIN:VEVENT
DTSTART;TZID=America/Phoenix:20250427T110000
DTEND;TZID=America/Phoenix:20250427T120000
DTSTAMP:20260420T221649
CREATED:20240306T000109Z
LAST-MODIFIED:20240306T000348Z
UID:10005932-1745751600-1745755200@victorylutheran.com
SUMMARY:Contemporary Worship
DESCRIPTION:Launching New  \n\n\n\nCONTEMPORARY WORSHIP SERVICE @ 11:00AMBeginning April 7th\, Victory Lutheran will introduce a Contemporary Worship Service at 11:00am on Sunday mornings. Following Easter\, the 11:00am service will shift from traditional to contemporary music\, led by a praise team under the guidance of Jackie Jewel. \n\n\n\nThis new service has been a long-requested and carefully planned endeavor. While contemporary worship has been a part of Victory for over twenty years\, it hasn’t been present at the Mesa campus for quite some time. \n\n\n\nIt’s important to note that traditional worship remains the cornerstone of Victory’s worship experience. This is our primary focus. We’re not aiming to “blend” traditional and contemporary styles. Our Saturday service at 4:00pm and Sunday services at 8:00am and 9:30am will continue to uphold traditional styles with excellence. The 11:00am Sunday service will adopt a contemporary style\, also delivered with excellence.
URL:https://victorylutheran.com/event/contemporary-worship/2025-04-27/
CATEGORIES:Gather Time
ATTACH;FMTTYPE=image/jpeg:https://victorylutheran.com/wp-content/uploads/2024/03/Contemporary-Countdown-Next-Sunday.jpeg
END:VEVENT
BEGIN:VEVENT
DTSTART;TZID=America/Phoenix:20250427T093000
DTEND;TZID=America/Phoenix:20250427T103000
DTSTAMP:20260420T221649
CREATED:20230728T231856Z
LAST-MODIFIED:20230730T162603Z
UID:10002788-1745746200-1745749800@victorylutheran.com
SUMMARY:9:30am Worship
DESCRIPTION:
URL:https://victorylutheran.com/event/930am-worship-2/2025-04-27/
CATEGORIES:Gather Time
ATTACH;FMTTYPE=image/jpeg:https://victorylutheran.com/wp-content/uploads/2023/07/Inside-Sanctuary.jpg
END:VEVENT
BEGIN:VEVENT
DTSTART;TZID=America/Phoenix:20250426T160000
DTEND;TZID=America/Phoenix:20250426T170000
DTSTAMP:20260420T221649
CREATED:20230728T231824Z
LAST-MODIFIED:20230730T162125Z
UID:10003053-1745683200-1745686800@victorylutheran.com
SUMMARY:4pm Worship
DESCRIPTION:
URL:https://victorylutheran.com/event/4pm-worship-2/2025-04-26/
CATEGORIES:Gather Time
ATTACH;FMTTYPE=image/jpeg:https://victorylutheran.com/wp-content/uploads/2023/07/Drone-Inside-Church-Frame-scaled.jpg
END:VEVENT
BEGIN:VEVENT
DTSTART;TZID=America/Phoenix:20250420T110000
DTEND;TZID=America/Phoenix:20250420T120000
DTSTAMP:20260420T221649
CREATED:20240306T000109Z
LAST-MODIFIED:20240306T000348Z
UID:10005931-1745146800-1745150400@victorylutheran.com
SUMMARY:Contemporary Worship
DESCRIPTION:Launching New  \n\n\n\nCONTEMPORARY WORSHIP SERVICE @ 11:00AMBeginning April 7th\, Victory Lutheran will introduce a Contemporary Worship Service at 11:00am on Sunday mornings. Following Easter\, the 11:00am service will shift from traditional to contemporary music\, led by a praise team under the guidance of Jackie Jewel. \n\n\n\nThis new service has been a long-requested and carefully planned endeavor. While contemporary worship has been a part of Victory for over twenty years\, it hasn’t been present at the Mesa campus for quite some time. \n\n\n\nIt’s important to note that traditional worship remains the cornerstone of Victory’s worship experience. This is our primary focus. We’re not aiming to “blend” traditional and contemporary styles. Our Saturday service at 4:00pm and Sunday services at 8:00am and 9:30am will continue to uphold traditional styles with excellence. The 11:00am Sunday service will adopt a contemporary style\, also delivered with excellence.
URL:https://victorylutheran.com/event/contemporary-worship/2025-04-20/
CATEGORIES:Gather Time
ATTACH;FMTTYPE=image/jpeg:https://victorylutheran.com/wp-content/uploads/2024/03/Contemporary-Countdown-Next-Sunday.jpeg
END:VEVENT
BEGIN:VEVENT
DTSTART;TZID=America/Phoenix:20250420T093000
DTEND;TZID=America/Phoenix:20250420T103000
DTSTAMP:20260420T221649
CREATED:20230728T231856Z
LAST-MODIFIED:20230730T162603Z
UID:10002787-1745141400-1745145000@victorylutheran.com
SUMMARY:9:30am Worship
DESCRIPTION:
URL:https://victorylutheran.com/event/930am-worship-2/2025-04-20/
CATEGORIES:Gather Time
ATTACH;FMTTYPE=image/jpeg:https://victorylutheran.com/wp-content/uploads/2023/07/Inside-Sanctuary.jpg
END:VEVENT
BEGIN:VEVENT
DTSTART;TZID=America/Phoenix:20250420T080000
DTEND;TZID=America/Phoenix:20250420T090000
DTSTAMP:20260420T221649
CREATED:20250403T215622Z
LAST-MODIFIED:20250403T233110Z
UID:10002522-1745136000-1745139600@victorylutheran.com
SUMMARY:8am Easter Worship
DESCRIPTION:For more information visit https://victorylutheran.com/easter\n\n\n\nFROM FINAL WORDS TO ETERNAL IMPACTJoin with the Victory community as we traverse the finals days of Christ’s passion. It begins on Palm Sunday as we celebrate Jesus’ triumphal entrance into Jerusalem and concludes with the joyous celebration of His resurrection on Easter morning! But during Holy Week we take time to pause and meditate on the final days and final words of Jesus’ earthly life.  \n\n\n\nPALM SUNDAY is a time to wave your palm branches and shout “Hosanna” as we celebrate with the throngs of believers that our King has come! This weekend is focused around how Jesus is the fulfillment of prophecy\, and yet\, on this joyous day\, the crowds do not understand that the story does not end with a joyful procession. \n\n\n\nMAUNDY THURSDAY we gather to remember the profound rescue of our souls\, when Jesus reinterprets the Passover as His Last Supper and calls his disciples to “Do this in remembrance of me.” We will come together in heartfelt worship and reflection\, recalling the incredible truth of God’s enduring love and salvation through Christ. At our 6pm service\, we are especially excited to witness a beautiful milestone as some of our children experience their First Communion—a tender reminder of new beginnings and the grace that unites us all. At the end of the service the altar will be stripped even as the life was stripped from Jesus. \n\n\n\nGOOD FRIDAY is a beautiful tenebrae service of music and word. Tenebrae means darkness\, and this is the last day that we meditate on Jesus’ final hours on earth. Focused around the Seven Last Words that Jesus spoke\, this powerful service includes readings\, times of introspection\, special music from the choir and soloists\, as well as hymns and songs for the congregation to join. The extinguishing of candles is a visual reminder of Jesus’ impending death. An opportunity to place a nail in the cross concludes this somber yet meaningful service. \n\n\n\nSTATIONS OF THE CROSS will be open on both Maundy Thursday and Good Friday in the Fellowship Hall. From 3-8pm these interactive stations will be available for your personal devotional time\, and include scripture\, reflections and interactive ways for you to meditate on the sacrifice Jesus made for you. \n\n\n\nSUNRISE: He is risen\, indeed! A meaningful tradition at Victory includes our special Sunrise service outdoors at 6am. Celebrating the resurrection as the run rises\, this unique service includes communion\, a special visit from the women at the tomb as shared by our pastoral team\, and music provided by our Handbell Ensemble. There will be a continental breakfast in the Fellowship Hall from 6:45 to 7:45am and all are invited! \n\n\n\nEASTER: After a long week of contemplating the pain and suffering Jesus went through for us\, we get to celebrate that the empty tomb shows God’s plan to bring hope\, new life\, and freedom to all who trust in Christ.! Our lead pastor will be preaching from Matthew 28\, and the Traditional Easter services include soloists\, choir and brass on Saturday 4pm\, Sunday 8am & 9:30am. If you could use extra time to park or want to get a better seat\, the 8am service will be exactly the same as 9:30am. Contemporary worship and Children’s Church is at 11am. \n\n\n\nIf you have family or friends out of town that you would like to invite to worship with us\, we will be live-streaming each day of Holy Week. Visit victorylutheran.com/easter for more information. We look forward to experiencing the joy of Easter with you!
URL:https://victorylutheran.com/event/8am-worship-communion/
CATEGORIES:Gather Time
ATTACH;FMTTYPE=image/jpeg:https://victorylutheran.com/wp-content/uploads/2023/07/Easter-Sunday-Slide-2025.jpeg
END:VEVENT
BEGIN:VEVENT
DTSTART;TZID=America/Phoenix:20250419T160000
DTEND;TZID=America/Phoenix:20250419T170000
DTSTAMP:20260420T221649
CREATED:20230728T231824Z
LAST-MODIFIED:20230730T162125Z
UID:10003052-1745078400-1745082000@victorylutheran.com
SUMMARY:4pm Worship
DESCRIPTION:
URL:https://victorylutheran.com/event/4pm-worship-2/2025-04-19/
CATEGORIES:Gather Time
ATTACH;FMTTYPE=image/jpeg:https://victorylutheran.com/wp-content/uploads/2023/07/Drone-Inside-Church-Frame-scaled.jpg
END:VEVENT
BEGIN:VEVENT
DTSTART;TZID=America/Phoenix:20250418T160000
DTEND;TZID=America/Phoenix:20250418T190000
DTSTAMP:20260420T221649
CREATED:20241017T230014Z
LAST-MODIFIED:20250403T214656Z
UID:10008009-1744992000-1745002800@victorylutheran.com
SUMMARY:Good Friday Cantata 4 & 6pm
DESCRIPTION:Good Friday CantataFriday\, April 18\, 2025 @ 4 & 6pm\n\n\n\nJoin us for a deeply moving Good Friday Cantata\, a musical commemoration of the crucifixion and death of our Lord Jesus Christ. This is also a chance to experience the moving Tenebrae service that features the progressive extinguishing of candles\, combined with the reading and singing of psalms and hymns\, heightens the experience\, symbolizing the growing darkness that fell over the world as Jesus suffered on the cross. This is more than just a service—it’s a profound musical journey that invites deep reflection and worship.
URL:https://victorylutheran.com/event/good-friday-cantata-4-6pm/
CATEGORIES:Concert,Gather Time
ATTACH;FMTTYPE=image/jpeg:https://victorylutheran.com/wp-content/uploads/2024/10/Good-Friday-Slide-2025.jpeg
END:VEVENT
BEGIN:VEVENT
DTSTART;TZID=America/Phoenix:20250413T110000
DTEND;TZID=America/Phoenix:20250413T120000
DTSTAMP:20260420T221649
CREATED:20240306T000109Z
LAST-MODIFIED:20240306T000348Z
UID:10005930-1744542000-1744545600@victorylutheran.com
SUMMARY:Contemporary Worship
DESCRIPTION:Launching New  \n\n\n\nCONTEMPORARY WORSHIP SERVICE @ 11:00AMBeginning April 7th\, Victory Lutheran will introduce a Contemporary Worship Service at 11:00am on Sunday mornings. Following Easter\, the 11:00am service will shift from traditional to contemporary music\, led by a praise team under the guidance of Jackie Jewel. \n\n\n\nThis new service has been a long-requested and carefully planned endeavor. While contemporary worship has been a part of Victory for over twenty years\, it hasn’t been present at the Mesa campus for quite some time. \n\n\n\nIt’s important to note that traditional worship remains the cornerstone of Victory’s worship experience. This is our primary focus. We’re not aiming to “blend” traditional and contemporary styles. Our Saturday service at 4:00pm and Sunday services at 8:00am and 9:30am will continue to uphold traditional styles with excellence. The 11:00am Sunday service will adopt a contemporary style\, also delivered with excellence.
URL:https://victorylutheran.com/event/contemporary-worship/2025-04-13/
CATEGORIES:Gather Time
ATTACH;FMTTYPE=image/jpeg:https://victorylutheran.com/wp-content/uploads/2024/03/Contemporary-Countdown-Next-Sunday.jpeg
END:VEVENT
BEGIN:VEVENT
DTSTART;TZID=America/Phoenix:20250413T093000
DTEND;TZID=America/Phoenix:20250413T103000
DTSTAMP:20260420T221649
CREATED:20230728T231856Z
LAST-MODIFIED:20230730T162603Z
UID:10002786-1744536600-1744540200@victorylutheran.com
SUMMARY:9:30am Worship
DESCRIPTION:
URL:https://victorylutheran.com/event/930am-worship-2/2025-04-13/
CATEGORIES:Gather Time
ATTACH;FMTTYPE=image/jpeg:https://victorylutheran.com/wp-content/uploads/2023/07/Inside-Sanctuary.jpg
END:VEVENT
BEGIN:VEVENT
DTSTART;TZID=America/Phoenix:20250412T160000
DTEND;TZID=America/Phoenix:20250412T170000
DTSTAMP:20260420T221649
CREATED:20230728T231824Z
LAST-MODIFIED:20230730T162125Z
UID:10003051-1744473600-1744477200@victorylutheran.com
SUMMARY:4pm Worship
DESCRIPTION:
URL:https://victorylutheran.com/event/4pm-worship-2/2025-04-12/
CATEGORIES:Gather Time
ATTACH;FMTTYPE=image/jpeg:https://victorylutheran.com/wp-content/uploads/2023/07/Drone-Inside-Church-Frame-scaled.jpg
END:VEVENT
BEGIN:VEVENT
DTSTART;TZID=America/Phoenix:20250409T160000
DTEND;TZID=America/Phoenix:20250409T170000
DTSTAMP:20260420T221649
CREATED:20250303T190744Z
LAST-MODIFIED:20250303T190749Z
UID:10008318-1744214400-1744218000@victorylutheran.com
SUMMARY:Lenten Worship
DESCRIPTION:Lenten Worship at 4pm with Soup Supper to follow at 5pm.
URL:https://victorylutheran.com/event/lenten-worship/
LOCATION:Victory Lutheran Church\, 5946 E. University Dr.\, Mesa\, AZ\, 85205\, United States
CATEGORIES:Gather Time
ATTACH;FMTTYPE=image/jpeg:https://victorylutheran.com/wp-content/uploads/2024/11/Lent-General-Slide.jpeg
END:VEVENT
BEGIN:VEVENT
DTSTART;TZID=America/Phoenix:20250406T110000
DTEND;TZID=America/Phoenix:20250406T120000
DTSTAMP:20260420T221649
CREATED:20240306T000109Z
LAST-MODIFIED:20240306T000348Z
UID:10005929-1743937200-1743940800@victorylutheran.com
SUMMARY:Contemporary Worship
DESCRIPTION:Launching New  \n\n\n\nCONTEMPORARY WORSHIP SERVICE @ 11:00AMBeginning April 7th\, Victory Lutheran will introduce a Contemporary Worship Service at 11:00am on Sunday mornings. Following Easter\, the 11:00am service will shift from traditional to contemporary music\, led by a praise team under the guidance of Jackie Jewel. \n\n\n\nThis new service has been a long-requested and carefully planned endeavor. While contemporary worship has been a part of Victory for over twenty years\, it hasn’t been present at the Mesa campus for quite some time. \n\n\n\nIt’s important to note that traditional worship remains the cornerstone of Victory’s worship experience. This is our primary focus. We’re not aiming to “blend” traditional and contemporary styles. Our Saturday service at 4:00pm and Sunday services at 8:00am and 9:30am will continue to uphold traditional styles with excellence. The 11:00am Sunday service will adopt a contemporary style\, also delivered with excellence.
URL:https://victorylutheran.com/event/contemporary-worship/2025-04-06/
CATEGORIES:Gather Time
ATTACH;FMTTYPE=image/jpeg:https://victorylutheran.com/wp-content/uploads/2024/03/Contemporary-Countdown-Next-Sunday.jpeg
END:VEVENT
BEGIN:VEVENT
DTSTART;TZID=America/Phoenix:20250406T093000
DTEND;TZID=America/Phoenix:20250406T103000
DTSTAMP:20260420T221649
CREATED:20230728T231856Z
LAST-MODIFIED:20230730T162603Z
UID:10002785-1743931800-1743935400@victorylutheran.com
SUMMARY:9:30am Worship
DESCRIPTION:
URL:https://victorylutheran.com/event/930am-worship-2/2025-04-06/
CATEGORIES:Gather Time
ATTACH;FMTTYPE=image/jpeg:https://victorylutheran.com/wp-content/uploads/2023/07/Inside-Sanctuary.jpg
END:VEVENT
BEGIN:VEVENT
DTSTART;TZID=America/Phoenix:20250405T160000
DTEND;TZID=America/Phoenix:20250405T170000
DTSTAMP:20260420T221649
CREATED:20230728T231824Z
LAST-MODIFIED:20230730T162125Z
UID:10003050-1743868800-1743872400@victorylutheran.com
SUMMARY:4pm Worship
DESCRIPTION:
URL:https://victorylutheran.com/event/4pm-worship-2/2025-04-05/
CATEGORIES:Gather Time
ATTACH;FMTTYPE=image/jpeg:https://victorylutheran.com/wp-content/uploads/2023/07/Drone-Inside-Church-Frame-scaled.jpg
END:VEVENT
BEGIN:VEVENT
DTSTART;TZID=America/Phoenix:20250403T100000
DTEND;TZID=America/Phoenix:20250403T110000
DTSTAMP:20260420T221649
CREATED:20230728T212433Z
LAST-MODIFIED:20251010T180555Z
UID:10001220-1743674400-1743678000@victorylutheran.com
SUMMARY:Prayer & Praise Worship Service
DESCRIPTION:We meet the first Thursday of the month in the courtyard Chapel. This gathering provides an opportunity for our community to come together in worship\, prayer and gratitude.
URL:https://victorylutheran.com/event/prayer-praise-worship-service/2025-04-03/
CATEGORIES:Gather Time
ATTACH;FMTTYPE=image/jpeg:https://victorylutheran.com/wp-content/uploads/2023/07/Praise-Prayer_thunbnail-1.jpg
END:VEVENT
BEGIN:VEVENT
DTSTART;TZID=America/Phoenix:20250402T160000
DTEND;TZID=America/Phoenix:20250402T170000
DTSTAMP:20260420T221649
CREATED:20241107T014401Z
LAST-MODIFIED:20241111T181423Z
UID:10008317-1743609600-1743613200@victorylutheran.com
SUMMARY:Lenten Worship
DESCRIPTION:Lenten Worship at 4pm with Soup Supper to follow at 5pm.
URL:https://victorylutheran.com/event/lenten-worship-2/2025-04-02/
LOCATION:Victory Lutheran Church\, 5946 E. University Dr.\, Mesa\, AZ\, 85205\, United States
CATEGORIES:Gather Time
ATTACH;FMTTYPE=image/jpeg:https://victorylutheran.com/wp-content/uploads/2024/11/Lenten-Worship-2025.jpg
END:VEVENT
BEGIN:VEVENT
DTSTART;TZID=America/Phoenix:20250330T110000
DTEND;TZID=America/Phoenix:20250330T120000
DTSTAMP:20260420T221649
CREATED:20240306T000109Z
LAST-MODIFIED:20240306T000348Z
UID:10005928-1743332400-1743336000@victorylutheran.com
SUMMARY:Contemporary Worship
DESCRIPTION:Launching New  \n\n\n\nCONTEMPORARY WORSHIP SERVICE @ 11:00AMBeginning April 7th\, Victory Lutheran will introduce a Contemporary Worship Service at 11:00am on Sunday mornings. Following Easter\, the 11:00am service will shift from traditional to contemporary music\, led by a praise team under the guidance of Jackie Jewel. \n\n\n\nThis new service has been a long-requested and carefully planned endeavor. While contemporary worship has been a part of Victory for over twenty years\, it hasn’t been present at the Mesa campus for quite some time. \n\n\n\nIt’s important to note that traditional worship remains the cornerstone of Victory’s worship experience. This is our primary focus. We’re not aiming to “blend” traditional and contemporary styles. Our Saturday service at 4:00pm and Sunday services at 8:00am and 9:30am will continue to uphold traditional styles with excellence. The 11:00am Sunday service will adopt a contemporary style\, also delivered with excellence.
URL:https://victorylutheran.com/event/contemporary-worship/2025-03-30/
CATEGORIES:Gather Time
ATTACH;FMTTYPE=image/jpeg:https://victorylutheran.com/wp-content/uploads/2024/03/Contemporary-Countdown-Next-Sunday.jpeg
END:VEVENT
BEGIN:VEVENT
DTSTART;TZID=America/Phoenix:20250330T093000
DTEND;TZID=America/Phoenix:20250330T103000
DTSTAMP:20260420T221649
CREATED:20230728T231856Z
LAST-MODIFIED:20230730T162603Z
UID:10002784-1743327000-1743330600@victorylutheran.com
SUMMARY:9:30am Worship
DESCRIPTION:
URL:https://victorylutheran.com/event/930am-worship-2/2025-03-30/
CATEGORIES:Gather Time
ATTACH;FMTTYPE=image/jpeg:https://victorylutheran.com/wp-content/uploads/2023/07/Inside-Sanctuary.jpg
END:VEVENT
BEGIN:VEVENT
DTSTART;TZID=America/Phoenix:20250329T160000
DTEND;TZID=America/Phoenix:20250329T170000
DTSTAMP:20260420T221649
CREATED:20230728T231824Z
LAST-MODIFIED:20230730T162125Z
UID:10003049-1743264000-1743267600@victorylutheran.com
SUMMARY:4pm Worship
DESCRIPTION:
URL:https://victorylutheran.com/event/4pm-worship-2/2025-03-29/
CATEGORIES:Gather Time
ATTACH;FMTTYPE=image/jpeg:https://victorylutheran.com/wp-content/uploads/2023/07/Drone-Inside-Church-Frame-scaled.jpg
END:VEVENT
END:VCALENDAR