BEGIN:VCALENDAR
VERSION:2.0
PRODID:-//Victory Lutheran Church - ECPv6.15.11//NONSGML v1.0//EN
CALSCALE:GREGORIAN
METHOD:PUBLISH
X-ORIGINAL-URL:https://victorylutheran.com
X-WR-CALDESC:Events for Victory Lutheran Church
REFRESH-INTERVAL;VALUE=DURATION:PT1H
X-Robots-Tag:noindex
X-PUBLISHED-TTL:PT1H
BEGIN:VTIMEZONE
TZID:America/Phoenix
BEGIN:STANDARD
TZOFFSETFROM:-0700
TZOFFSETTO:-0700
TZNAME:MST
DTSTART:20280101T000000
END:STANDARD
END:VTIMEZONE
BEGIN:VEVENT
DTSTART;TZID=America/Phoenix:20291111T110000
DTEND;TZID=America/Phoenix:20291111T120000
DTSTAMP:20260423T040045
CREATED:20250926T025306Z
LAST-MODIFIED:20251205T195711Z
UID:10010799-1889089200-1889092800@victorylutheran.com
SUMMARY:Children's Church
DESCRIPTION:Children’s Church will start Sunday\, October 12 and new this year\, we will have Children’s Church available at both the 9:30 and 11:00 services!. Please remember the Children’s Ministry in your prayers.
URL:https://victorylutheran.com/event/childrens-church/2029-11-11/
CATEGORIES:Gather Time
ATTACH;FMTTYPE=image/jpeg:https://victorylutheran.com/wp-content/uploads/2025/09/Childrens-Church_Oct.jpg
END:VEVENT
BEGIN:VEVENT
DTSTART;TZID=America/Phoenix:20291118T110000
DTEND;TZID=America/Phoenix:20291118T120000
DTSTAMP:20260423T040045
CREATED:20250926T025306Z
LAST-MODIFIED:20251205T195711Z
UID:10010800-1889694000-1889697600@victorylutheran.com
SUMMARY:Children's Church
DESCRIPTION:Children’s Church will start Sunday\, October 12 and new this year\, we will have Children’s Church available at both the 9:30 and 11:00 services!. Please remember the Children’s Ministry in your prayers.
URL:https://victorylutheran.com/event/childrens-church/2029-11-18/
CATEGORIES:Gather Time
ATTACH;FMTTYPE=image/jpeg:https://victorylutheran.com/wp-content/uploads/2025/09/Childrens-Church_Oct.jpg
END:VEVENT
BEGIN:VEVENT
DTSTART;TZID=America/Phoenix:20291125T110000
DTEND;TZID=America/Phoenix:20291125T120000
DTSTAMP:20260423T040045
CREATED:20250926T025306Z
LAST-MODIFIED:20251205T195711Z
UID:10010801-1890298800-1890302400@victorylutheran.com
SUMMARY:Children's Church
DESCRIPTION:Children’s Church will start Sunday\, October 12 and new this year\, we will have Children’s Church available at both the 9:30 and 11:00 services!. Please remember the Children’s Ministry in your prayers.
URL:https://victorylutheran.com/event/childrens-church/2029-11-25/
CATEGORIES:Gather Time
ATTACH;FMTTYPE=image/jpeg:https://victorylutheran.com/wp-content/uploads/2025/09/Childrens-Church_Oct.jpg
END:VEVENT
BEGIN:VEVENT
DTSTART;TZID=America/Phoenix:20291202T110000
DTEND;TZID=America/Phoenix:20291202T120000
DTSTAMP:20260423T040045
CREATED:20250926T025306Z
LAST-MODIFIED:20251205T195711Z
UID:10010802-1890903600-1890907200@victorylutheran.com
SUMMARY:Children's Church
DESCRIPTION:Children’s Church will start Sunday\, October 12 and new this year\, we will have Children’s Church available at both the 9:30 and 11:00 services!. Please remember the Children’s Ministry in your prayers.
URL:https://victorylutheran.com/event/childrens-church/2029-12-02/
CATEGORIES:Gather Time
ATTACH;FMTTYPE=image/jpeg:https://victorylutheran.com/wp-content/uploads/2025/09/Childrens-Church_Oct.jpg
END:VEVENT
BEGIN:VEVENT
DTSTART;TZID=America/Phoenix:20291209T110000
DTEND;TZID=America/Phoenix:20291209T120000
DTSTAMP:20260423T040045
CREATED:20250926T025306Z
LAST-MODIFIED:20251205T195711Z
UID:10010803-1891508400-1891512000@victorylutheran.com
SUMMARY:Children's Church
DESCRIPTION:Children’s Church will start Sunday\, October 12 and new this year\, we will have Children’s Church available at both the 9:30 and 11:00 services!. Please remember the Children’s Ministry in your prayers.
URL:https://victorylutheran.com/event/childrens-church/2029-12-09/
CATEGORIES:Gather Time
ATTACH;FMTTYPE=image/jpeg:https://victorylutheran.com/wp-content/uploads/2025/09/Childrens-Church_Oct.jpg
END:VEVENT
BEGIN:VEVENT
DTSTART;TZID=America/Phoenix:20291216T110000
DTEND;TZID=America/Phoenix:20291216T120000
DTSTAMP:20260423T040045
CREATED:20250926T025306Z
LAST-MODIFIED:20251205T195711Z
UID:10010804-1892113200-1892116800@victorylutheran.com
SUMMARY:Children's Church
DESCRIPTION:Children’s Church will start Sunday\, October 12 and new this year\, we will have Children’s Church available at both the 9:30 and 11:00 services!. Please remember the Children’s Ministry in your prayers.
URL:https://victorylutheran.com/event/childrens-church/2029-12-16/
CATEGORIES:Gather Time
ATTACH;FMTTYPE=image/jpeg:https://victorylutheran.com/wp-content/uploads/2025/09/Childrens-Church_Oct.jpg
END:VEVENT
BEGIN:VEVENT
DTSTART;TZID=America/Phoenix:20291223T110000
DTEND;TZID=America/Phoenix:20291223T120000
DTSTAMP:20260423T040045
CREATED:20250926T025306Z
LAST-MODIFIED:20251205T195711Z
UID:10010805-1892718000-1892721600@victorylutheran.com
SUMMARY:Children's Church
DESCRIPTION:Children’s Church will start Sunday\, October 12 and new this year\, we will have Children’s Church available at both the 9:30 and 11:00 services!. Please remember the Children’s Ministry in your prayers.
URL:https://victorylutheran.com/event/childrens-church/2029-12-23/
CATEGORIES:Gather Time
ATTACH;FMTTYPE=image/jpeg:https://victorylutheran.com/wp-content/uploads/2025/09/Childrens-Church_Oct.jpg
END:VEVENT
BEGIN:VEVENT
DTSTART;TZID=America/Phoenix:20291230T110000
DTEND;TZID=America/Phoenix:20291230T120000
DTSTAMP:20260423T040045
CREATED:20250926T025306Z
LAST-MODIFIED:20251205T195711Z
UID:10010806-1893322800-1893326400@victorylutheran.com
SUMMARY:Children's Church
DESCRIPTION:Children’s Church will start Sunday\, October 12 and new this year\, we will have Children’s Church available at both the 9:30 and 11:00 services!. Please remember the Children’s Ministry in your prayers.
URL:https://victorylutheran.com/event/childrens-church/2029-12-30/
CATEGORIES:Gather Time
ATTACH;FMTTYPE=image/jpeg:https://victorylutheran.com/wp-content/uploads/2025/09/Childrens-Church_Oct.jpg
END:VEVENT
BEGIN:VEVENT
DTSTART;TZID=America/Phoenix:20300106T110000
DTEND;TZID=America/Phoenix:20300106T120000
DTSTAMP:20260423T040045
CREATED:20250926T025306Z
LAST-MODIFIED:20251205T195711Z
UID:10010807-1893927600-1893931200@victorylutheran.com
SUMMARY:Children's Church
DESCRIPTION:Children’s Church will start Sunday\, October 12 and new this year\, we will have Children’s Church available at both the 9:30 and 11:00 services!. Please remember the Children’s Ministry in your prayers.
URL:https://victorylutheran.com/event/childrens-church/2030-01-06/
CATEGORIES:Gather Time
ATTACH;FMTTYPE=image/jpeg:https://victorylutheran.com/wp-content/uploads/2025/09/Childrens-Church_Oct.jpg
END:VEVENT
BEGIN:VEVENT
DTSTART;TZID=America/Phoenix:20300113T110000
DTEND;TZID=America/Phoenix:20300113T120000
DTSTAMP:20260423T040045
CREATED:20250926T025306Z
LAST-MODIFIED:20251205T195711Z
UID:10010808-1894532400-1894536000@victorylutheran.com
SUMMARY:Children's Church
DESCRIPTION:Children’s Church will start Sunday\, October 12 and new this year\, we will have Children’s Church available at both the 9:30 and 11:00 services!. Please remember the Children’s Ministry in your prayers.
URL:https://victorylutheran.com/event/childrens-church/2030-01-13/
CATEGORIES:Gather Time
ATTACH;FMTTYPE=image/jpeg:https://victorylutheran.com/wp-content/uploads/2025/09/Childrens-Church_Oct.jpg
END:VEVENT
BEGIN:VEVENT
DTSTART;TZID=America/Phoenix:20300120T110000
DTEND;TZID=America/Phoenix:20300120T120000
DTSTAMP:20260423T040045
CREATED:20250926T025306Z
LAST-MODIFIED:20251205T195711Z
UID:10010809-1895137200-1895140800@victorylutheran.com
SUMMARY:Children's Church
DESCRIPTION:Children’s Church will start Sunday\, October 12 and new this year\, we will have Children’s Church available at both the 9:30 and 11:00 services!. Please remember the Children’s Ministry in your prayers.
URL:https://victorylutheran.com/event/childrens-church/2030-01-20/
CATEGORIES:Gather Time
ATTACH;FMTTYPE=image/jpeg:https://victorylutheran.com/wp-content/uploads/2025/09/Childrens-Church_Oct.jpg
END:VEVENT
BEGIN:VEVENT
DTSTART;TZID=America/Phoenix:20300127T110000
DTEND;TZID=America/Phoenix:20300127T120000
DTSTAMP:20260423T040045
CREATED:20250926T025306Z
LAST-MODIFIED:20251205T195711Z
UID:10010810-1895742000-1895745600@victorylutheran.com
SUMMARY:Children's Church
DESCRIPTION:Children’s Church will start Sunday\, October 12 and new this year\, we will have Children’s Church available at both the 9:30 and 11:00 services!. Please remember the Children’s Ministry in your prayers.
URL:https://victorylutheran.com/event/childrens-church/2030-01-27/
CATEGORIES:Gather Time
ATTACH;FMTTYPE=image/jpeg:https://victorylutheran.com/wp-content/uploads/2025/09/Childrens-Church_Oct.jpg
END:VEVENT
BEGIN:VEVENT
DTSTART;TZID=America/Phoenix:20300203T110000
DTEND;TZID=America/Phoenix:20300203T120000
DTSTAMP:20260423T040045
CREATED:20250926T025306Z
LAST-MODIFIED:20251205T195711Z
UID:10010811-1896346800-1896350400@victorylutheran.com
SUMMARY:Children's Church
DESCRIPTION:Children’s Church will start Sunday\, October 12 and new this year\, we will have Children’s Church available at both the 9:30 and 11:00 services!. Please remember the Children’s Ministry in your prayers.
URL:https://victorylutheran.com/event/childrens-church/2030-02-03/
CATEGORIES:Gather Time
ATTACH;FMTTYPE=image/jpeg:https://victorylutheran.com/wp-content/uploads/2025/09/Childrens-Church_Oct.jpg
END:VEVENT
BEGIN:VEVENT
DTSTART;TZID=America/Phoenix:20300210T110000
DTEND;TZID=America/Phoenix:20300210T120000
DTSTAMP:20260423T040045
CREATED:20250926T025306Z
LAST-MODIFIED:20251205T195711Z
UID:10010812-1896951600-1896955200@victorylutheran.com
SUMMARY:Children's Church
DESCRIPTION:Children’s Church will start Sunday\, October 12 and new this year\, we will have Children’s Church available at both the 9:30 and 11:00 services!. Please remember the Children’s Ministry in your prayers.
URL:https://victorylutheran.com/event/childrens-church/2030-02-10/
CATEGORIES:Gather Time
ATTACH;FMTTYPE=image/jpeg:https://victorylutheran.com/wp-content/uploads/2025/09/Childrens-Church_Oct.jpg
END:VEVENT
BEGIN:VEVENT
DTSTART;TZID=America/Phoenix:20300217T110000
DTEND;TZID=America/Phoenix:20300217T120000
DTSTAMP:20260423T040045
CREATED:20250926T025306Z
LAST-MODIFIED:20251205T195711Z
UID:10010813-1897556400-1897560000@victorylutheran.com
SUMMARY:Children's Church
DESCRIPTION:Children’s Church will start Sunday\, October 12 and new this year\, we will have Children’s Church available at both the 9:30 and 11:00 services!. Please remember the Children’s Ministry in your prayers.
URL:https://victorylutheran.com/event/childrens-church/2030-02-17/
CATEGORIES:Gather Time
ATTACH;FMTTYPE=image/jpeg:https://victorylutheran.com/wp-content/uploads/2025/09/Childrens-Church_Oct.jpg
END:VEVENT
BEGIN:VEVENT
DTSTART;TZID=America/Phoenix:20300224T110000
DTEND;TZID=America/Phoenix:20300224T120000
DTSTAMP:20260423T040045
CREATED:20250926T025306Z
LAST-MODIFIED:20251205T195711Z
UID:10010814-1898161200-1898164800@victorylutheran.com
SUMMARY:Children's Church
DESCRIPTION:Children’s Church will start Sunday\, October 12 and new this year\, we will have Children’s Church available at both the 9:30 and 11:00 services!. Please remember the Children’s Ministry in your prayers.
URL:https://victorylutheran.com/event/childrens-church/2030-02-24/
CATEGORIES:Gather Time
ATTACH;FMTTYPE=image/jpeg:https://victorylutheran.com/wp-content/uploads/2025/09/Childrens-Church_Oct.jpg
END:VEVENT
BEGIN:VEVENT
DTSTART;TZID=America/Phoenix:20300303T110000
DTEND;TZID=America/Phoenix:20300303T120000
DTSTAMP:20260423T040045
CREATED:20250926T025306Z
LAST-MODIFIED:20251205T195711Z
UID:10010815-1898766000-1898769600@victorylutheran.com
SUMMARY:Children's Church
DESCRIPTION:Children’s Church will start Sunday\, October 12 and new this year\, we will have Children’s Church available at both the 9:30 and 11:00 services!. Please remember the Children’s Ministry in your prayers.
URL:https://victorylutheran.com/event/childrens-church/2030-03-03/
CATEGORIES:Gather Time
ATTACH;FMTTYPE=image/jpeg:https://victorylutheran.com/wp-content/uploads/2025/09/Childrens-Church_Oct.jpg
END:VEVENT
BEGIN:VEVENT
DTSTART;TZID=America/Phoenix:20300310T110000
DTEND;TZID=America/Phoenix:20300310T120000
DTSTAMP:20260423T040045
CREATED:20250926T025306Z
LAST-MODIFIED:20251205T195711Z
UID:10010816-1899370800-1899374400@victorylutheran.com
SUMMARY:Children's Church
DESCRIPTION:Children’s Church will start Sunday\, October 12 and new this year\, we will have Children’s Church available at both the 9:30 and 11:00 services!. Please remember the Children’s Ministry in your prayers.
URL:https://victorylutheran.com/event/childrens-church/2030-03-10/
CATEGORIES:Gather Time
ATTACH;FMTTYPE=image/jpeg:https://victorylutheran.com/wp-content/uploads/2025/09/Childrens-Church_Oct.jpg
END:VEVENT
BEGIN:VEVENT
DTSTART;TZID=America/Phoenix:20300317T110000
DTEND;TZID=America/Phoenix:20300317T120000
DTSTAMP:20260423T040045
CREATED:20250926T025306Z
LAST-MODIFIED:20251205T195711Z
UID:10010817-1899975600-1899979200@victorylutheran.com
SUMMARY:Children's Church
DESCRIPTION:Children’s Church will start Sunday\, October 12 and new this year\, we will have Children’s Church available at both the 9:30 and 11:00 services!. Please remember the Children’s Ministry in your prayers.
URL:https://victorylutheran.com/event/childrens-church/2030-03-17/
CATEGORIES:Gather Time
ATTACH;FMTTYPE=image/jpeg:https://victorylutheran.com/wp-content/uploads/2025/09/Childrens-Church_Oct.jpg
END:VEVENT
BEGIN:VEVENT
DTSTART;TZID=America/Phoenix:20300324T110000
DTEND;TZID=America/Phoenix:20300324T120000
DTSTAMP:20260423T040045
CREATED:20250926T025306Z
LAST-MODIFIED:20251205T195711Z
UID:10010818-1900580400-1900584000@victorylutheran.com
SUMMARY:Children's Church
DESCRIPTION:Children’s Church will start Sunday\, October 12 and new this year\, we will have Children’s Church available at both the 9:30 and 11:00 services!. Please remember the Children’s Ministry in your prayers.
URL:https://victorylutheran.com/event/childrens-church/2030-03-24/
CATEGORIES:Gather Time
ATTACH;FMTTYPE=image/jpeg:https://victorylutheran.com/wp-content/uploads/2025/09/Childrens-Church_Oct.jpg
END:VEVENT
BEGIN:VEVENT
DTSTART;TZID=America/Phoenix:20300331T110000
DTEND;TZID=America/Phoenix:20300331T120000
DTSTAMP:20260423T040045
CREATED:20250926T025306Z
LAST-MODIFIED:20251205T195711Z
UID:10010819-1901185200-1901188800@victorylutheran.com
SUMMARY:Children's Church
DESCRIPTION:Children’s Church will start Sunday\, October 12 and new this year\, we will have Children’s Church available at both the 9:30 and 11:00 services!. Please remember the Children’s Ministry in your prayers.
URL:https://victorylutheran.com/event/childrens-church/2030-03-31/
CATEGORIES:Gather Time
ATTACH;FMTTYPE=image/jpeg:https://victorylutheran.com/wp-content/uploads/2025/09/Childrens-Church_Oct.jpg
END:VEVENT
BEGIN:VEVENT
DTSTART;TZID=America/Phoenix:20300407T110000
DTEND;TZID=America/Phoenix:20300407T120000
DTSTAMP:20260423T040045
CREATED:20250926T025306Z
LAST-MODIFIED:20251205T195711Z
UID:10010820-1901790000-1901793600@victorylutheran.com
SUMMARY:Children's Church
DESCRIPTION:Children’s Church will start Sunday\, October 12 and new this year\, we will have Children’s Church available at both the 9:30 and 11:00 services!. Please remember the Children’s Ministry in your prayers.
URL:https://victorylutheran.com/event/childrens-church/2030-04-07/
CATEGORIES:Gather Time
ATTACH;FMTTYPE=image/jpeg:https://victorylutheran.com/wp-content/uploads/2025/09/Childrens-Church_Oct.jpg
END:VEVENT
BEGIN:VEVENT
DTSTART;TZID=America/Phoenix:20300414T110000
DTEND;TZID=America/Phoenix:20300414T120000
DTSTAMP:20260423T040045
CREATED:20250926T025306Z
LAST-MODIFIED:20251205T195711Z
UID:10010821-1902394800-1902398400@victorylutheran.com
SUMMARY:Children's Church
DESCRIPTION:Children’s Church will start Sunday\, October 12 and new this year\, we will have Children’s Church available at both the 9:30 and 11:00 services!. Please remember the Children’s Ministry in your prayers.
URL:https://victorylutheran.com/event/childrens-church/2030-04-14/
CATEGORIES:Gather Time
ATTACH;FMTTYPE=image/jpeg:https://victorylutheran.com/wp-content/uploads/2025/09/Childrens-Church_Oct.jpg
END:VEVENT
BEGIN:VEVENT
DTSTART;TZID=America/Phoenix:20300421T110000
DTEND;TZID=America/Phoenix:20300421T120000
DTSTAMP:20260423T040045
CREATED:20250926T025306Z
LAST-MODIFIED:20251205T195711Z
UID:10010822-1902999600-1903003200@victorylutheran.com
SUMMARY:Children's Church
DESCRIPTION:Children’s Church will start Sunday\, October 12 and new this year\, we will have Children’s Church available at both the 9:30 and 11:00 services!. Please remember the Children’s Ministry in your prayers.
URL:https://victorylutheran.com/event/childrens-church/2030-04-21/
CATEGORIES:Gather Time
ATTACH;FMTTYPE=image/jpeg:https://victorylutheran.com/wp-content/uploads/2025/09/Childrens-Church_Oct.jpg
END:VEVENT
BEGIN:VEVENT
DTSTART;TZID=America/Phoenix:20300428T110000
DTEND;TZID=America/Phoenix:20300428T120000
DTSTAMP:20260423T040045
CREATED:20250926T025306Z
LAST-MODIFIED:20251205T195711Z
UID:10010823-1903604400-1903608000@victorylutheran.com
SUMMARY:Children's Church
DESCRIPTION:Children’s Church will start Sunday\, October 12 and new this year\, we will have Children’s Church available at both the 9:30 and 11:00 services!. Please remember the Children’s Ministry in your prayers.
URL:https://victorylutheran.com/event/childrens-church/2030-04-28/
CATEGORIES:Gather Time
ATTACH;FMTTYPE=image/jpeg:https://victorylutheran.com/wp-content/uploads/2025/09/Childrens-Church_Oct.jpg
END:VEVENT
BEGIN:VEVENT
DTSTART;TZID=America/Phoenix:20300505T110000
DTEND;TZID=America/Phoenix:20300505T120000
DTSTAMP:20260423T040045
CREATED:20250926T025306Z
LAST-MODIFIED:20251205T195711Z
UID:10010824-1904209200-1904212800@victorylutheran.com
SUMMARY:Children's Church
DESCRIPTION:Children’s Church will start Sunday\, October 12 and new this year\, we will have Children’s Church available at both the 9:30 and 11:00 services!. Please remember the Children’s Ministry in your prayers.
URL:https://victorylutheran.com/event/childrens-church/2030-05-05/
CATEGORIES:Gather Time
ATTACH;FMTTYPE=image/jpeg:https://victorylutheran.com/wp-content/uploads/2025/09/Childrens-Church_Oct.jpg
END:VEVENT
BEGIN:VEVENT
DTSTART;TZID=America/Phoenix:20300512T110000
DTEND;TZID=America/Phoenix:20300512T120000
DTSTAMP:20260423T040045
CREATED:20250926T025306Z
LAST-MODIFIED:20251205T195711Z
UID:10010825-1904814000-1904817600@victorylutheran.com
SUMMARY:Children's Church
DESCRIPTION:Children’s Church will start Sunday\, October 12 and new this year\, we will have Children’s Church available at both the 9:30 and 11:00 services!. Please remember the Children’s Ministry in your prayers.
URL:https://victorylutheran.com/event/childrens-church/2030-05-12/
CATEGORIES:Gather Time
ATTACH;FMTTYPE=image/jpeg:https://victorylutheran.com/wp-content/uploads/2025/09/Childrens-Church_Oct.jpg
END:VEVENT
BEGIN:VEVENT
DTSTART;TZID=America/Phoenix:20300519T110000
DTEND;TZID=America/Phoenix:20300519T120000
DTSTAMP:20260423T040045
CREATED:20250926T025306Z
LAST-MODIFIED:20251205T195711Z
UID:10010826-1905418800-1905422400@victorylutheran.com
SUMMARY:Children's Church
DESCRIPTION:Children’s Church will start Sunday\, October 12 and new this year\, we will have Children’s Church available at both the 9:30 and 11:00 services!. Please remember the Children’s Ministry in your prayers.
URL:https://victorylutheran.com/event/childrens-church/2030-05-19/
CATEGORIES:Gather Time
ATTACH;FMTTYPE=image/jpeg:https://victorylutheran.com/wp-content/uploads/2025/09/Childrens-Church_Oct.jpg
END:VEVENT
BEGIN:VEVENT
DTSTART;TZID=America/Phoenix:20300526T110000
DTEND;TZID=America/Phoenix:20300526T120000
DTSTAMP:20260423T040045
CREATED:20250926T025306Z
LAST-MODIFIED:20251205T195711Z
UID:10010827-1906023600-1906027200@victorylutheran.com
SUMMARY:Children's Church
DESCRIPTION:Children’s Church will start Sunday\, October 12 and new this year\, we will have Children’s Church available at both the 9:30 and 11:00 services!. Please remember the Children’s Ministry in your prayers.
URL:https://victorylutheran.com/event/childrens-church/2030-05-26/
CATEGORIES:Gather Time
ATTACH;FMTTYPE=image/jpeg:https://victorylutheran.com/wp-content/uploads/2025/09/Childrens-Church_Oct.jpg
END:VEVENT
BEGIN:VEVENT
DTSTART;TZID=America/Phoenix:20300602T110000
DTEND;TZID=America/Phoenix:20300602T120000
DTSTAMP:20260423T040045
CREATED:20250926T025306Z
LAST-MODIFIED:20251205T195711Z
UID:10010828-1906628400-1906632000@victorylutheran.com
SUMMARY:Children's Church
DESCRIPTION:Children’s Church will start Sunday\, October 12 and new this year\, we will have Children’s Church available at both the 9:30 and 11:00 services!. Please remember the Children’s Ministry in your prayers.
URL:https://victorylutheran.com/event/childrens-church/2030-06-02/
CATEGORIES:Gather Time
ATTACH;FMTTYPE=image/jpeg:https://victorylutheran.com/wp-content/uploads/2025/09/Childrens-Church_Oct.jpg
END:VEVENT
END:VCALENDAR