BEGIN:VCALENDAR
VERSION:2.0
PRODID:-//Victory Lutheran Church - ECPv6.15.11//NONSGML v1.0//EN
CALSCALE:GREGORIAN
METHOD:PUBLISH
X-ORIGINAL-URL:https://victorylutheran.com
X-WR-CALDESC:Events for Victory Lutheran Church
REFRESH-INTERVAL;VALUE=DURATION:PT1H
X-Robots-Tag:noindex
X-PUBLISHED-TTL:PT1H
BEGIN:VTIMEZONE
TZID:America/Phoenix
BEGIN:STANDARD
TZOFFSETFROM:-0700
TZOFFSETTO:-0700
TZNAME:MST
DTSTART:20290101T000000
END:STANDARD
END:VTIMEZONE
BEGIN:VEVENT
DTSTART;TZID=America/Phoenix:20301013T110000
DTEND;TZID=America/Phoenix:20301013T120000
DTSTAMP:20260423T103701
CREATED:20250926T025306Z
LAST-MODIFIED:20251205T195711Z
UID:10010847-1918119600-1918123200@victorylutheran.com
SUMMARY:Children's Church
DESCRIPTION:Children’s Church will start Sunday\, October 12 and new this year\, we will have Children’s Church available at both the 9:30 and 11:00 services!. Please remember the Children’s Ministry in your prayers.
URL:https://victorylutheran.com/event/childrens-church/2030-10-13/
CATEGORIES:Gather Time
ATTACH;FMTTYPE=image/jpeg:https://victorylutheran.com/wp-content/uploads/2025/09/Childrens-Church_Oct.jpg
END:VEVENT
BEGIN:VEVENT
DTSTART;TZID=America/Phoenix:20301020T110000
DTEND;TZID=America/Phoenix:20301020T120000
DTSTAMP:20260423T103701
CREATED:20250926T025306Z
LAST-MODIFIED:20251205T195711Z
UID:10010848-1918724400-1918728000@victorylutheran.com
SUMMARY:Children's Church
DESCRIPTION:Children’s Church will start Sunday\, October 12 and new this year\, we will have Children’s Church available at both the 9:30 and 11:00 services!. Please remember the Children’s Ministry in your prayers.
URL:https://victorylutheran.com/event/childrens-church/2030-10-20/
CATEGORIES:Gather Time
ATTACH;FMTTYPE=image/jpeg:https://victorylutheran.com/wp-content/uploads/2025/09/Childrens-Church_Oct.jpg
END:VEVENT
BEGIN:VEVENT
DTSTART;TZID=America/Phoenix:20301027T110000
DTEND;TZID=America/Phoenix:20301027T120000
DTSTAMP:20260423T103701
CREATED:20250926T025306Z
LAST-MODIFIED:20251205T195711Z
UID:10010849-1919329200-1919332800@victorylutheran.com
SUMMARY:Children's Church
DESCRIPTION:Children’s Church will start Sunday\, October 12 and new this year\, we will have Children’s Church available at both the 9:30 and 11:00 services!. Please remember the Children’s Ministry in your prayers.
URL:https://victorylutheran.com/event/childrens-church/2030-10-27/
CATEGORIES:Gather Time
ATTACH;FMTTYPE=image/jpeg:https://victorylutheran.com/wp-content/uploads/2025/09/Childrens-Church_Oct.jpg
END:VEVENT
BEGIN:VEVENT
DTSTART;TZID=America/Phoenix:20301103T110000
DTEND;TZID=America/Phoenix:20301103T120000
DTSTAMP:20260423T103701
CREATED:20250926T025306Z
LAST-MODIFIED:20251205T195711Z
UID:10010850-1919934000-1919937600@victorylutheran.com
SUMMARY:Children's Church
DESCRIPTION:Children’s Church will start Sunday\, October 12 and new this year\, we will have Children’s Church available at both the 9:30 and 11:00 services!. Please remember the Children’s Ministry in your prayers.
URL:https://victorylutheran.com/event/childrens-church/2030-11-03/
CATEGORIES:Gather Time
ATTACH;FMTTYPE=image/jpeg:https://victorylutheran.com/wp-content/uploads/2025/09/Childrens-Church_Oct.jpg
END:VEVENT
BEGIN:VEVENT
DTSTART;TZID=America/Phoenix:20301110T110000
DTEND;TZID=America/Phoenix:20301110T120000
DTSTAMP:20260423T103701
CREATED:20250926T025306Z
LAST-MODIFIED:20251205T195711Z
UID:10010851-1920538800-1920542400@victorylutheran.com
SUMMARY:Children's Church
DESCRIPTION:Children’s Church will start Sunday\, October 12 and new this year\, we will have Children’s Church available at both the 9:30 and 11:00 services!. Please remember the Children’s Ministry in your prayers.
URL:https://victorylutheran.com/event/childrens-church/2030-11-10/
CATEGORIES:Gather Time
ATTACH;FMTTYPE=image/jpeg:https://victorylutheran.com/wp-content/uploads/2025/09/Childrens-Church_Oct.jpg
END:VEVENT
BEGIN:VEVENT
DTSTART;TZID=America/Phoenix:20301117T110000
DTEND;TZID=America/Phoenix:20301117T120000
DTSTAMP:20260423T103701
CREATED:20250926T025306Z
LAST-MODIFIED:20251205T195711Z
UID:10010852-1921143600-1921147200@victorylutheran.com
SUMMARY:Children's Church
DESCRIPTION:Children’s Church will start Sunday\, October 12 and new this year\, we will have Children’s Church available at both the 9:30 and 11:00 services!. Please remember the Children’s Ministry in your prayers.
URL:https://victorylutheran.com/event/childrens-church/2030-11-17/
CATEGORIES:Gather Time
ATTACH;FMTTYPE=image/jpeg:https://victorylutheran.com/wp-content/uploads/2025/09/Childrens-Church_Oct.jpg
END:VEVENT
BEGIN:VEVENT
DTSTART;TZID=America/Phoenix:20301124T110000
DTEND;TZID=America/Phoenix:20301124T120000
DTSTAMP:20260423T103701
CREATED:20250926T025306Z
LAST-MODIFIED:20251205T195711Z
UID:10010853-1921748400-1921752000@victorylutheran.com
SUMMARY:Children's Church
DESCRIPTION:Children’s Church will start Sunday\, October 12 and new this year\, we will have Children’s Church available at both the 9:30 and 11:00 services!. Please remember the Children’s Ministry in your prayers.
URL:https://victorylutheran.com/event/childrens-church/2030-11-24/
CATEGORIES:Gather Time
ATTACH;FMTTYPE=image/jpeg:https://victorylutheran.com/wp-content/uploads/2025/09/Childrens-Church_Oct.jpg
END:VEVENT
BEGIN:VEVENT
DTSTART;TZID=America/Phoenix:20301201T110000
DTEND;TZID=America/Phoenix:20301201T120000
DTSTAMP:20260423T103701
CREATED:20250926T025306Z
LAST-MODIFIED:20251205T195711Z
UID:10010854-1922353200-1922356800@victorylutheran.com
SUMMARY:Children's Church
DESCRIPTION:Children’s Church will start Sunday\, October 12 and new this year\, we will have Children’s Church available at both the 9:30 and 11:00 services!. Please remember the Children’s Ministry in your prayers.
URL:https://victorylutheran.com/event/childrens-church/2030-12-01/
CATEGORIES:Gather Time
ATTACH;FMTTYPE=image/jpeg:https://victorylutheran.com/wp-content/uploads/2025/09/Childrens-Church_Oct.jpg
END:VEVENT
END:VCALENDAR