BEGIN:VCALENDAR
VERSION:2.0
PRODID:-//Victory Lutheran Church - ECPv6.15.11//NONSGML v1.0//EN
CALSCALE:GREGORIAN
METHOD:PUBLISH
X-ORIGINAL-URL:https://victorylutheran.com
X-WR-CALDESC:Events for Victory Lutheran Church
REFRESH-INTERVAL;VALUE=DURATION:PT1H
X-Robots-Tag:noindex
X-PUBLISHED-TTL:PT1H
BEGIN:VTIMEZONE
TZID:America/Phoenix
BEGIN:STANDARD
TZOFFSETFROM:-0700
TZOFFSETTO:-0700
TZNAME:MST
DTSTART:20260101T000000
END:STANDARD
END:VTIMEZONE
BEGIN:VEVENT
DTSTART;TZID=America/Phoenix:20270227T160000
DTEND;TZID=America/Phoenix:20270227T170000
DTSTAMP:20260420T151709
CREATED:20230728T231824Z
LAST-MODIFIED:20230730T162125Z
UID:10003149-1803744000-1803747600@victorylutheran.com
SUMMARY:4pm Worship
DESCRIPTION:
URL:https://victorylutheran.com/event/4pm-worship-2/2027-02-27/
CATEGORIES:Gather Time
ATTACH;FMTTYPE=image/jpeg:https://victorylutheran.com/wp-content/uploads/2023/07/Drone-Inside-Church-Frame-scaled.jpg
END:VEVENT
BEGIN:VEVENT
DTSTART;TZID=America/Phoenix:20270228T093000
DTEND;TZID=America/Phoenix:20270228T103000
DTSTAMP:20260420T151709
CREATED:20230728T231856Z
LAST-MODIFIED:20230730T162603Z
UID:10002884-1803807000-1803810600@victorylutheran.com
SUMMARY:9:30am Worship
DESCRIPTION:
URL:https://victorylutheran.com/event/930am-worship-2/2027-02-28/
CATEGORIES:Gather Time
ATTACH;FMTTYPE=image/jpeg:https://victorylutheran.com/wp-content/uploads/2023/07/Inside-Sanctuary.jpg
END:VEVENT
BEGIN:VEVENT
DTSTART;TZID=America/Phoenix:20270228T110000
DTEND;TZID=America/Phoenix:20270228T120000
DTSTAMP:20260420T151709
CREATED:20240306T000109Z
LAST-MODIFIED:20240306T000348Z
UID:10006028-1803812400-1803816000@victorylutheran.com
SUMMARY:Contemporary Worship
DESCRIPTION:Launching New  \n\n\n\nCONTEMPORARY WORSHIP SERVICE @ 11:00AMBeginning April 7th\, Victory Lutheran will introduce a Contemporary Worship Service at 11:00am on Sunday mornings. Following Easter\, the 11:00am service will shift from traditional to contemporary music\, led by a praise team under the guidance of Jackie Jewel. \n\n\n\nThis new service has been a long-requested and carefully planned endeavor. While contemporary worship has been a part of Victory for over twenty years\, it hasn’t been present at the Mesa campus for quite some time. \n\n\n\nIt’s important to note that traditional worship remains the cornerstone of Victory’s worship experience. This is our primary focus. We’re not aiming to “blend” traditional and contemporary styles. Our Saturday service at 4:00pm and Sunday services at 8:00am and 9:30am will continue to uphold traditional styles with excellence. The 11:00am Sunday service will adopt a contemporary style\, also delivered with excellence.
URL:https://victorylutheran.com/event/contemporary-worship/2027-02-28/
CATEGORIES:Gather Time
ATTACH;FMTTYPE=image/jpeg:https://victorylutheran.com/wp-content/uploads/2024/03/Contemporary-Countdown-Next-Sunday.jpeg
END:VEVENT
BEGIN:VEVENT
DTSTART;TZID=America/Phoenix:20270228T110000
DTEND;TZID=America/Phoenix:20270228T120000
DTSTAMP:20260420T151709
CREATED:20250926T025306Z
LAST-MODIFIED:20251205T195711Z
UID:10010658-1803812400-1803816000@victorylutheran.com
SUMMARY:Children's Church
DESCRIPTION:Children’s Church will start Sunday\, October 12 and new this year\, we will have Children’s Church available at both the 9:30 and 11:00 services!. Please remember the Children’s Ministry in your prayers.
URL:https://victorylutheran.com/event/childrens-church/2027-02-28/
CATEGORIES:Gather Time
ATTACH;FMTTYPE=image/jpeg:https://victorylutheran.com/wp-content/uploads/2025/09/Childrens-Church_Oct.jpg
END:VEVENT
BEGIN:VEVENT
DTSTART;TZID=America/Phoenix:20270306T160000
DTEND;TZID=America/Phoenix:20270306T170000
DTSTAMP:20260420T151709
CREATED:20230728T231824Z
LAST-MODIFIED:20230730T162125Z
UID:10003150-1804348800-1804352400@victorylutheran.com
SUMMARY:4pm Worship
DESCRIPTION:
URL:https://victorylutheran.com/event/4pm-worship-2/2027-03-06/
CATEGORIES:Gather Time
ATTACH;FMTTYPE=image/jpeg:https://victorylutheran.com/wp-content/uploads/2023/07/Drone-Inside-Church-Frame-scaled.jpg
END:VEVENT
BEGIN:VEVENT
DTSTART;TZID=America/Phoenix:20270307T093000
DTEND;TZID=America/Phoenix:20270307T103000
DTSTAMP:20260420T151709
CREATED:20230728T231856Z
LAST-MODIFIED:20230730T162603Z
UID:10002885-1804411800-1804415400@victorylutheran.com
SUMMARY:9:30am Worship
DESCRIPTION:
URL:https://victorylutheran.com/event/930am-worship-2/2027-03-07/
CATEGORIES:Gather Time
ATTACH;FMTTYPE=image/jpeg:https://victorylutheran.com/wp-content/uploads/2023/07/Inside-Sanctuary.jpg
END:VEVENT
BEGIN:VEVENT
DTSTART;TZID=America/Phoenix:20270307T110000
DTEND;TZID=America/Phoenix:20270307T120000
DTSTAMP:20260420T151709
CREATED:20240306T000109Z
LAST-MODIFIED:20240306T000348Z
UID:10006029-1804417200-1804420800@victorylutheran.com
SUMMARY:Contemporary Worship
DESCRIPTION:Launching New  \n\n\n\nCONTEMPORARY WORSHIP SERVICE @ 11:00AMBeginning April 7th\, Victory Lutheran will introduce a Contemporary Worship Service at 11:00am on Sunday mornings. Following Easter\, the 11:00am service will shift from traditional to contemporary music\, led by a praise team under the guidance of Jackie Jewel. \n\n\n\nThis new service has been a long-requested and carefully planned endeavor. While contemporary worship has been a part of Victory for over twenty years\, it hasn’t been present at the Mesa campus for quite some time. \n\n\n\nIt’s important to note that traditional worship remains the cornerstone of Victory’s worship experience. This is our primary focus. We’re not aiming to “blend” traditional and contemporary styles. Our Saturday service at 4:00pm and Sunday services at 8:00am and 9:30am will continue to uphold traditional styles with excellence. The 11:00am Sunday service will adopt a contemporary style\, also delivered with excellence.
URL:https://victorylutheran.com/event/contemporary-worship/2027-03-07/
CATEGORIES:Gather Time
ATTACH;FMTTYPE=image/jpeg:https://victorylutheran.com/wp-content/uploads/2024/03/Contemporary-Countdown-Next-Sunday.jpeg
END:VEVENT
BEGIN:VEVENT
DTSTART;TZID=America/Phoenix:20270307T110000
DTEND;TZID=America/Phoenix:20270307T120000
DTSTAMP:20260420T151710
CREATED:20250926T025306Z
LAST-MODIFIED:20251205T195711Z
UID:10010659-1804417200-1804420800@victorylutheran.com
SUMMARY:Children's Church
DESCRIPTION:Children’s Church will start Sunday\, October 12 and new this year\, we will have Children’s Church available at both the 9:30 and 11:00 services!. Please remember the Children’s Ministry in your prayers.
URL:https://victorylutheran.com/event/childrens-church/2027-03-07/
CATEGORIES:Gather Time
ATTACH;FMTTYPE=image/jpeg:https://victorylutheran.com/wp-content/uploads/2025/09/Childrens-Church_Oct.jpg
END:VEVENT
BEGIN:VEVENT
DTSTART;TZID=America/Phoenix:20270313T160000
DTEND;TZID=America/Phoenix:20270313T170000
DTSTAMP:20260420T151710
CREATED:20230728T231824Z
LAST-MODIFIED:20230730T162125Z
UID:10003151-1804953600-1804957200@victorylutheran.com
SUMMARY:4pm Worship
DESCRIPTION:
URL:https://victorylutheran.com/event/4pm-worship-2/2027-03-13/
CATEGORIES:Gather Time
ATTACH;FMTTYPE=image/jpeg:https://victorylutheran.com/wp-content/uploads/2023/07/Drone-Inside-Church-Frame-scaled.jpg
END:VEVENT
BEGIN:VEVENT
DTSTART;TZID=America/Phoenix:20270314T093000
DTEND;TZID=America/Phoenix:20270314T103000
DTSTAMP:20260420T151710
CREATED:20230728T231856Z
LAST-MODIFIED:20230730T162603Z
UID:10002886-1805016600-1805020200@victorylutheran.com
SUMMARY:9:30am Worship
DESCRIPTION:
URL:https://victorylutheran.com/event/930am-worship-2/2027-03-14/
CATEGORIES:Gather Time
ATTACH;FMTTYPE=image/jpeg:https://victorylutheran.com/wp-content/uploads/2023/07/Inside-Sanctuary.jpg
END:VEVENT
BEGIN:VEVENT
DTSTART;TZID=America/Phoenix:20270314T110000
DTEND;TZID=America/Phoenix:20270314T120000
DTSTAMP:20260420T151710
CREATED:20240306T000109Z
LAST-MODIFIED:20240306T000348Z
UID:10006030-1805022000-1805025600@victorylutheran.com
SUMMARY:Contemporary Worship
DESCRIPTION:Launching New  \n\n\n\nCONTEMPORARY WORSHIP SERVICE @ 11:00AMBeginning April 7th\, Victory Lutheran will introduce a Contemporary Worship Service at 11:00am on Sunday mornings. Following Easter\, the 11:00am service will shift from traditional to contemporary music\, led by a praise team under the guidance of Jackie Jewel. \n\n\n\nThis new service has been a long-requested and carefully planned endeavor. While contemporary worship has been a part of Victory for over twenty years\, it hasn’t been present at the Mesa campus for quite some time. \n\n\n\nIt’s important to note that traditional worship remains the cornerstone of Victory’s worship experience. This is our primary focus. We’re not aiming to “blend” traditional and contemporary styles. Our Saturday service at 4:00pm and Sunday services at 8:00am and 9:30am will continue to uphold traditional styles with excellence. The 11:00am Sunday service will adopt a contemporary style\, also delivered with excellence.
URL:https://victorylutheran.com/event/contemporary-worship/2027-03-14/
CATEGORIES:Gather Time
ATTACH;FMTTYPE=image/jpeg:https://victorylutheran.com/wp-content/uploads/2024/03/Contemporary-Countdown-Next-Sunday.jpeg
END:VEVENT
BEGIN:VEVENT
DTSTART;TZID=America/Phoenix:20270314T110000
DTEND;TZID=America/Phoenix:20270314T120000
DTSTAMP:20260420T151710
CREATED:20250926T025306Z
LAST-MODIFIED:20251205T195711Z
UID:10010660-1805022000-1805025600@victorylutheran.com
SUMMARY:Children's Church
DESCRIPTION:Children’s Church will start Sunday\, October 12 and new this year\, we will have Children’s Church available at both the 9:30 and 11:00 services!. Please remember the Children’s Ministry in your prayers.
URL:https://victorylutheran.com/event/childrens-church/2027-03-14/
CATEGORIES:Gather Time
ATTACH;FMTTYPE=image/jpeg:https://victorylutheran.com/wp-content/uploads/2025/09/Childrens-Church_Oct.jpg
END:VEVENT
BEGIN:VEVENT
DTSTART;TZID=America/Phoenix:20270320T160000
DTEND;TZID=America/Phoenix:20270320T170000
DTSTAMP:20260420T151710
CREATED:20230728T231824Z
LAST-MODIFIED:20230730T162125Z
UID:10003152-1805558400-1805562000@victorylutheran.com
SUMMARY:4pm Worship
DESCRIPTION:
URL:https://victorylutheran.com/event/4pm-worship-2/2027-03-20/
CATEGORIES:Gather Time
ATTACH;FMTTYPE=image/jpeg:https://victorylutheran.com/wp-content/uploads/2023/07/Drone-Inside-Church-Frame-scaled.jpg
END:VEVENT
BEGIN:VEVENT
DTSTART;TZID=America/Phoenix:20270321T093000
DTEND;TZID=America/Phoenix:20270321T103000
DTSTAMP:20260420T151710
CREATED:20230728T231856Z
LAST-MODIFIED:20230730T162603Z
UID:10002887-1805621400-1805625000@victorylutheran.com
SUMMARY:9:30am Worship
DESCRIPTION:
URL:https://victorylutheran.com/event/930am-worship-2/2027-03-21/
CATEGORIES:Gather Time
ATTACH;FMTTYPE=image/jpeg:https://victorylutheran.com/wp-content/uploads/2023/07/Inside-Sanctuary.jpg
END:VEVENT
BEGIN:VEVENT
DTSTART;TZID=America/Phoenix:20270321T110000
DTEND;TZID=America/Phoenix:20270321T120000
DTSTAMP:20260420T151710
CREATED:20240306T000109Z
LAST-MODIFIED:20240306T000348Z
UID:10006031-1805626800-1805630400@victorylutheran.com
SUMMARY:Contemporary Worship
DESCRIPTION:Launching New  \n\n\n\nCONTEMPORARY WORSHIP SERVICE @ 11:00AMBeginning April 7th\, Victory Lutheran will introduce a Contemporary Worship Service at 11:00am on Sunday mornings. Following Easter\, the 11:00am service will shift from traditional to contemporary music\, led by a praise team under the guidance of Jackie Jewel. \n\n\n\nThis new service has been a long-requested and carefully planned endeavor. While contemporary worship has been a part of Victory for over twenty years\, it hasn’t been present at the Mesa campus for quite some time. \n\n\n\nIt’s important to note that traditional worship remains the cornerstone of Victory’s worship experience. This is our primary focus. We’re not aiming to “blend” traditional and contemporary styles. Our Saturday service at 4:00pm and Sunday services at 8:00am and 9:30am will continue to uphold traditional styles with excellence. The 11:00am Sunday service will adopt a contemporary style\, also delivered with excellence.
URL:https://victorylutheran.com/event/contemporary-worship/2027-03-21/
CATEGORIES:Gather Time
ATTACH;FMTTYPE=image/jpeg:https://victorylutheran.com/wp-content/uploads/2024/03/Contemporary-Countdown-Next-Sunday.jpeg
END:VEVENT
BEGIN:VEVENT
DTSTART;TZID=America/Phoenix:20270321T110000
DTEND;TZID=America/Phoenix:20270321T120000
DTSTAMP:20260420T151710
CREATED:20250926T025306Z
LAST-MODIFIED:20251205T195711Z
UID:10010661-1805626800-1805630400@victorylutheran.com
SUMMARY:Children's Church
DESCRIPTION:Children’s Church will start Sunday\, October 12 and new this year\, we will have Children’s Church available at both the 9:30 and 11:00 services!. Please remember the Children’s Ministry in your prayers.
URL:https://victorylutheran.com/event/childrens-church/2027-03-21/
CATEGORIES:Gather Time
ATTACH;FMTTYPE=image/jpeg:https://victorylutheran.com/wp-content/uploads/2025/09/Childrens-Church_Oct.jpg
END:VEVENT
BEGIN:VEVENT
DTSTART;TZID=America/Phoenix:20270327T160000
DTEND;TZID=America/Phoenix:20270327T170000
DTSTAMP:20260420T151710
CREATED:20230728T231824Z
LAST-MODIFIED:20230730T162125Z
UID:10003153-1806163200-1806166800@victorylutheran.com
SUMMARY:4pm Worship
DESCRIPTION:
URL:https://victorylutheran.com/event/4pm-worship-2/2027-03-27/
CATEGORIES:Gather Time
ATTACH;FMTTYPE=image/jpeg:https://victorylutheran.com/wp-content/uploads/2023/07/Drone-Inside-Church-Frame-scaled.jpg
END:VEVENT
BEGIN:VEVENT
DTSTART;TZID=America/Phoenix:20270328T093000
DTEND;TZID=America/Phoenix:20270328T103000
DTSTAMP:20260420T151710
CREATED:20230728T231856Z
LAST-MODIFIED:20230730T162603Z
UID:10002888-1806226200-1806229800@victorylutheran.com
SUMMARY:9:30am Worship
DESCRIPTION:
URL:https://victorylutheran.com/event/930am-worship-2/2027-03-28/
CATEGORIES:Gather Time
ATTACH;FMTTYPE=image/jpeg:https://victorylutheran.com/wp-content/uploads/2023/07/Inside-Sanctuary.jpg
END:VEVENT
BEGIN:VEVENT
DTSTART;TZID=America/Phoenix:20270328T110000
DTEND;TZID=America/Phoenix:20270328T120000
DTSTAMP:20260420T151710
CREATED:20240306T000109Z
LAST-MODIFIED:20240306T000348Z
UID:10006032-1806231600-1806235200@victorylutheran.com
SUMMARY:Contemporary Worship
DESCRIPTION:Launching New  \n\n\n\nCONTEMPORARY WORSHIP SERVICE @ 11:00AMBeginning April 7th\, Victory Lutheran will introduce a Contemporary Worship Service at 11:00am on Sunday mornings. Following Easter\, the 11:00am service will shift from traditional to contemporary music\, led by a praise team under the guidance of Jackie Jewel. \n\n\n\nThis new service has been a long-requested and carefully planned endeavor. While contemporary worship has been a part of Victory for over twenty years\, it hasn’t been present at the Mesa campus for quite some time. \n\n\n\nIt’s important to note that traditional worship remains the cornerstone of Victory’s worship experience. This is our primary focus. We’re not aiming to “blend” traditional and contemporary styles. Our Saturday service at 4:00pm and Sunday services at 8:00am and 9:30am will continue to uphold traditional styles with excellence. The 11:00am Sunday service will adopt a contemporary style\, also delivered with excellence.
URL:https://victorylutheran.com/event/contemporary-worship/2027-03-28/
CATEGORIES:Gather Time
ATTACH;FMTTYPE=image/jpeg:https://victorylutheran.com/wp-content/uploads/2024/03/Contemporary-Countdown-Next-Sunday.jpeg
END:VEVENT
BEGIN:VEVENT
DTSTART;TZID=America/Phoenix:20270328T110000
DTEND;TZID=America/Phoenix:20270328T120000
DTSTAMP:20260420T151710
CREATED:20250926T025306Z
LAST-MODIFIED:20251205T195711Z
UID:10010662-1806231600-1806235200@victorylutheran.com
SUMMARY:Children's Church
DESCRIPTION:Children’s Church will start Sunday\, October 12 and new this year\, we will have Children’s Church available at both the 9:30 and 11:00 services!. Please remember the Children’s Ministry in your prayers.
URL:https://victorylutheran.com/event/childrens-church/2027-03-28/
CATEGORIES:Gather Time
ATTACH;FMTTYPE=image/jpeg:https://victorylutheran.com/wp-content/uploads/2025/09/Childrens-Church_Oct.jpg
END:VEVENT
BEGIN:VEVENT
DTSTART;TZID=America/Phoenix:20270403T160000
DTEND;TZID=America/Phoenix:20270403T170000
DTSTAMP:20260420T151710
CREATED:20230728T231824Z
LAST-MODIFIED:20230730T162125Z
UID:10003154-1806768000-1806771600@victorylutheran.com
SUMMARY:4pm Worship
DESCRIPTION:
URL:https://victorylutheran.com/event/4pm-worship-2/2027-04-03/
CATEGORIES:Gather Time
ATTACH;FMTTYPE=image/jpeg:https://victorylutheran.com/wp-content/uploads/2023/07/Drone-Inside-Church-Frame-scaled.jpg
END:VEVENT
BEGIN:VEVENT
DTSTART;TZID=America/Phoenix:20270404T093000
DTEND;TZID=America/Phoenix:20270404T103000
DTSTAMP:20260420T151710
CREATED:20230728T231856Z
LAST-MODIFIED:20230730T162603Z
UID:10002889-1806831000-1806834600@victorylutheran.com
SUMMARY:9:30am Worship
DESCRIPTION:
URL:https://victorylutheran.com/event/930am-worship-2/2027-04-04/
CATEGORIES:Gather Time
ATTACH;FMTTYPE=image/jpeg:https://victorylutheran.com/wp-content/uploads/2023/07/Inside-Sanctuary.jpg
END:VEVENT
BEGIN:VEVENT
DTSTART;TZID=America/Phoenix:20270404T110000
DTEND;TZID=America/Phoenix:20270404T120000
DTSTAMP:20260420T151710
CREATED:20240306T000109Z
LAST-MODIFIED:20240306T000348Z
UID:10006033-1806836400-1806840000@victorylutheran.com
SUMMARY:Contemporary Worship
DESCRIPTION:Launching New  \n\n\n\nCONTEMPORARY WORSHIP SERVICE @ 11:00AMBeginning April 7th\, Victory Lutheran will introduce a Contemporary Worship Service at 11:00am on Sunday mornings. Following Easter\, the 11:00am service will shift from traditional to contemporary music\, led by a praise team under the guidance of Jackie Jewel. \n\n\n\nThis new service has been a long-requested and carefully planned endeavor. While contemporary worship has been a part of Victory for over twenty years\, it hasn’t been present at the Mesa campus for quite some time. \n\n\n\nIt’s important to note that traditional worship remains the cornerstone of Victory’s worship experience. This is our primary focus. We’re not aiming to “blend” traditional and contemporary styles. Our Saturday service at 4:00pm and Sunday services at 8:00am and 9:30am will continue to uphold traditional styles with excellence. The 11:00am Sunday service will adopt a contemporary style\, also delivered with excellence.
URL:https://victorylutheran.com/event/contemporary-worship/2027-04-04/
CATEGORIES:Gather Time
ATTACH;FMTTYPE=image/jpeg:https://victorylutheran.com/wp-content/uploads/2024/03/Contemporary-Countdown-Next-Sunday.jpeg
END:VEVENT
BEGIN:VEVENT
DTSTART;TZID=America/Phoenix:20270404T110000
DTEND;TZID=America/Phoenix:20270404T120000
DTSTAMP:20260420T151710
CREATED:20250926T025306Z
LAST-MODIFIED:20251205T195711Z
UID:10010663-1806836400-1806840000@victorylutheran.com
SUMMARY:Children's Church
DESCRIPTION:Children’s Church will start Sunday\, October 12 and new this year\, we will have Children’s Church available at both the 9:30 and 11:00 services!. Please remember the Children’s Ministry in your prayers.
URL:https://victorylutheran.com/event/childrens-church/2027-04-04/
CATEGORIES:Gather Time
ATTACH;FMTTYPE=image/jpeg:https://victorylutheran.com/wp-content/uploads/2025/09/Childrens-Church_Oct.jpg
END:VEVENT
BEGIN:VEVENT
DTSTART;TZID=America/Phoenix:20270410T160000
DTEND;TZID=America/Phoenix:20270410T170000
DTSTAMP:20260420T151710
CREATED:20230728T231824Z
LAST-MODIFIED:20230730T162125Z
UID:10003155-1807372800-1807376400@victorylutheran.com
SUMMARY:4pm Worship
DESCRIPTION:
URL:https://victorylutheran.com/event/4pm-worship-2/2027-04-10/
CATEGORIES:Gather Time
ATTACH;FMTTYPE=image/jpeg:https://victorylutheran.com/wp-content/uploads/2023/07/Drone-Inside-Church-Frame-scaled.jpg
END:VEVENT
BEGIN:VEVENT
DTSTART;TZID=America/Phoenix:20270411T093000
DTEND;TZID=America/Phoenix:20270411T103000
DTSTAMP:20260420T151710
CREATED:20230728T231856Z
LAST-MODIFIED:20230730T162603Z
UID:10002890-1807435800-1807439400@victorylutheran.com
SUMMARY:9:30am Worship
DESCRIPTION:
URL:https://victorylutheran.com/event/930am-worship-2/2027-04-11/
CATEGORIES:Gather Time
ATTACH;FMTTYPE=image/jpeg:https://victorylutheran.com/wp-content/uploads/2023/07/Inside-Sanctuary.jpg
END:VEVENT
BEGIN:VEVENT
DTSTART;TZID=America/Phoenix:20270411T110000
DTEND;TZID=America/Phoenix:20270411T120000
DTSTAMP:20260420T151710
CREATED:20240306T000109Z
LAST-MODIFIED:20240306T000348Z
UID:10006034-1807441200-1807444800@victorylutheran.com
SUMMARY:Contemporary Worship
DESCRIPTION:Launching New  \n\n\n\nCONTEMPORARY WORSHIP SERVICE @ 11:00AMBeginning April 7th\, Victory Lutheran will introduce a Contemporary Worship Service at 11:00am on Sunday mornings. Following Easter\, the 11:00am service will shift from traditional to contemporary music\, led by a praise team under the guidance of Jackie Jewel. \n\n\n\nThis new service has been a long-requested and carefully planned endeavor. While contemporary worship has been a part of Victory for over twenty years\, it hasn’t been present at the Mesa campus for quite some time. \n\n\n\nIt’s important to note that traditional worship remains the cornerstone of Victory’s worship experience. This is our primary focus. We’re not aiming to “blend” traditional and contemporary styles. Our Saturday service at 4:00pm and Sunday services at 8:00am and 9:30am will continue to uphold traditional styles with excellence. The 11:00am Sunday service will adopt a contemporary style\, also delivered with excellence.
URL:https://victorylutheran.com/event/contemporary-worship/2027-04-11/
CATEGORIES:Gather Time
ATTACH;FMTTYPE=image/jpeg:https://victorylutheran.com/wp-content/uploads/2024/03/Contemporary-Countdown-Next-Sunday.jpeg
END:VEVENT
BEGIN:VEVENT
DTSTART;TZID=America/Phoenix:20270411T110000
DTEND;TZID=America/Phoenix:20270411T120000
DTSTAMP:20260420T151710
CREATED:20250926T025306Z
LAST-MODIFIED:20251205T195711Z
UID:10010664-1807441200-1807444800@victorylutheran.com
SUMMARY:Children's Church
DESCRIPTION:Children’s Church will start Sunday\, October 12 and new this year\, we will have Children’s Church available at both the 9:30 and 11:00 services!. Please remember the Children’s Ministry in your prayers.
URL:https://victorylutheran.com/event/childrens-church/2027-04-11/
CATEGORIES:Gather Time
ATTACH;FMTTYPE=image/jpeg:https://victorylutheran.com/wp-content/uploads/2025/09/Childrens-Church_Oct.jpg
END:VEVENT
BEGIN:VEVENT
DTSTART;TZID=America/Phoenix:20270417T160000
DTEND;TZID=America/Phoenix:20270417T170000
DTSTAMP:20260420T151710
CREATED:20230728T231824Z
LAST-MODIFIED:20230730T162125Z
UID:10003156-1807977600-1807981200@victorylutheran.com
SUMMARY:4pm Worship
DESCRIPTION:
URL:https://victorylutheran.com/event/4pm-worship-2/2027-04-17/
CATEGORIES:Gather Time
ATTACH;FMTTYPE=image/jpeg:https://victorylutheran.com/wp-content/uploads/2023/07/Drone-Inside-Church-Frame-scaled.jpg
END:VEVENT
BEGIN:VEVENT
DTSTART;TZID=America/Phoenix:20270418T093000
DTEND;TZID=America/Phoenix:20270418T103000
DTSTAMP:20260420T151710
CREATED:20230728T231856Z
LAST-MODIFIED:20230730T162603Z
UID:10002891-1808040600-1808044200@victorylutheran.com
SUMMARY:9:30am Worship
DESCRIPTION:
URL:https://victorylutheran.com/event/930am-worship-2/2027-04-18/
CATEGORIES:Gather Time
ATTACH;FMTTYPE=image/jpeg:https://victorylutheran.com/wp-content/uploads/2023/07/Inside-Sanctuary.jpg
END:VEVENT
END:VCALENDAR