BEGIN:VCALENDAR
VERSION:2.0
PRODID:-//Victory Lutheran Church - ECPv6.15.11//NONSGML v1.0//EN
CALSCALE:GREGORIAN
METHOD:PUBLISH
X-ORIGINAL-URL:https://victorylutheran.com
X-WR-CALDESC:Events for Victory Lutheran Church
REFRESH-INTERVAL;VALUE=DURATION:PT1H
X-Robots-Tag:noindex
X-PUBLISHED-TTL:PT1H
BEGIN:VTIMEZONE
TZID:America/Phoenix
BEGIN:STANDARD
TZOFFSETFROM:-0700
TZOFFSETTO:-0700
TZNAME:MST
DTSTART:20240101T000000
END:STANDARD
END:VTIMEZONE
BEGIN:VEVENT
DTSTART;TZID=America/Phoenix:20250316T093000
DTEND;TZID=America/Phoenix:20250316T103000
DTSTAMP:20260423T030843
CREATED:20230728T231856Z
LAST-MODIFIED:20230730T162603Z
UID:10002782-1742117400-1742121000@victorylutheran.com
SUMMARY:9:30am Worship
DESCRIPTION:
URL:https://victorylutheran.com/event/930am-worship-2/2025-03-16/
CATEGORIES:Gather Time
ATTACH;FMTTYPE=image/jpeg:https://victorylutheran.com/wp-content/uploads/2023/07/Inside-Sanctuary.jpg
END:VEVENT
BEGIN:VEVENT
DTSTART;TZID=America/Phoenix:20250315T160000
DTEND;TZID=America/Phoenix:20250315T170000
DTSTAMP:20260423T030843
CREATED:20230728T231824Z
LAST-MODIFIED:20230730T162125Z
UID:10003047-1742054400-1742058000@victorylutheran.com
SUMMARY:4pm Worship
DESCRIPTION:
URL:https://victorylutheran.com/event/4pm-worship-2/2025-03-15/
CATEGORIES:Gather Time
ATTACH;FMTTYPE=image/jpeg:https://victorylutheran.com/wp-content/uploads/2023/07/Drone-Inside-Church-Frame-scaled.jpg
END:VEVENT
BEGIN:VEVENT
DTSTART;TZID=America/Phoenix:20250312T160000
DTEND;TZID=America/Phoenix:20250312T170000
DTSTAMP:20260423T030843
CREATED:20241107T014401Z
LAST-MODIFIED:20241111T181423Z
UID:10005761-1741795200-1741798800@victorylutheran.com
SUMMARY:Lenten Worship
DESCRIPTION:Lenten Worship at 4pm with Soup Supper to follow at 5pm.
URL:https://victorylutheran.com/event/lenten-worship-2/2025-03-12/
LOCATION:Victory Lutheran Church\, 5946 E. University Dr.\, Mesa\, AZ\, 85205\, United States
CATEGORIES:Gather Time
ATTACH;FMTTYPE=image/jpeg:https://victorylutheran.com/wp-content/uploads/2024/11/Lenten-Worship-2025.jpg
END:VEVENT
BEGIN:VEVENT
DTSTART;TZID=America/Phoenix:20250309T110000
DTEND;TZID=America/Phoenix:20250309T120000
DTSTAMP:20260423T030843
CREATED:20240306T000109Z
LAST-MODIFIED:20240306T000348Z
UID:10005925-1741518000-1741521600@victorylutheran.com
SUMMARY:Contemporary Worship
DESCRIPTION:Launching New  \n\n\n\nCONTEMPORARY WORSHIP SERVICE @ 11:00AMBeginning April 7th\, Victory Lutheran will introduce a Contemporary Worship Service at 11:00am on Sunday mornings. Following Easter\, the 11:00am service will shift from traditional to contemporary music\, led by a praise team under the guidance of Jackie Jewel. \n\n\n\nThis new service has been a long-requested and carefully planned endeavor. While contemporary worship has been a part of Victory for over twenty years\, it hasn’t been present at the Mesa campus for quite some time. \n\n\n\nIt’s important to note that traditional worship remains the cornerstone of Victory’s worship experience. This is our primary focus. We’re not aiming to “blend” traditional and contemporary styles. Our Saturday service at 4:00pm and Sunday services at 8:00am and 9:30am will continue to uphold traditional styles with excellence. The 11:00am Sunday service will adopt a contemporary style\, also delivered with excellence.
URL:https://victorylutheran.com/event/contemporary-worship/2025-03-09/
CATEGORIES:Gather Time
ATTACH;FMTTYPE=image/jpeg:https://victorylutheran.com/wp-content/uploads/2024/03/Contemporary-Countdown-Next-Sunday.jpeg
END:VEVENT
BEGIN:VEVENT
DTSTART;TZID=America/Phoenix:20250309T093000
DTEND;TZID=America/Phoenix:20250309T103000
DTSTAMP:20260423T030843
CREATED:20230728T231856Z
LAST-MODIFIED:20230730T162603Z
UID:10002781-1741512600-1741516200@victorylutheran.com
SUMMARY:9:30am Worship
DESCRIPTION:
URL:https://victorylutheran.com/event/930am-worship-2/2025-03-09/
CATEGORIES:Gather Time
ATTACH;FMTTYPE=image/jpeg:https://victorylutheran.com/wp-content/uploads/2023/07/Inside-Sanctuary.jpg
END:VEVENT
BEGIN:VEVENT
DTSTART;TZID=America/Phoenix:20250308T160000
DTEND;TZID=America/Phoenix:20250308T170000
DTSTAMP:20260423T030843
CREATED:20230728T231824Z
LAST-MODIFIED:20230730T162125Z
UID:10003046-1741449600-1741453200@victorylutheran.com
SUMMARY:4pm Worship
DESCRIPTION:
URL:https://victorylutheran.com/event/4pm-worship-2/2025-03-08/
CATEGORIES:Gather Time
ATTACH;FMTTYPE=image/jpeg:https://victorylutheran.com/wp-content/uploads/2023/07/Drone-Inside-Church-Frame-scaled.jpg
END:VEVENT
BEGIN:VEVENT
DTSTART;TZID=America/Phoenix:20250308T110000
DTEND;TZID=America/Phoenix:20250308T123000
DTSTAMP:20260423T030843
CREATED:20250214T215427Z
LAST-MODIFIED:20250214T215442Z
UID:10008390-1741431600-1741437000@victorylutheran.com
SUMMARY:Women's Ministry Luncheon
DESCRIPTION:Women’s Ministry Annual Spring LuncheonSaturday\, March 8\, 2025 @ 11:00amWe’ve got a great program again this year! Genesis Project is a community-focused\, volunteer-run\, non-profit serving the hungry and homeless. It takes a community of people to make Genesis Project run smoothly and our diverse network of supporters come together to make up Team Genesis! Whether you are sharing your time and talents here in the kitchen\, sharing your finances\, or are a prayer partner we are grateful to have you as part of the team! In our kitchen alone\, over 120 individuals volunteer to plan\, prepare and serve meals cooked from scratch in our full commercial kitchen. Genesis Project is supported and funded by community members\, civic groups\, and the faith community. \n\n\n\nCome learn more about what Genesis Project is doing!Tickets are $10\, catered meal and musical entertainment.Tickets on sale February 15-March 2\, 2025.
URL:https://victorylutheran.com/event/womens-ministry-luncheon/
CATEGORIES:Gather Time
ATTACH;FMTTYPE=image/png:https://victorylutheran.com/wp-content/uploads/2025/02/Screenshot-2025-02-12-at-5.58.40-PM.png
END:VEVENT
BEGIN:VEVENT
DTSTART;TZID=America/Phoenix:20250306T100000
DTEND;TZID=America/Phoenix:20250306T110000
DTSTAMP:20260423T030843
CREATED:20230728T212433Z
LAST-MODIFIED:20251010T180555Z
UID:10001219-1741255200-1741258800@victorylutheran.com
SUMMARY:Prayer & Praise Worship Service
DESCRIPTION:We meet the first Thursday of the month in the courtyard Chapel. This gathering provides an opportunity for our community to come together in worship\, prayer and gratitude.
URL:https://victorylutheran.com/event/prayer-praise-worship-service/2025-03-06/
CATEGORIES:Gather Time
ATTACH;FMTTYPE=image/jpeg:https://victorylutheran.com/wp-content/uploads/2023/07/Praise-Prayer_thunbnail-1.jpg
END:VEVENT
BEGIN:VEVENT
DTSTART;TZID=America/Phoenix:20250302T110000
DTEND;TZID=America/Phoenix:20250302T120000
DTSTAMP:20260423T030843
CREATED:20240306T000109Z
LAST-MODIFIED:20240306T000348Z
UID:10005924-1740913200-1740916800@victorylutheran.com
SUMMARY:Contemporary Worship
DESCRIPTION:Launching New  \n\n\n\nCONTEMPORARY WORSHIP SERVICE @ 11:00AMBeginning April 7th\, Victory Lutheran will introduce a Contemporary Worship Service at 11:00am on Sunday mornings. Following Easter\, the 11:00am service will shift from traditional to contemporary music\, led by a praise team under the guidance of Jackie Jewel. \n\n\n\nThis new service has been a long-requested and carefully planned endeavor. While contemporary worship has been a part of Victory for over twenty years\, it hasn’t been present at the Mesa campus for quite some time. \n\n\n\nIt’s important to note that traditional worship remains the cornerstone of Victory’s worship experience. This is our primary focus. We’re not aiming to “blend” traditional and contemporary styles. Our Saturday service at 4:00pm and Sunday services at 8:00am and 9:30am will continue to uphold traditional styles with excellence. The 11:00am Sunday service will adopt a contemporary style\, also delivered with excellence.
URL:https://victorylutheran.com/event/contemporary-worship/2025-03-02/
CATEGORIES:Gather Time
ATTACH;FMTTYPE=image/jpeg:https://victorylutheran.com/wp-content/uploads/2024/03/Contemporary-Countdown-Next-Sunday.jpeg
END:VEVENT
BEGIN:VEVENT
DTSTART;TZID=America/Phoenix:20250302T093000
DTEND;TZID=America/Phoenix:20250302T103000
DTSTAMP:20260423T030843
CREATED:20230728T231856Z
LAST-MODIFIED:20230730T162603Z
UID:10002780-1740907800-1740911400@victorylutheran.com
SUMMARY:9:30am Worship
DESCRIPTION:
URL:https://victorylutheran.com/event/930am-worship-2/2025-03-02/
CATEGORIES:Gather Time
ATTACH;FMTTYPE=image/jpeg:https://victorylutheran.com/wp-content/uploads/2023/07/Inside-Sanctuary.jpg
END:VEVENT
BEGIN:VEVENT
DTSTART;TZID=America/Phoenix:20250301T160000
DTEND;TZID=America/Phoenix:20250301T170000
DTSTAMP:20260423T030843
CREATED:20230728T231824Z
LAST-MODIFIED:20230730T162125Z
UID:10003045-1740844800-1740848400@victorylutheran.com
SUMMARY:4pm Worship
DESCRIPTION:
URL:https://victorylutheran.com/event/4pm-worship-2/2025-03-01/
CATEGORIES:Gather Time
ATTACH;FMTTYPE=image/jpeg:https://victorylutheran.com/wp-content/uploads/2023/07/Drone-Inside-Church-Frame-scaled.jpg
END:VEVENT
BEGIN:VEVENT
DTSTART;TZID=America/Phoenix:20250223T110000
DTEND;TZID=America/Phoenix:20250223T120000
DTSTAMP:20260423T030843
CREATED:20240306T000109Z
LAST-MODIFIED:20240306T000348Z
UID:10005923-1740308400-1740312000@victorylutheran.com
SUMMARY:Contemporary Worship
DESCRIPTION:Launching New  \n\n\n\nCONTEMPORARY WORSHIP SERVICE @ 11:00AMBeginning April 7th\, Victory Lutheran will introduce a Contemporary Worship Service at 11:00am on Sunday mornings. Following Easter\, the 11:00am service will shift from traditional to contemporary music\, led by a praise team under the guidance of Jackie Jewel. \n\n\n\nThis new service has been a long-requested and carefully planned endeavor. While contemporary worship has been a part of Victory for over twenty years\, it hasn’t been present at the Mesa campus for quite some time. \n\n\n\nIt’s important to note that traditional worship remains the cornerstone of Victory’s worship experience. This is our primary focus. We’re not aiming to “blend” traditional and contemporary styles. Our Saturday service at 4:00pm and Sunday services at 8:00am and 9:30am will continue to uphold traditional styles with excellence. The 11:00am Sunday service will adopt a contemporary style\, also delivered with excellence.
URL:https://victorylutheran.com/event/contemporary-worship/2025-02-23/
CATEGORIES:Gather Time
ATTACH;FMTTYPE=image/jpeg:https://victorylutheran.com/wp-content/uploads/2024/03/Contemporary-Countdown-Next-Sunday.jpeg
END:VEVENT
BEGIN:VEVENT
DTSTART;TZID=America/Phoenix:20250223T093000
DTEND;TZID=America/Phoenix:20250223T103000
DTSTAMP:20260423T030843
CREATED:20230728T231856Z
LAST-MODIFIED:20230730T162603Z
UID:10002779-1740303000-1740306600@victorylutheran.com
SUMMARY:9:30am Worship
DESCRIPTION:
URL:https://victorylutheran.com/event/930am-worship-2/2025-02-23/
CATEGORIES:Gather Time
ATTACH;FMTTYPE=image/jpeg:https://victorylutheran.com/wp-content/uploads/2023/07/Inside-Sanctuary.jpg
END:VEVENT
BEGIN:VEVENT
DTSTART;TZID=America/Phoenix:20250222T160000
DTEND;TZID=America/Phoenix:20250222T170000
DTSTAMP:20260423T030843
CREATED:20230728T231824Z
LAST-MODIFIED:20230730T162125Z
UID:10003044-1740240000-1740243600@victorylutheran.com
SUMMARY:4pm Worship
DESCRIPTION:
URL:https://victorylutheran.com/event/4pm-worship-2/2025-02-22/
CATEGORIES:Gather Time
ATTACH;FMTTYPE=image/jpeg:https://victorylutheran.com/wp-content/uploads/2023/07/Drone-Inside-Church-Frame-scaled.jpg
END:VEVENT
BEGIN:VEVENT
DTSTART;TZID=America/Phoenix:20250221T090000
DTEND;TZID=America/Phoenix:20250221T163000
DTSTAMP:20260423T030843
CREATED:20250101T234231Z
LAST-MODIFIED:20250101T234236Z
UID:10008377-1740128400-1740155400@victorylutheran.com
SUMMARY:Grandparenting Summit 2025
DESCRIPTION:If there’s ever a time to call “all hands on deck” in the discipleship of the next generations\, it’s now! \n\n\n\nWith honest reflection\, we might agree that “all hands” are not on deck. Church ministries do a lot to impact young people\, yes. Parents are primary influences\, of course. Yet a vast army of spiritual influencers remain largely unengaged: Grandparents. \n\n\n\nVictory Lutheran Church is a satellite host site for the 2025 Legacy Coalition Grandparenting Summit. We welcome you to join us and invite your friends to attend! \n\n\n\nThis year’s conference theme is For This Purpose. What purpose\, you ask? That faith would be perpetuated in our families. Nationally known speakers and gifted content experts will encourage grandparents to embrace that purpose for the rest of their lives. You may remember we studied this subject in the “Grandparenting Matters” class. This summit will refill our tanks and help lead us forward with more rewarding content and ideas for developing your relationship with your grandchildren.  \n\n\n\nThe summit day will feature seven gifted speakers leading us forward in understanding Grandparenting Matters! The day begins at 9:00am and ends at 4:30pm\, with breaks between speakers and lunch provided by the church with a free-will offering. Please register as soon as possible\, as there is a discount before January 31st. Click below to REGISTER! \n\n\n\nFor more information about the summit\, visit legacycoalition.com
URL:https://victorylutheran.com/event/grandparenting-summit-2025/
CATEGORIES:Gather Time
ATTACH;FMTTYPE=image/jpeg:https://victorylutheran.com/wp-content/uploads/2025/01/Front.jpg
END:VEVENT
BEGIN:VEVENT
DTSTART;TZID=America/Phoenix:20250216T110000
DTEND;TZID=America/Phoenix:20250216T120000
DTSTAMP:20260423T030843
CREATED:20240306T000109Z
LAST-MODIFIED:20240306T000348Z
UID:10005922-1739703600-1739707200@victorylutheran.com
SUMMARY:Contemporary Worship
DESCRIPTION:Launching New  \n\n\n\nCONTEMPORARY WORSHIP SERVICE @ 11:00AMBeginning April 7th\, Victory Lutheran will introduce a Contemporary Worship Service at 11:00am on Sunday mornings. Following Easter\, the 11:00am service will shift from traditional to contemporary music\, led by a praise team under the guidance of Jackie Jewel. \n\n\n\nThis new service has been a long-requested and carefully planned endeavor. While contemporary worship has been a part of Victory for over twenty years\, it hasn’t been present at the Mesa campus for quite some time. \n\n\n\nIt’s important to note that traditional worship remains the cornerstone of Victory’s worship experience. This is our primary focus. We’re not aiming to “blend” traditional and contemporary styles. Our Saturday service at 4:00pm and Sunday services at 8:00am and 9:30am will continue to uphold traditional styles with excellence. The 11:00am Sunday service will adopt a contemporary style\, also delivered with excellence.
URL:https://victorylutheran.com/event/contemporary-worship/2025-02-16/
CATEGORIES:Gather Time
ATTACH;FMTTYPE=image/jpeg:https://victorylutheran.com/wp-content/uploads/2024/03/Contemporary-Countdown-Next-Sunday.jpeg
END:VEVENT
BEGIN:VEVENT
DTSTART;TZID=America/Phoenix:20250216T093000
DTEND;TZID=America/Phoenix:20250216T103000
DTSTAMP:20260423T030843
CREATED:20230728T231856Z
LAST-MODIFIED:20230730T162603Z
UID:10002778-1739698200-1739701800@victorylutheran.com
SUMMARY:9:30am Worship
DESCRIPTION:
URL:https://victorylutheran.com/event/930am-worship-2/2025-02-16/
CATEGORIES:Gather Time
ATTACH;FMTTYPE=image/jpeg:https://victorylutheran.com/wp-content/uploads/2023/07/Inside-Sanctuary.jpg
END:VEVENT
BEGIN:VEVENT
DTSTART;TZID=America/Phoenix:20250215T160000
DTEND;TZID=America/Phoenix:20250215T170000
DTSTAMP:20260423T030843
CREATED:20230728T231824Z
LAST-MODIFIED:20230730T162125Z
UID:10003043-1739635200-1739638800@victorylutheran.com
SUMMARY:4pm Worship
DESCRIPTION:
URL:https://victorylutheran.com/event/4pm-worship-2/2025-02-15/
CATEGORIES:Gather Time
ATTACH;FMTTYPE=image/jpeg:https://victorylutheran.com/wp-content/uploads/2023/07/Drone-Inside-Church-Frame-scaled.jpg
END:VEVENT
BEGIN:VEVENT
DTSTART;TZID=America/Phoenix:20250209T110000
DTEND;TZID=America/Phoenix:20250209T120000
DTSTAMP:20260423T030843
CREATED:20240306T000109Z
LAST-MODIFIED:20240306T000348Z
UID:10005921-1739098800-1739102400@victorylutheran.com
SUMMARY:Contemporary Worship
DESCRIPTION:Launching New  \n\n\n\nCONTEMPORARY WORSHIP SERVICE @ 11:00AMBeginning April 7th\, Victory Lutheran will introduce a Contemporary Worship Service at 11:00am on Sunday mornings. Following Easter\, the 11:00am service will shift from traditional to contemporary music\, led by a praise team under the guidance of Jackie Jewel. \n\n\n\nThis new service has been a long-requested and carefully planned endeavor. While contemporary worship has been a part of Victory for over twenty years\, it hasn’t been present at the Mesa campus for quite some time. \n\n\n\nIt’s important to note that traditional worship remains the cornerstone of Victory’s worship experience. This is our primary focus. We’re not aiming to “blend” traditional and contemporary styles. Our Saturday service at 4:00pm and Sunday services at 8:00am and 9:30am will continue to uphold traditional styles with excellence. The 11:00am Sunday service will adopt a contemporary style\, also delivered with excellence.
URL:https://victorylutheran.com/event/contemporary-worship/2025-02-09/
CATEGORIES:Gather Time
ATTACH;FMTTYPE=image/jpeg:https://victorylutheran.com/wp-content/uploads/2024/03/Contemporary-Countdown-Next-Sunday.jpeg
END:VEVENT
BEGIN:VEVENT
DTSTART;TZID=America/Phoenix:20250209T093000
DTEND;TZID=America/Phoenix:20250209T103000
DTSTAMP:20260423T030843
CREATED:20230728T231856Z
LAST-MODIFIED:20230730T162603Z
UID:10002777-1739093400-1739097000@victorylutheran.com
SUMMARY:9:30am Worship
DESCRIPTION:
URL:https://victorylutheran.com/event/930am-worship-2/2025-02-09/
CATEGORIES:Gather Time
ATTACH;FMTTYPE=image/jpeg:https://victorylutheran.com/wp-content/uploads/2023/07/Inside-Sanctuary.jpg
END:VEVENT
BEGIN:VEVENT
DTSTART;TZID=America/Phoenix:20250208T160000
DTEND;TZID=America/Phoenix:20250208T170000
DTSTAMP:20260423T030843
CREATED:20230728T231824Z
LAST-MODIFIED:20230730T162125Z
UID:10003042-1739030400-1739034000@victorylutheran.com
SUMMARY:4pm Worship
DESCRIPTION:
URL:https://victorylutheran.com/event/4pm-worship-2/2025-02-08/
CATEGORIES:Gather Time
ATTACH;FMTTYPE=image/jpeg:https://victorylutheran.com/wp-content/uploads/2023/07/Drone-Inside-Church-Frame-scaled.jpg
END:VEVENT
BEGIN:VEVENT
DTSTART;TZID=America/Phoenix:20250206T100000
DTEND;TZID=America/Phoenix:20250206T110000
DTSTAMP:20260423T030843
CREATED:20230728T212433Z
LAST-MODIFIED:20251010T180555Z
UID:10001218-1738836000-1738839600@victorylutheran.com
SUMMARY:Prayer & Praise Worship Service
DESCRIPTION:We meet the first Thursday of the month in the courtyard Chapel. This gathering provides an opportunity for our community to come together in worship\, prayer and gratitude.
URL:https://victorylutheran.com/event/prayer-praise-worship-service/2025-02-06/
CATEGORIES:Gather Time
ATTACH;FMTTYPE=image/jpeg:https://victorylutheran.com/wp-content/uploads/2023/07/Praise-Prayer_thunbnail-1.jpg
END:VEVENT
BEGIN:VEVENT
DTSTART;TZID=America/Phoenix:20250202T110000
DTEND;TZID=America/Phoenix:20250202T120000
DTSTAMP:20260423T030843
CREATED:20240306T000109Z
LAST-MODIFIED:20240306T000348Z
UID:10005920-1738494000-1738497600@victorylutheran.com
SUMMARY:Contemporary Worship
DESCRIPTION:Launching New  \n\n\n\nCONTEMPORARY WORSHIP SERVICE @ 11:00AMBeginning April 7th\, Victory Lutheran will introduce a Contemporary Worship Service at 11:00am on Sunday mornings. Following Easter\, the 11:00am service will shift from traditional to contemporary music\, led by a praise team under the guidance of Jackie Jewel. \n\n\n\nThis new service has been a long-requested and carefully planned endeavor. While contemporary worship has been a part of Victory for over twenty years\, it hasn’t been present at the Mesa campus for quite some time. \n\n\n\nIt’s important to note that traditional worship remains the cornerstone of Victory’s worship experience. This is our primary focus. We’re not aiming to “blend” traditional and contemporary styles. Our Saturday service at 4:00pm and Sunday services at 8:00am and 9:30am will continue to uphold traditional styles with excellence. The 11:00am Sunday service will adopt a contemporary style\, also delivered with excellence.
URL:https://victorylutheran.com/event/contemporary-worship/2025-02-02/
CATEGORIES:Gather Time
ATTACH;FMTTYPE=image/jpeg:https://victorylutheran.com/wp-content/uploads/2024/03/Contemporary-Countdown-Next-Sunday.jpeg
END:VEVENT
BEGIN:VEVENT
DTSTART;TZID=America/Phoenix:20250202T093000
DTEND;TZID=America/Phoenix:20250202T103000
DTSTAMP:20260423T030843
CREATED:20230728T231856Z
LAST-MODIFIED:20230730T162603Z
UID:10002776-1738488600-1738492200@victorylutheran.com
SUMMARY:9:30am Worship
DESCRIPTION:
URL:https://victorylutheran.com/event/930am-worship-2/2025-02-02/
CATEGORIES:Gather Time
ATTACH;FMTTYPE=image/jpeg:https://victorylutheran.com/wp-content/uploads/2023/07/Inside-Sanctuary.jpg
END:VEVENT
BEGIN:VEVENT
DTSTART;TZID=America/Phoenix:20250201T160000
DTEND;TZID=America/Phoenix:20250201T170000
DTSTAMP:20260423T030843
CREATED:20230728T231824Z
LAST-MODIFIED:20230730T162125Z
UID:10003041-1738425600-1738429200@victorylutheran.com
SUMMARY:4pm Worship
DESCRIPTION:
URL:https://victorylutheran.com/event/4pm-worship-2/2025-02-01/
CATEGORIES:Gather Time
ATTACH;FMTTYPE=image/jpeg:https://victorylutheran.com/wp-content/uploads/2023/07/Drone-Inside-Church-Frame-scaled.jpg
END:VEVENT
BEGIN:VEVENT
DTSTART;TZID=America/Phoenix:20250126T110000
DTEND;TZID=America/Phoenix:20250126T120000
DTSTAMP:20260423T030843
CREATED:20240306T000109Z
LAST-MODIFIED:20240306T000348Z
UID:10005919-1737889200-1737892800@victorylutheran.com
SUMMARY:Contemporary Worship
DESCRIPTION:Launching New  \n\n\n\nCONTEMPORARY WORSHIP SERVICE @ 11:00AMBeginning April 7th\, Victory Lutheran will introduce a Contemporary Worship Service at 11:00am on Sunday mornings. Following Easter\, the 11:00am service will shift from traditional to contemporary music\, led by a praise team under the guidance of Jackie Jewel. \n\n\n\nThis new service has been a long-requested and carefully planned endeavor. While contemporary worship has been a part of Victory for over twenty years\, it hasn’t been present at the Mesa campus for quite some time. \n\n\n\nIt’s important to note that traditional worship remains the cornerstone of Victory’s worship experience. This is our primary focus. We’re not aiming to “blend” traditional and contemporary styles. Our Saturday service at 4:00pm and Sunday services at 8:00am and 9:30am will continue to uphold traditional styles with excellence. The 11:00am Sunday service will adopt a contemporary style\, also delivered with excellence.
URL:https://victorylutheran.com/event/contemporary-worship/2025-01-26/
CATEGORIES:Gather Time
ATTACH;FMTTYPE=image/jpeg:https://victorylutheran.com/wp-content/uploads/2024/03/Contemporary-Countdown-Next-Sunday.jpeg
END:VEVENT
BEGIN:VEVENT
DTSTART;TZID=America/Phoenix:20250126T093000
DTEND;TZID=America/Phoenix:20250126T103000
DTSTAMP:20260423T030843
CREATED:20230728T231856Z
LAST-MODIFIED:20230730T162603Z
UID:10002775-1737883800-1737887400@victorylutheran.com
SUMMARY:9:30am Worship
DESCRIPTION:
URL:https://victorylutheran.com/event/930am-worship-2/2025-01-26/
CATEGORIES:Gather Time
ATTACH;FMTTYPE=image/jpeg:https://victorylutheran.com/wp-content/uploads/2023/07/Inside-Sanctuary.jpg
END:VEVENT
BEGIN:VEVENT
DTSTART;TZID=America/Phoenix:20250125T160000
DTEND;TZID=America/Phoenix:20250125T170000
DTSTAMP:20260423T030843
CREATED:20230728T231824Z
LAST-MODIFIED:20230730T162125Z
UID:10003040-1737820800-1737824400@victorylutheran.com
SUMMARY:4pm Worship
DESCRIPTION:
URL:https://victorylutheran.com/event/4pm-worship-2/2025-01-25/
CATEGORIES:Gather Time
ATTACH;FMTTYPE=image/jpeg:https://victorylutheran.com/wp-content/uploads/2023/07/Drone-Inside-Church-Frame-scaled.jpg
END:VEVENT
BEGIN:VEVENT
DTSTART;TZID=America/Phoenix:20250119T110000
DTEND;TZID=America/Phoenix:20250119T120000
DTSTAMP:20260423T030843
CREATED:20240306T000109Z
LAST-MODIFIED:20240306T000348Z
UID:10005918-1737284400-1737288000@victorylutheran.com
SUMMARY:Contemporary Worship
DESCRIPTION:Launching New  \n\n\n\nCONTEMPORARY WORSHIP SERVICE @ 11:00AMBeginning April 7th\, Victory Lutheran will introduce a Contemporary Worship Service at 11:00am on Sunday mornings. Following Easter\, the 11:00am service will shift from traditional to contemporary music\, led by a praise team under the guidance of Jackie Jewel. \n\n\n\nThis new service has been a long-requested and carefully planned endeavor. While contemporary worship has been a part of Victory for over twenty years\, it hasn’t been present at the Mesa campus for quite some time. \n\n\n\nIt’s important to note that traditional worship remains the cornerstone of Victory’s worship experience. This is our primary focus. We’re not aiming to “blend” traditional and contemporary styles. Our Saturday service at 4:00pm and Sunday services at 8:00am and 9:30am will continue to uphold traditional styles with excellence. The 11:00am Sunday service will adopt a contemporary style\, also delivered with excellence.
URL:https://victorylutheran.com/event/contemporary-worship/2025-01-19/
CATEGORIES:Gather Time
ATTACH;FMTTYPE=image/jpeg:https://victorylutheran.com/wp-content/uploads/2024/03/Contemporary-Countdown-Next-Sunday.jpeg
END:VEVENT
BEGIN:VEVENT
DTSTART;TZID=America/Phoenix:20250119T093000
DTEND;TZID=America/Phoenix:20250119T103000
DTSTAMP:20260423T030843
CREATED:20230728T231856Z
LAST-MODIFIED:20230730T162603Z
UID:10002774-1737279000-1737282600@victorylutheran.com
SUMMARY:9:30am Worship
DESCRIPTION:
URL:https://victorylutheran.com/event/930am-worship-2/2025-01-19/
CATEGORIES:Gather Time
ATTACH;FMTTYPE=image/jpeg:https://victorylutheran.com/wp-content/uploads/2023/07/Inside-Sanctuary.jpg
END:VEVENT
END:VCALENDAR