BEGIN:VCALENDAR
VERSION:2.0
PRODID:-//Victory Lutheran Church - ECPv6.15.11//NONSGML v1.0//EN
CALSCALE:GREGORIAN
METHOD:PUBLISH
X-ORIGINAL-URL:https://victorylutheran.com
X-WR-CALDESC:Events for Victory Lutheran Church
REFRESH-INTERVAL;VALUE=DURATION:PT1H
X-Robots-Tag:noindex
X-PUBLISHED-TTL:PT1H
BEGIN:VTIMEZONE
TZID:America/Phoenix
BEGIN:STANDARD
TZOFFSETFROM:-0700
TZOFFSETTO:-0700
TZNAME:MST
DTSTART:20230101T000000
END:STANDARD
END:VTIMEZONE
BEGIN:VEVENT
DTSTART;TZID=America/Phoenix:20240204T073000
DTEND;TZID=America/Phoenix:20240204T110000
DTSTAMP:20260421T141649
CREATED:20240112T001619Z
LAST-MODIFIED:20240115T232136Z
UID:10005787-1707031800-1707044400@victorylutheran.com
SUMMARY:Mission & Ministry Fair
DESCRIPTION:SATURDAY 3:30-5:30PM | SUNDAY 7:30-11:00AM \n\n\n\nDISCOVERING MISSION >Here’s your chance to learn more about all the ministries going on at Victory. God has designed you to live life on mission\, every day could be an opportunity to make the world a better place. \n\n\n\nPick up your “Passport to Mission” in the Fellowship Hall\, and explore how Victory is reaching out and meeting the needs of our community. If you get a puzzle piece at every station\, you’ll be entered in a drawing for one of two $50 gift cards to Texas Roadhouse.
URL:https://victorylutheran.com/event/mission-ministry-fair-2/
LOCATION:Victory Lutheran Church\, 5946 E. University Dr.\, Mesa\, AZ\, 85205\, United States
CATEGORIES:Go Time
ATTACH;FMTTYPE=image/jpeg:https://victorylutheran.com/wp-content/uploads/2024/01/Mission-Fair_thumbnail.jpg
END:VEVENT
BEGIN:VEVENT
DTSTART;TZID=America/Phoenix:20240208T170000
DTEND;TZID=America/Phoenix:20240208T193000
DTSTAMP:20260421T141649
CREATED:20230802T191153Z
LAST-MODIFIED:20230802T191154Z
UID:10004505-1707411600-1707420600@victorylutheran.com
SUMMARY:I-HELP
DESCRIPTION:INTERFAITH HOMELESS EMERGENCY LODGING PROGRAM (I-HELP)\n\n\n\nI-HELP is a unique\, cost effective program that uses what churches have in abundance (space\, volunteers\, the desire to help the stranger) to provide overnight emergency shelter to those experiencing homelessness and case management to help them move from crisis to stability. I-HELP currently operates in Mesa\, Surprise\, and the Southwest Valley\, including Avondale and Goodyear. \n\n\n\n\n\nI-HELP Program at Victory is for homeless women without children in the Mesa area. \n\n\n\n\nNight shelter\n\n\n\nCold evening beverages\, morning coffee and lots of bottled water\n\n\n\nHealthy & hearty sack lunch provided for the next day\n\n\n\nCots\, air mattresses & linens for sleeping\n\n\n\nShowers with soap\, shampoo\, lotion and towels provided\n\n\n\n\nInterested in volunteering? Please contact: Bev Locke at 602-421-3279 \n\n\n\nVictory hosts I-HELP the 2nd & 4th Wednesday and Thursday of the month. Volunteers arrive between 5:00-5:30pm.
URL:https://victorylutheran.com/event/i-help-2/2024-02-08/
CATEGORIES:Go Time
ATTACH;FMTTYPE=image/jpeg:https://victorylutheran.com/wp-content/uploads/2023/07/I-HELP_thumbnail.jpg
END:VEVENT
BEGIN:VEVENT
DTSTART;TZID=America/Phoenix:20240214T170000
DTEND;TZID=America/Phoenix:20240214T193000
DTSTAMP:20260421T141649
CREATED:20230802T203742Z
LAST-MODIFIED:20241017T230609Z
UID:10004805-1707930000-1707939000@victorylutheran.com
SUMMARY:I-HELP
DESCRIPTION:INTERFAITH HOMELESS EMERGENCY LODGING PROGRAM (I-HELP)\n\n\n\nI-HELP is a unique\, cost effective program that uses what churches have in abundance (space\, volunteers\, the desire to help the stranger) to provide overnight emergency shelter to those experiencing homelessness and case management to help them move from crisis to stability. I-HELP currently operates in Mesa\, Surprise\, and the Southwest Valley\, including Avondale and Goodyear. \n\n\n\n\n\nI-HELP Program at Victory is for homeless women without children in the Mesa area. \n\n\n\n\nNight shelter\n\n\n\nCold evening beverages\, morning coffee and lots of bottled water\n\n\n\nHealthy & hearty sack lunch provided for the next day\n\n\n\nCots\, air mattresses & linens for sleeping\n\n\n\nShowers with soap\, shampoo\, lotion and towels provided\n\n\n\n\nInterested in volunteering? Please contact: Bev Locke at 602-421-3279 \n\n\n\nVictory hosts I-HELP the 2nd & 4th Wednesday and Thursday of the month. Volunteers arrive between 5:00-5:30pm.
URL:https://victorylutheran.com/event/i-help/2024-02-14/
CATEGORIES:Go Time
ATTACH;FMTTYPE=image/jpeg:https://victorylutheran.com/wp-content/uploads/2023/07/I-HELP_thumbnail.jpg
END:VEVENT
BEGIN:VEVENT
DTSTART;TZID=America/Phoenix:20240222T000000
DTEND;TZID=America/Phoenix:20240223T235959
DTSTAMP:20260421T141649
CREATED:20230802T202902Z
LAST-MODIFIED:20230802T202902Z
UID:10004685-1708560000-1708732799@victorylutheran.com
SUMMARY:I-HELP
DESCRIPTION:INTERFAITH HOMELESS EMERGENCY LODGING PROGRAM (I-HELP)\n\n\n\nI-HELP is a unique\, cost effective program that uses what churches have in abundance (space\, volunteers\, the desire to help the stranger) to provide overnight emergency shelter to those experiencing homelessness and case management to help them move from crisis to stability. I-HELP currently operates in Mesa\, Surprise\, and the Southwest Valley\, including Avondale and Goodyear. \n\n\n\n\n\nI-HELP Program at Victory is for homeless women without children in the Mesa area. \n\n\n\n\nNight shelter\n\n\n\nCold evening beverages\, morning coffee and lots of bottled water\n\n\n\nHealthy & hearty sack lunch provided for the next day\n\n\n\nCots\, air mattresses & linens for sleeping\n\n\n\nShowers with soap\, shampoo\, lotion and towels provided\n\n\n\n\nInterested in volunteering? Please contact: Bev Locke at 602-421-3279 \n\n\n\nVictory hosts I-HELP the 2nd & 4th Wednesday and Thursday of the month. Volunteers arrive between 5:00-5:30pm.
URL:https://victorylutheran.com/event/i-help-3/2024-02-22/
CATEGORIES:Go Time
ATTACH;FMTTYPE=image/jpeg:https://victorylutheran.com/wp-content/uploads/2023/07/I-HELP_thumbnail.jpg
END:VEVENT
BEGIN:VEVENT
DTSTART;TZID=America/Phoenix:20240228T170000
DTEND;TZID=America/Phoenix:20240228T193000
DTSTAMP:20260421T141649
CREATED:20230802T203455Z
LAST-MODIFIED:20241017T230714Z
UID:10004625-1709139600-1709148600@victorylutheran.com
SUMMARY:I-HELP
DESCRIPTION:INTERFAITH HOMELESS EMERGENCY LODGING PROGRAM (I-HELP)\n\n\n\nI-HELP is a unique\, cost effective program that uses what churches have in abundance (space\, volunteers\, the desire to help the stranger) to provide overnight emergency shelter to those experiencing homelessness and case management to help them move from crisis to stability. I-HELP currently operates in Mesa\, Surprise\, and the Southwest Valley\, including Avondale and Goodyear. \n\n\n\n\n\nI-HELP Program at Victory is for homeless women without children in the Mesa area. \n\n\n\n\nNight shelter\n\n\n\nCold evening beverages\, morning coffee and lots of bottled water\n\n\n\nHealthy & hearty sack lunch provided for the next day\n\n\n\nCots\, air mattresses & linens for sleeping\n\n\n\nShowers with soap\, shampoo\, lotion and towels provided\n\n\n\n\nInterested in volunteering? Please contact: Bev Locke at 602-421-3279 \n\n\n\nVictory hosts I-HELP the 2nd & 4th Wednesday and Thursday of the month. Volunteers arrive between 5:00-5:30pm.
URL:https://victorylutheran.com/event/i-help-4/2024-02-28/
LOCATION:Victory Lutheran Church\, 5946 E. University Dr.\, Mesa\, AZ\, 85205\, United States
CATEGORIES:Go Time
ATTACH;FMTTYPE=image/jpeg:https://victorylutheran.com/wp-content/uploads/2023/07/I-HELP_thumbnail.jpg
END:VEVENT
END:VCALENDAR