BEGIN:VCALENDAR
VERSION:2.0
PRODID:-//Victory Lutheran Church - ECPv6.15.11//NONSGML v1.0//EN
CALSCALE:GREGORIAN
METHOD:PUBLISH
X-ORIGINAL-URL:https://victorylutheran.com
X-WR-CALDESC:Events for Victory Lutheran Church
REFRESH-INTERVAL;VALUE=DURATION:PT1H
X-Robots-Tag:noindex
X-PUBLISHED-TTL:PT1H
BEGIN:VTIMEZONE
TZID:America/Phoenix
BEGIN:STANDARD
TZOFFSETFROM:-0700
TZOFFSETTO:-0700
TZNAME:MST
DTSTART:20240101T000000
END:STANDARD
END:VTIMEZONE
BEGIN:VEVENT
DTSTART;TZID=America/Phoenix:20250903T133000
DTEND;TZID=America/Phoenix:20250903T150000
DTSTAMP:20260419T082011
CREATED:20231230T201101Z
LAST-MODIFIED:20231230T201112Z
UID:10005378-1756906200-1756911600@victorylutheran.com
SUMMARY:Women's Bible Study
DESCRIPTION:We gather each Wednesday at 1:30pm to learn and discuss God’s Word. Open to all women.
URL:https://victorylutheran.com/event/womens-bible-study/2025-09-03/
CATEGORIES:Group Time
ATTACH;FMTTYPE=image/jpeg:https://victorylutheran.com/wp-content/uploads/2023/12/Bible-with-flower.jpg
END:VEVENT
BEGIN:VEVENT
DTSTART;TZID=America/Phoenix:20250828T100000
DTEND;TZID=America/Phoenix:20250828T110000
DTSTAMP:20260419T082011
CREATED:20230731T045009Z
LAST-MODIFIED:20251010T180919Z
UID:10004344-1756375200-1756378800@victorylutheran.com
SUMMARY:Prayer Group
DESCRIPTION:We are a community dedicated to the power of prayer and supporting one another in our spiritual journeys. Together\, we gather in fellowship to seek God’s guidance\, intercede for the needs of our congregation and beyond. Whether you’re new to faith or a seasoned believer\, our prayer group offers a safe space for heartfelt conversations with God and the opportunity to grow in faith. Join us as we seek God’s presence and experience the transformative power of prayer.
URL:https://victorylutheran.com/event/prayer-group/2025-08-28/
CATEGORIES:Group Time
ATTACH;FMTTYPE=image/png:https://victorylutheran.com/wp-content/uploads/2023/06/prayer-ministry.png
END:VEVENT
BEGIN:VEVENT
DTSTART;TZID=America/Phoenix:20250827T133000
DTEND;TZID=America/Phoenix:20250827T150000
DTSTAMP:20260419T082011
CREATED:20231230T201101Z
LAST-MODIFIED:20231230T201112Z
UID:10005377-1756301400-1756306800@victorylutheran.com
SUMMARY:Women's Bible Study
DESCRIPTION:We gather each Wednesday at 1:30pm to learn and discuss God’s Word. Open to all women.
URL:https://victorylutheran.com/event/womens-bible-study/2025-08-27/
CATEGORIES:Group Time
ATTACH;FMTTYPE=image/jpeg:https://victorylutheran.com/wp-content/uploads/2023/12/Bible-with-flower.jpg
END:VEVENT
BEGIN:VEVENT
DTSTART;TZID=America/Phoenix:20250821T100000
DTEND;TZID=America/Phoenix:20250821T110000
DTSTAMP:20260419T082011
CREATED:20230731T045009Z
LAST-MODIFIED:20251010T180919Z
UID:10004343-1755770400-1755774000@victorylutheran.com
SUMMARY:Prayer Group
DESCRIPTION:We are a community dedicated to the power of prayer and supporting one another in our spiritual journeys. Together\, we gather in fellowship to seek God’s guidance\, intercede for the needs of our congregation and beyond. Whether you’re new to faith or a seasoned believer\, our prayer group offers a safe space for heartfelt conversations with God and the opportunity to grow in faith. Join us as we seek God’s presence and experience the transformative power of prayer.
URL:https://victorylutheran.com/event/prayer-group/2025-08-21/
CATEGORIES:Group Time
ATTACH;FMTTYPE=image/png:https://victorylutheran.com/wp-content/uploads/2023/06/prayer-ministry.png
END:VEVENT
BEGIN:VEVENT
DTSTART;TZID=America/Phoenix:20250820T133000
DTEND;TZID=America/Phoenix:20250820T150000
DTSTAMP:20260419T082011
CREATED:20231230T201101Z
LAST-MODIFIED:20231230T201112Z
UID:10005376-1755696600-1755702000@victorylutheran.com
SUMMARY:Women's Bible Study
DESCRIPTION:We gather each Wednesday at 1:30pm to learn and discuss God’s Word. Open to all women.
URL:https://victorylutheran.com/event/womens-bible-study/2025-08-20/
CATEGORIES:Group Time
ATTACH;FMTTYPE=image/jpeg:https://victorylutheran.com/wp-content/uploads/2023/12/Bible-with-flower.jpg
END:VEVENT
BEGIN:VEVENT
DTSTART;TZID=America/Phoenix:20250814T100000
DTEND;TZID=America/Phoenix:20250814T110000
DTSTAMP:20260419T082011
CREATED:20230731T045009Z
LAST-MODIFIED:20251010T180919Z
UID:10004342-1755165600-1755169200@victorylutheran.com
SUMMARY:Prayer Group
DESCRIPTION:We are a community dedicated to the power of prayer and supporting one another in our spiritual journeys. Together\, we gather in fellowship to seek God’s guidance\, intercede for the needs of our congregation and beyond. Whether you’re new to faith or a seasoned believer\, our prayer group offers a safe space for heartfelt conversations with God and the opportunity to grow in faith. Join us as we seek God’s presence and experience the transformative power of prayer.
URL:https://victorylutheran.com/event/prayer-group/2025-08-14/
CATEGORIES:Group Time
ATTACH;FMTTYPE=image/png:https://victorylutheran.com/wp-content/uploads/2023/06/prayer-ministry.png
END:VEVENT
BEGIN:VEVENT
DTSTART;TZID=America/Phoenix:20250813T133000
DTEND;TZID=America/Phoenix:20250813T150000
DTSTAMP:20260419T082011
CREATED:20231230T201101Z
LAST-MODIFIED:20231230T201112Z
UID:10005375-1755091800-1755097200@victorylutheran.com
SUMMARY:Women's Bible Study
DESCRIPTION:We gather each Wednesday at 1:30pm to learn and discuss God’s Word. Open to all women.
URL:https://victorylutheran.com/event/womens-bible-study/2025-08-13/
CATEGORIES:Group Time
ATTACH;FMTTYPE=image/jpeg:https://victorylutheran.com/wp-content/uploads/2023/12/Bible-with-flower.jpg
END:VEVENT
BEGIN:VEVENT
DTSTART;TZID=America/Phoenix:20250812T093000
DTEND;TZID=America/Phoenix:20250812T110000
DTSTAMP:20260419T082011
CREATED:20250703T201230Z
LAST-MODIFIED:20250703T201738Z
UID:10009587-1754991000-1754996400@victorylutheran.com
SUMMARY:Women's Ministry Combined Bible Study
DESCRIPTION:Women’s Ministry Combined Bible Study Tuesday @ 9:30am – July 8\, August 12\, September 9 \n\n\n\nDuring the summer months (May-September) Women’s Ministry meets the 2nd Tuesday of the month at Victory as a combined group. Pastor or Bible Study leader choses the study.
URL:https://victorylutheran.com/event/womens-ministry-combined-bible-study-2/2025-08-12/
CATEGORIES:Group Time
ATTACH;FMTTYPE=image/jpeg:https://victorylutheran.com/wp-content/uploads/2024/06/Womens-Ministry.jpg
END:VEVENT
BEGIN:VEVENT
DTSTART;TZID=America/Phoenix:20250807T100000
DTEND;TZID=America/Phoenix:20250807T110000
DTSTAMP:20260419T082011
CREATED:20230731T045009Z
LAST-MODIFIED:20251010T180919Z
UID:10009952-1754560800-1754564400@victorylutheran.com
SUMMARY:Prayer Group
DESCRIPTION:We are a community dedicated to the power of prayer and supporting one another in our spiritual journeys. Together\, we gather in fellowship to seek God’s guidance\, intercede for the needs of our congregation and beyond. Whether you’re new to faith or a seasoned believer\, our prayer group offers a safe space for heartfelt conversations with God and the opportunity to grow in faith. Join us as we seek God’s presence and experience the transformative power of prayer.
URL:https://victorylutheran.com/event/prayer-group/2025-08-07/
CATEGORIES:Group Time
ATTACH;FMTTYPE=image/png:https://victorylutheran.com/wp-content/uploads/2023/06/prayer-ministry.png
END:VEVENT
BEGIN:VEVENT
DTSTART;TZID=America/Phoenix:20250806T133000
DTEND;TZID=America/Phoenix:20250806T150000
DTSTAMP:20260419T082011
CREATED:20231230T201101Z
LAST-MODIFIED:20231230T201112Z
UID:10005374-1754487000-1754492400@victorylutheran.com
SUMMARY:Women's Bible Study
DESCRIPTION:We gather each Wednesday at 1:30pm to learn and discuss God’s Word. Open to all women.
URL:https://victorylutheran.com/event/womens-bible-study/2025-08-06/
CATEGORIES:Group Time
ATTACH;FMTTYPE=image/jpeg:https://victorylutheran.com/wp-content/uploads/2023/12/Bible-with-flower.jpg
END:VEVENT
BEGIN:VEVENT
DTSTART;TZID=America/Phoenix:20250731T100000
DTEND;TZID=America/Phoenix:20250731T110000
DTSTAMP:20260419T082011
CREATED:20230731T045009Z
LAST-MODIFIED:20251010T180919Z
UID:10004340-1753956000-1753959600@victorylutheran.com
SUMMARY:Prayer Group
DESCRIPTION:We are a community dedicated to the power of prayer and supporting one another in our spiritual journeys. Together\, we gather in fellowship to seek God’s guidance\, intercede for the needs of our congregation and beyond. Whether you’re new to faith or a seasoned believer\, our prayer group offers a safe space for heartfelt conversations with God and the opportunity to grow in faith. Join us as we seek God’s presence and experience the transformative power of prayer.
URL:https://victorylutheran.com/event/prayer-group/2025-07-31/
CATEGORIES:Group Time
ATTACH;FMTTYPE=image/png:https://victorylutheran.com/wp-content/uploads/2023/06/prayer-ministry.png
END:VEVENT
BEGIN:VEVENT
DTSTART;TZID=America/Phoenix:20250730T133000
DTEND;TZID=America/Phoenix:20250730T150000
DTSTAMP:20260419T082011
CREATED:20231230T201101Z
LAST-MODIFIED:20231230T201112Z
UID:10005373-1753882200-1753887600@victorylutheran.com
SUMMARY:Women's Bible Study
DESCRIPTION:We gather each Wednesday at 1:30pm to learn and discuss God’s Word. Open to all women.
URL:https://victorylutheran.com/event/womens-bible-study/2025-07-30/
CATEGORIES:Group Time
ATTACH;FMTTYPE=image/jpeg:https://victorylutheran.com/wp-content/uploads/2023/12/Bible-with-flower.jpg
END:VEVENT
BEGIN:VEVENT
DTSTART;TZID=America/Phoenix:20250728T123000
DTEND;TZID=America/Phoenix:20250728T143000
DTSTAMP:20260419T082011
CREATED:20250424T232704Z
LAST-MODIFIED:20250424T232717Z
UID:10008496-1753705800-1753713000@victorylutheran.com
SUMMARY:GriefShare
DESCRIPTION:13-week Program\n\n\n\n\n\nMondays\, 12:30-2:30pm (We will not meet May 26\, Memorial Day) \n\n\n\n\n\nA program for help in your journey through grief after the death of a spouse\, child\, family member or friend. GriefShare is a special 13-week seminar and support group designed to help you rebuild your life after losing a loved one. Our group is led by caring people who have experienced grief and desire to help you through the difficult days ahead. We know it hurts and we want to help. Some of the topics covered include: \n\n\n\n\nIs This Normal? • Why Am I Stuck?\n\n\n\nGrief and Relationships • Guilt & Anger\n\n\n\nWhy has this Happened? • And What Do I Live for Now?\n\n\n\nThe Challenges of Grief • Complicating FactorsVideo presentation and discussion. While it’s ideal for members to attend all 13 sessions\, each weekly session is designed to be “open\,” meaning a person can begin attending at any time. There is comfort\, answers\, and hope in every session! Consider a single session to learn about the program.If you would like more information you can find more info about GriefShare on their website at griefshare.org or you may contact our office at 480-830-5024.
URL:https://victorylutheran.com/event/griefshare-5/
CATEGORIES:Group Time
ATTACH;FMTTYPE=image/jpeg:https://victorylutheran.com/wp-content/uploads/2023/07/grief-share-slide.jpg
END:VEVENT
BEGIN:VEVENT
DTSTART;TZID=America/Phoenix:20250724T100000
DTEND;TZID=America/Phoenix:20250724T110000
DTSTAMP:20260419T082011
CREATED:20230731T045009Z
LAST-MODIFIED:20251010T180919Z
UID:10004339-1753351200-1753354800@victorylutheran.com
SUMMARY:Prayer Group
DESCRIPTION:We are a community dedicated to the power of prayer and supporting one another in our spiritual journeys. Together\, we gather in fellowship to seek God’s guidance\, intercede for the needs of our congregation and beyond. Whether you’re new to faith or a seasoned believer\, our prayer group offers a safe space for heartfelt conversations with God and the opportunity to grow in faith. Join us as we seek God’s presence and experience the transformative power of prayer.
URL:https://victorylutheran.com/event/prayer-group/2025-07-24/
CATEGORIES:Group Time
ATTACH;FMTTYPE=image/png:https://victorylutheran.com/wp-content/uploads/2023/06/prayer-ministry.png
END:VEVENT
BEGIN:VEVENT
DTSTART;TZID=America/Phoenix:20250723T133000
DTEND;TZID=America/Phoenix:20250723T150000
DTSTAMP:20260419T082011
CREATED:20231230T201101Z
LAST-MODIFIED:20231230T201112Z
UID:10005372-1753277400-1753282800@victorylutheran.com
SUMMARY:Women's Bible Study
DESCRIPTION:We gather each Wednesday at 1:30pm to learn and discuss God’s Word. Open to all women.
URL:https://victorylutheran.com/event/womens-bible-study/2025-07-23/
CATEGORIES:Group Time
ATTACH;FMTTYPE=image/jpeg:https://victorylutheran.com/wp-content/uploads/2023/12/Bible-with-flower.jpg
END:VEVENT
BEGIN:VEVENT
DTSTART;TZID=America/Phoenix:20250721T123000
DTEND;TZID=America/Phoenix:20250721T143000
DTSTAMP:20260419T082011
CREATED:20250403T223343Z
LAST-MODIFIED:20250403T223551Z
UID:10008495-1753101000-1753108200@victorylutheran.com
SUMMARY:GriefShare
DESCRIPTION:13-week Program\n\n\n\n\n\nMondays\, 12:30-2:30pm (We will not meet May 26\, Memorial Day) \n\n\n\n\n\nA program for help in your journey through grief after the death of a spouse\, child\, family member or friend. GriefShare is a special 13-week seminar and support group designed to help you rebuild your life after losing a loved one. Our group is led by caring people who have experienced grief and desire to help you through the difficult days ahead. We know it hurts and we want to help. Some of the topics covered include: \n\n\n\n\nIs This Normal? • Why Am I Stuck?\n\n\n\nGrief and Relationships • Guilt & Anger\n\n\n\nWhy has this Happened? • And What Do I Live for Now?\n\n\n\nThe Challenges of Grief • Complicating FactorsVideo presentation and discussion. While it’s ideal for members to attend all 13 sessions\, each weekly session is designed to be “open\,” meaning a person can begin attending at any time. There is comfort\, answers\, and hope in every session! Consider a single session to learn about the program.If you would like more information you can find more info about GriefShare on their website at griefshare.org or you may contact our office at 480-830-5024.
URL:https://victorylutheran.com/event/griefshare-4/2025-07-21/
CATEGORIES:Group Time
ATTACH;FMTTYPE=image/jpeg:https://victorylutheran.com/wp-content/uploads/2023/07/grief-share-slide.jpg
END:VEVENT
BEGIN:VEVENT
DTSTART;TZID=America/Phoenix:20250717T100000
DTEND;TZID=America/Phoenix:20250717T110000
DTSTAMP:20260419T082011
CREATED:20230731T045009Z
LAST-MODIFIED:20251010T180919Z
UID:10004338-1752746400-1752750000@victorylutheran.com
SUMMARY:Prayer Group
DESCRIPTION:We are a community dedicated to the power of prayer and supporting one another in our spiritual journeys. Together\, we gather in fellowship to seek God’s guidance\, intercede for the needs of our congregation and beyond. Whether you’re new to faith or a seasoned believer\, our prayer group offers a safe space for heartfelt conversations with God and the opportunity to grow in faith. Join us as we seek God’s presence and experience the transformative power of prayer.
URL:https://victorylutheran.com/event/prayer-group/2025-07-17/
CATEGORIES:Group Time
ATTACH;FMTTYPE=image/png:https://victorylutheran.com/wp-content/uploads/2023/06/prayer-ministry.png
END:VEVENT
BEGIN:VEVENT
DTSTART;TZID=America/Phoenix:20250716T133000
DTEND;TZID=America/Phoenix:20250716T150000
DTSTAMP:20260419T082011
CREATED:20231230T201101Z
LAST-MODIFIED:20231230T201112Z
UID:10005371-1752672600-1752678000@victorylutheran.com
SUMMARY:Women's Bible Study
DESCRIPTION:We gather each Wednesday at 1:30pm to learn and discuss God’s Word. Open to all women.
URL:https://victorylutheran.com/event/womens-bible-study/2025-07-16/
CATEGORIES:Group Time
ATTACH;FMTTYPE=image/jpeg:https://victorylutheran.com/wp-content/uploads/2023/12/Bible-with-flower.jpg
END:VEVENT
BEGIN:VEVENT
DTSTART;TZID=America/Phoenix:20250714T123000
DTEND;TZID=America/Phoenix:20250714T143000
DTSTAMP:20260419T082011
CREATED:20250403T223343Z
LAST-MODIFIED:20250403T223551Z
UID:10008494-1752496200-1752503400@victorylutheran.com
SUMMARY:GriefShare
DESCRIPTION:13-week Program\n\n\n\n\n\nMondays\, 12:30-2:30pm (We will not meet May 26\, Memorial Day) \n\n\n\n\n\nA program for help in your journey through grief after the death of a spouse\, child\, family member or friend. GriefShare is a special 13-week seminar and support group designed to help you rebuild your life after losing a loved one. Our group is led by caring people who have experienced grief and desire to help you through the difficult days ahead. We know it hurts and we want to help. Some of the topics covered include: \n\n\n\n\nIs This Normal? • Why Am I Stuck?\n\n\n\nGrief and Relationships • Guilt & Anger\n\n\n\nWhy has this Happened? • And What Do I Live for Now?\n\n\n\nThe Challenges of Grief • Complicating FactorsVideo presentation and discussion. While it’s ideal for members to attend all 13 sessions\, each weekly session is designed to be “open\,” meaning a person can begin attending at any time. There is comfort\, answers\, and hope in every session! Consider a single session to learn about the program.If you would like more information you can find more info about GriefShare on their website at griefshare.org or you may contact our office at 480-830-5024.
URL:https://victorylutheran.com/event/griefshare-4/2025-07-14/
CATEGORIES:Group Time
ATTACH;FMTTYPE=image/jpeg:https://victorylutheran.com/wp-content/uploads/2023/07/grief-share-slide.jpg
END:VEVENT
BEGIN:VEVENT
DTSTART;TZID=America/Phoenix:20250710T100000
DTEND;TZID=America/Phoenix:20250710T110000
DTSTAMP:20260419T082011
CREATED:20230731T045009Z
LAST-MODIFIED:20251010T180919Z
UID:10004337-1752141600-1752145200@victorylutheran.com
SUMMARY:Prayer Group
DESCRIPTION:We are a community dedicated to the power of prayer and supporting one another in our spiritual journeys. Together\, we gather in fellowship to seek God’s guidance\, intercede for the needs of our congregation and beyond. Whether you’re new to faith or a seasoned believer\, our prayer group offers a safe space for heartfelt conversations with God and the opportunity to grow in faith. Join us as we seek God’s presence and experience the transformative power of prayer.
URL:https://victorylutheran.com/event/prayer-group/2025-07-10/
CATEGORIES:Group Time
ATTACH;FMTTYPE=image/png:https://victorylutheran.com/wp-content/uploads/2023/06/prayer-ministry.png
END:VEVENT
BEGIN:VEVENT
DTSTART;TZID=America/Phoenix:20250709T133000
DTEND;TZID=America/Phoenix:20250709T150000
DTSTAMP:20260419T082011
CREATED:20231230T201101Z
LAST-MODIFIED:20231230T201112Z
UID:10005370-1752067800-1752073200@victorylutheran.com
SUMMARY:Women's Bible Study
DESCRIPTION:We gather each Wednesday at 1:30pm to learn and discuss God’s Word. Open to all women.
URL:https://victorylutheran.com/event/womens-bible-study/2025-07-09/
CATEGORIES:Group Time
ATTACH;FMTTYPE=image/jpeg:https://victorylutheran.com/wp-content/uploads/2023/12/Bible-with-flower.jpg
END:VEVENT
BEGIN:VEVENT
DTSTART;TZID=America/Phoenix:20250708T093000
DTEND;TZID=America/Phoenix:20250708T110000
DTSTAMP:20260419T082011
CREATED:20250703T201230Z
LAST-MODIFIED:20250703T201738Z
UID:10006447-1751967000-1751972400@victorylutheran.com
SUMMARY:Women's Ministry Combined Bible Study
DESCRIPTION:Women’s Ministry Combined Bible Study Tuesday @ 9:30am – July 8\, August 12\, September 9 \n\n\n\nDuring the summer months (May-September) Women’s Ministry meets the 2nd Tuesday of the month at Victory as a combined group. Pastor or Bible Study leader choses the study.
URL:https://victorylutheran.com/event/womens-ministry-combined-bible-study-2/2025-07-08/
CATEGORIES:Group Time
ATTACH;FMTTYPE=image/jpeg:https://victorylutheran.com/wp-content/uploads/2024/06/Womens-Ministry.jpg
END:VEVENT
BEGIN:VEVENT
DTSTART;TZID=America/Phoenix:20250707T123000
DTEND;TZID=America/Phoenix:20250707T143000
DTSTAMP:20260419T082011
CREATED:20250403T223343Z
LAST-MODIFIED:20250403T223551Z
UID:10008493-1751891400-1751898600@victorylutheran.com
SUMMARY:GriefShare
DESCRIPTION:13-week Program\n\n\n\n\n\nMondays\, 12:30-2:30pm (We will not meet May 26\, Memorial Day) \n\n\n\n\n\nA program for help in your journey through grief after the death of a spouse\, child\, family member or friend. GriefShare is a special 13-week seminar and support group designed to help you rebuild your life after losing a loved one. Our group is led by caring people who have experienced grief and desire to help you through the difficult days ahead. We know it hurts and we want to help. Some of the topics covered include: \n\n\n\n\nIs This Normal? • Why Am I Stuck?\n\n\n\nGrief and Relationships • Guilt & Anger\n\n\n\nWhy has this Happened? • And What Do I Live for Now?\n\n\n\nThe Challenges of Grief • Complicating FactorsVideo presentation and discussion. While it’s ideal for members to attend all 13 sessions\, each weekly session is designed to be “open\,” meaning a person can begin attending at any time. There is comfort\, answers\, and hope in every session! Consider a single session to learn about the program.If you would like more information you can find more info about GriefShare on their website at griefshare.org or you may contact our office at 480-830-5024.
URL:https://victorylutheran.com/event/griefshare-4/2025-07-07/
CATEGORIES:Group Time
ATTACH;FMTTYPE=image/jpeg:https://victorylutheran.com/wp-content/uploads/2023/07/grief-share-slide.jpg
END:VEVENT
BEGIN:VEVENT
DTSTART;TZID=America/Phoenix:20250703T100000
DTEND;TZID=America/Phoenix:20250703T110000
DTSTAMP:20260419T082011
CREATED:20230731T045009Z
LAST-MODIFIED:20251010T180919Z
UID:10009951-1751536800-1751540400@victorylutheran.com
SUMMARY:Prayer Group
DESCRIPTION:We are a community dedicated to the power of prayer and supporting one another in our spiritual journeys. Together\, we gather in fellowship to seek God’s guidance\, intercede for the needs of our congregation and beyond. Whether you’re new to faith or a seasoned believer\, our prayer group offers a safe space for heartfelt conversations with God and the opportunity to grow in faith. Join us as we seek God’s presence and experience the transformative power of prayer.
URL:https://victorylutheran.com/event/prayer-group/2025-07-03/
CATEGORIES:Group Time
ATTACH;FMTTYPE=image/png:https://victorylutheran.com/wp-content/uploads/2023/06/prayer-ministry.png
END:VEVENT
BEGIN:VEVENT
DTSTART;TZID=America/Phoenix:20250702T133000
DTEND;TZID=America/Phoenix:20250702T150000
DTSTAMP:20260419T082011
CREATED:20231230T201101Z
LAST-MODIFIED:20231230T201112Z
UID:10005369-1751463000-1751468400@victorylutheran.com
SUMMARY:Women's Bible Study
DESCRIPTION:We gather each Wednesday at 1:30pm to learn and discuss God’s Word. Open to all women.
URL:https://victorylutheran.com/event/womens-bible-study/2025-07-02/
CATEGORIES:Group Time
ATTACH;FMTTYPE=image/jpeg:https://victorylutheran.com/wp-content/uploads/2023/12/Bible-with-flower.jpg
END:VEVENT
BEGIN:VEVENT
DTSTART;TZID=America/Phoenix:20250630T123000
DTEND;TZID=America/Phoenix:20250630T143000
DTSTAMP:20260419T082011
CREATED:20250403T223343Z
LAST-MODIFIED:20250403T223551Z
UID:10008492-1751286600-1751293800@victorylutheran.com
SUMMARY:GriefShare
DESCRIPTION:13-week Program\n\n\n\n\n\nMondays\, 12:30-2:30pm (We will not meet May 26\, Memorial Day) \n\n\n\n\n\nA program for help in your journey through grief after the death of a spouse\, child\, family member or friend. GriefShare is a special 13-week seminar and support group designed to help you rebuild your life after losing a loved one. Our group is led by caring people who have experienced grief and desire to help you through the difficult days ahead. We know it hurts and we want to help. Some of the topics covered include: \n\n\n\n\nIs This Normal? • Why Am I Stuck?\n\n\n\nGrief and Relationships • Guilt & Anger\n\n\n\nWhy has this Happened? • And What Do I Live for Now?\n\n\n\nThe Challenges of Grief • Complicating FactorsVideo presentation and discussion. While it’s ideal for members to attend all 13 sessions\, each weekly session is designed to be “open\,” meaning a person can begin attending at any time. There is comfort\, answers\, and hope in every session! Consider a single session to learn about the program.If you would like more information you can find more info about GriefShare on their website at griefshare.org or you may contact our office at 480-830-5024.
URL:https://victorylutheran.com/event/griefshare-4/2025-06-30/
CATEGORIES:Group Time
ATTACH;FMTTYPE=image/jpeg:https://victorylutheran.com/wp-content/uploads/2023/07/grief-share-slide.jpg
END:VEVENT
BEGIN:VEVENT
DTSTART;TZID=America/Phoenix:20250626T100000
DTEND;TZID=America/Phoenix:20250626T110000
DTSTAMP:20260419T082011
CREATED:20230731T045009Z
LAST-MODIFIED:20251010T180919Z
UID:10004335-1750932000-1750935600@victorylutheran.com
SUMMARY:Prayer Group
DESCRIPTION:We are a community dedicated to the power of prayer and supporting one another in our spiritual journeys. Together\, we gather in fellowship to seek God’s guidance\, intercede for the needs of our congregation and beyond. Whether you’re new to faith or a seasoned believer\, our prayer group offers a safe space for heartfelt conversations with God and the opportunity to grow in faith. Join us as we seek God’s presence and experience the transformative power of prayer.
URL:https://victorylutheran.com/event/prayer-group/2025-06-26/
CATEGORIES:Group Time
ATTACH;FMTTYPE=image/png:https://victorylutheran.com/wp-content/uploads/2023/06/prayer-ministry.png
END:VEVENT
BEGIN:VEVENT
DTSTART;TZID=America/Phoenix:20250625T133000
DTEND;TZID=America/Phoenix:20250625T150000
DTSTAMP:20260419T082011
CREATED:20231230T201101Z
LAST-MODIFIED:20231230T201112Z
UID:10005368-1750858200-1750863600@victorylutheran.com
SUMMARY:Women's Bible Study
DESCRIPTION:We gather each Wednesday at 1:30pm to learn and discuss God’s Word. Open to all women.
URL:https://victorylutheran.com/event/womens-bible-study/2025-06-25/
CATEGORIES:Group Time
ATTACH;FMTTYPE=image/jpeg:https://victorylutheran.com/wp-content/uploads/2023/12/Bible-with-flower.jpg
END:VEVENT
BEGIN:VEVENT
DTSTART;TZID=America/Phoenix:20250623T123000
DTEND;TZID=America/Phoenix:20250623T143000
DTSTAMP:20260419T082011
CREATED:20250403T223343Z
LAST-MODIFIED:20250403T223551Z
UID:10008491-1750681800-1750689000@victorylutheran.com
SUMMARY:GriefShare
DESCRIPTION:13-week Program\n\n\n\n\n\nMondays\, 12:30-2:30pm (We will not meet May 26\, Memorial Day) \n\n\n\n\n\nA program for help in your journey through grief after the death of a spouse\, child\, family member or friend. GriefShare is a special 13-week seminar and support group designed to help you rebuild your life after losing a loved one. Our group is led by caring people who have experienced grief and desire to help you through the difficult days ahead. We know it hurts and we want to help. Some of the topics covered include: \n\n\n\n\nIs This Normal? • Why Am I Stuck?\n\n\n\nGrief and Relationships • Guilt & Anger\n\n\n\nWhy has this Happened? • And What Do I Live for Now?\n\n\n\nThe Challenges of Grief • Complicating FactorsVideo presentation and discussion. While it’s ideal for members to attend all 13 sessions\, each weekly session is designed to be “open\,” meaning a person can begin attending at any time. There is comfort\, answers\, and hope in every session! Consider a single session to learn about the program.If you would like more information you can find more info about GriefShare on their website at griefshare.org or you may contact our office at 480-830-5024.
URL:https://victorylutheran.com/event/griefshare-4/2025-06-23/
CATEGORIES:Group Time
ATTACH;FMTTYPE=image/jpeg:https://victorylutheran.com/wp-content/uploads/2023/07/grief-share-slide.jpg
END:VEVENT
BEGIN:VEVENT
DTSTART;TZID=America/Phoenix:20250619T100000
DTEND;TZID=America/Phoenix:20250619T110000
DTSTAMP:20260419T082011
CREATED:20230731T045009Z
LAST-MODIFIED:20251010T180919Z
UID:10004334-1750327200-1750330800@victorylutheran.com
SUMMARY:Prayer Group
DESCRIPTION:We are a community dedicated to the power of prayer and supporting one another in our spiritual journeys. Together\, we gather in fellowship to seek God’s guidance\, intercede for the needs of our congregation and beyond. Whether you’re new to faith or a seasoned believer\, our prayer group offers a safe space for heartfelt conversations with God and the opportunity to grow in faith. Join us as we seek God’s presence and experience the transformative power of prayer.
URL:https://victorylutheran.com/event/prayer-group/2025-06-19/
CATEGORIES:Group Time
ATTACH;FMTTYPE=image/png:https://victorylutheran.com/wp-content/uploads/2023/06/prayer-ministry.png
END:VEVENT
END:VCALENDAR