BEGIN:VCALENDAR
VERSION:2.0
PRODID:-//Victory Lutheran Church - ECPv6.15.11//NONSGML v1.0//EN
CALSCALE:GREGORIAN
METHOD:PUBLISH
X-WR-CALNAME:Victory Lutheran Church
X-ORIGINAL-URL:https://victorylutheran.com
X-WR-CALDESC:Events for Victory Lutheran Church
REFRESH-INTERVAL;VALUE=DURATION:PT1H
X-Robots-Tag:noindex
X-PUBLISHED-TTL:PT1H
BEGIN:VTIMEZONE
TZID:America/Phoenix
BEGIN:STANDARD
TZOFFSETFROM:-0700
TZOFFSETTO:-0700
TZNAME:MST
DTSTART:20240101T000000
END:STANDARD
END:VTIMEZONE
BEGIN:VEVENT
DTSTART;TZID=America/Phoenix:20250604T133000
DTEND;TZID=America/Phoenix:20250604T150000
DTSTAMP:20260419T130058
CREATED:20231230T201101Z
LAST-MODIFIED:20231230T201112Z
UID:10005365-1749043800-1749049200@victorylutheran.com
SUMMARY:Women's Bible Study
DESCRIPTION:We gather each Wednesday at 1:30pm to learn and discuss God’s Word. Open to all women.
URL:https://victorylutheran.com/event/womens-bible-study/2025-06-04/
CATEGORIES:Group Time
ATTACH;FMTTYPE=image/jpeg:https://victorylutheran.com/wp-content/uploads/2023/12/Bible-with-flower.jpg
END:VEVENT
BEGIN:VEVENT
DTSTART;TZID=America/Phoenix:20250602T123000
DTEND;TZID=America/Phoenix:20250602T143000
DTSTAMP:20260419T130058
CREATED:20250403T223343Z
LAST-MODIFIED:20250403T223551Z
UID:10008488-1748867400-1748874600@victorylutheran.com
SUMMARY:GriefShare
DESCRIPTION:13-week Program\n\n\n\n\n\nMondays\, 12:30-2:30pm (We will not meet May 26\, Memorial Day) \n\n\n\n\n\nA program for help in your journey through grief after the death of a spouse\, child\, family member or friend. GriefShare is a special 13-week seminar and support group designed to help you rebuild your life after losing a loved one. Our group is led by caring people who have experienced grief and desire to help you through the difficult days ahead. We know it hurts and we want to help. Some of the topics covered include: \n\n\n\n\nIs This Normal? • Why Am I Stuck?\n\n\n\nGrief and Relationships • Guilt & Anger\n\n\n\nWhy has this Happened? • And What Do I Live for Now?\n\n\n\nThe Challenges of Grief • Complicating FactorsVideo presentation and discussion. While it’s ideal for members to attend all 13 sessions\, each weekly session is designed to be “open\,” meaning a person can begin attending at any time. There is comfort\, answers\, and hope in every session! Consider a single session to learn about the program.If you would like more information you can find more info about GriefShare on their website at griefshare.org or you may contact our office at 480-830-5024.
URL:https://victorylutheran.com/event/griefshare-4/2025-06-02/
CATEGORIES:Group Time
ATTACH;FMTTYPE=image/jpeg:https://victorylutheran.com/wp-content/uploads/2023/07/grief-share-slide.jpg
END:VEVENT
BEGIN:VEVENT
DTSTART;TZID=America/Phoenix:20250529T100000
DTEND;TZID=America/Phoenix:20250529T110000
DTSTAMP:20260419T130058
CREATED:20230731T045009Z
LAST-MODIFIED:20251010T180919Z
UID:10004331-1748512800-1748516400@victorylutheran.com
SUMMARY:Prayer Group
DESCRIPTION:We are a community dedicated to the power of prayer and supporting one another in our spiritual journeys. Together\, we gather in fellowship to seek God’s guidance\, intercede for the needs of our congregation and beyond. Whether you’re new to faith or a seasoned believer\, our prayer group offers a safe space for heartfelt conversations with God and the opportunity to grow in faith. Join us as we seek God’s presence and experience the transformative power of prayer.
URL:https://victorylutheran.com/event/prayer-group/2025-05-29/
CATEGORIES:Group Time
ATTACH;FMTTYPE=image/png:https://victorylutheran.com/wp-content/uploads/2023/06/prayer-ministry.png
END:VEVENT
BEGIN:VEVENT
DTSTART;TZID=America/Phoenix:20250528T133000
DTEND;TZID=America/Phoenix:20250528T150000
DTSTAMP:20260419T130058
CREATED:20231230T201101Z
LAST-MODIFIED:20231230T201112Z
UID:10005364-1748439000-1748444400@victorylutheran.com
SUMMARY:Women's Bible Study
DESCRIPTION:We gather each Wednesday at 1:30pm to learn and discuss God’s Word. Open to all women.
URL:https://victorylutheran.com/event/womens-bible-study/2025-05-28/
CATEGORIES:Group Time
ATTACH;FMTTYPE=image/jpeg:https://victorylutheran.com/wp-content/uploads/2023/12/Bible-with-flower.jpg
END:VEVENT
BEGIN:VEVENT
DTSTART;TZID=America/Phoenix:20250527T160000
DTEND;TZID=America/Phoenix:20250527T173000
DTSTAMP:20260419T130058
CREATED:20240822T234520Z
LAST-MODIFIED:20241105T204816Z
UID:10007048-1748361600-1748367000@victorylutheran.com
SUMMARY:Confirmation Class
DESCRIPTION:Our FREE Confirmation program is a three-year in-depth study of the scriptures and Luther’s Small Catechism. This program aims to provide a strong Christian foundation for youth\, emphasizing the sacraments\, commandments\, and foundational Christian beliefs. It starts on September 10 and classes will be held every Tuesday from 4-5:30pm.
URL:https://victorylutheran.com/event/confirmation-class/2025-05-27/
CATEGORIES:Group Time
ATTACH;FMTTYPE=image/jpeg:https://victorylutheran.com/wp-content/uploads/2024/08/confirmation-slide_rev.jpeg
END:VEVENT
BEGIN:VEVENT
DTSTART;TZID=America/Phoenix:20250522T100000
DTEND;TZID=America/Phoenix:20250522T110000
DTSTAMP:20260419T130058
CREATED:20230731T045009Z
LAST-MODIFIED:20251010T180919Z
UID:10004330-1747908000-1747911600@victorylutheran.com
SUMMARY:Prayer Group
DESCRIPTION:We are a community dedicated to the power of prayer and supporting one another in our spiritual journeys. Together\, we gather in fellowship to seek God’s guidance\, intercede for the needs of our congregation and beyond. Whether you’re new to faith or a seasoned believer\, our prayer group offers a safe space for heartfelt conversations with God and the opportunity to grow in faith. Join us as we seek God’s presence and experience the transformative power of prayer.
URL:https://victorylutheran.com/event/prayer-group/2025-05-22/
CATEGORIES:Group Time
ATTACH;FMTTYPE=image/png:https://victorylutheran.com/wp-content/uploads/2023/06/prayer-ministry.png
END:VEVENT
BEGIN:VEVENT
DTSTART;TZID=America/Phoenix:20250521T133000
DTEND;TZID=America/Phoenix:20250521T150000
DTSTAMP:20260419T130058
CREATED:20231230T201101Z
LAST-MODIFIED:20231230T201112Z
UID:10005363-1747834200-1747839600@victorylutheran.com
SUMMARY:Women's Bible Study
DESCRIPTION:We gather each Wednesday at 1:30pm to learn and discuss God’s Word. Open to all women.
URL:https://victorylutheran.com/event/womens-bible-study/2025-05-21/
CATEGORIES:Group Time
ATTACH;FMTTYPE=image/jpeg:https://victorylutheran.com/wp-content/uploads/2023/12/Bible-with-flower.jpg
END:VEVENT
BEGIN:VEVENT
DTSTART;TZID=America/Phoenix:20250520T160000
DTEND;TZID=America/Phoenix:20250520T173000
DTSTAMP:20260419T130058
CREATED:20240822T234520Z
LAST-MODIFIED:20241105T204816Z
UID:10007047-1747756800-1747762200@victorylutheran.com
SUMMARY:Confirmation Class
DESCRIPTION:Our FREE Confirmation program is a three-year in-depth study of the scriptures and Luther’s Small Catechism. This program aims to provide a strong Christian foundation for youth\, emphasizing the sacraments\, commandments\, and foundational Christian beliefs. It starts on September 10 and classes will be held every Tuesday from 4-5:30pm.
URL:https://victorylutheran.com/event/confirmation-class/2025-05-20/
CATEGORIES:Group Time
ATTACH;FMTTYPE=image/jpeg:https://victorylutheran.com/wp-content/uploads/2024/08/confirmation-slide_rev.jpeg
END:VEVENT
BEGIN:VEVENT
DTSTART;TZID=America/Phoenix:20250519T123000
DTEND;TZID=America/Phoenix:20250519T143000
DTSTAMP:20260419T130058
CREATED:20250403T223343Z
LAST-MODIFIED:20250403T223551Z
UID:10008487-1747657800-1747665000@victorylutheran.com
SUMMARY:GriefShare
DESCRIPTION:13-week Program\n\n\n\n\n\nMondays\, 12:30-2:30pm (We will not meet May 26\, Memorial Day) \n\n\n\n\n\nA program for help in your journey through grief after the death of a spouse\, child\, family member or friend. GriefShare is a special 13-week seminar and support group designed to help you rebuild your life after losing a loved one. Our group is led by caring people who have experienced grief and desire to help you through the difficult days ahead. We know it hurts and we want to help. Some of the topics covered include: \n\n\n\n\nIs This Normal? • Why Am I Stuck?\n\n\n\nGrief and Relationships • Guilt & Anger\n\n\n\nWhy has this Happened? • And What Do I Live for Now?\n\n\n\nThe Challenges of Grief • Complicating FactorsVideo presentation and discussion. While it’s ideal for members to attend all 13 sessions\, each weekly session is designed to be “open\,” meaning a person can begin attending at any time. There is comfort\, answers\, and hope in every session! Consider a single session to learn about the program.If you would like more information you can find more info about GriefShare on their website at griefshare.org or you may contact our office at 480-830-5024.
URL:https://victorylutheran.com/event/griefshare-4/2025-05-19/
CATEGORIES:Group Time
ATTACH;FMTTYPE=image/jpeg:https://victorylutheran.com/wp-content/uploads/2023/07/grief-share-slide.jpg
END:VEVENT
BEGIN:VEVENT
DTSTART;TZID=America/Phoenix:20250515T100000
DTEND;TZID=America/Phoenix:20250515T110000
DTSTAMP:20260419T130058
CREATED:20230731T045009Z
LAST-MODIFIED:20251010T180919Z
UID:10004329-1747303200-1747306800@victorylutheran.com
SUMMARY:Prayer Group
DESCRIPTION:We are a community dedicated to the power of prayer and supporting one another in our spiritual journeys. Together\, we gather in fellowship to seek God’s guidance\, intercede for the needs of our congregation and beyond. Whether you’re new to faith or a seasoned believer\, our prayer group offers a safe space for heartfelt conversations with God and the opportunity to grow in faith. Join us as we seek God’s presence and experience the transformative power of prayer.
URL:https://victorylutheran.com/event/prayer-group/2025-05-15/
CATEGORIES:Group Time
ATTACH;FMTTYPE=image/png:https://victorylutheran.com/wp-content/uploads/2023/06/prayer-ministry.png
END:VEVENT
BEGIN:VEVENT
DTSTART;TZID=America/Phoenix:20250514T133000
DTEND;TZID=America/Phoenix:20250514T150000
DTSTAMP:20260419T130058
CREATED:20231230T201101Z
LAST-MODIFIED:20231230T201112Z
UID:10005362-1747229400-1747234800@victorylutheran.com
SUMMARY:Women's Bible Study
DESCRIPTION:We gather each Wednesday at 1:30pm to learn and discuss God’s Word. Open to all women.
URL:https://victorylutheran.com/event/womens-bible-study/2025-05-14/
CATEGORIES:Group Time
ATTACH;FMTTYPE=image/jpeg:https://victorylutheran.com/wp-content/uploads/2023/12/Bible-with-flower.jpg
END:VEVENT
BEGIN:VEVENT
DTSTART;TZID=America/Phoenix:20250513T160000
DTEND;TZID=America/Phoenix:20250513T173000
DTSTAMP:20260419T130058
CREATED:20240822T234520Z
LAST-MODIFIED:20241105T204816Z
UID:10007046-1747152000-1747157400@victorylutheran.com
SUMMARY:Confirmation Class
DESCRIPTION:Our FREE Confirmation program is a three-year in-depth study of the scriptures and Luther’s Small Catechism. This program aims to provide a strong Christian foundation for youth\, emphasizing the sacraments\, commandments\, and foundational Christian beliefs. It starts on September 10 and classes will be held every Tuesday from 4-5:30pm.
URL:https://victorylutheran.com/event/confirmation-class/2025-05-13/
CATEGORIES:Group Time
ATTACH;FMTTYPE=image/jpeg:https://victorylutheran.com/wp-content/uploads/2024/08/confirmation-slide_rev.jpeg
END:VEVENT
BEGIN:VEVENT
DTSTART;TZID=America/Phoenix:20250512T123000
DTEND;TZID=America/Phoenix:20250512T143000
DTSTAMP:20260419T130058
CREATED:20250403T223343Z
LAST-MODIFIED:20250403T223551Z
UID:10008486-1747053000-1747060200@victorylutheran.com
SUMMARY:GriefShare
DESCRIPTION:13-week Program\n\n\n\n\n\nMondays\, 12:30-2:30pm (We will not meet May 26\, Memorial Day) \n\n\n\n\n\nA program for help in your journey through grief after the death of a spouse\, child\, family member or friend. GriefShare is a special 13-week seminar and support group designed to help you rebuild your life after losing a loved one. Our group is led by caring people who have experienced grief and desire to help you through the difficult days ahead. We know it hurts and we want to help. Some of the topics covered include: \n\n\n\n\nIs This Normal? • Why Am I Stuck?\n\n\n\nGrief and Relationships • Guilt & Anger\n\n\n\nWhy has this Happened? • And What Do I Live for Now?\n\n\n\nThe Challenges of Grief • Complicating FactorsVideo presentation and discussion. While it’s ideal for members to attend all 13 sessions\, each weekly session is designed to be “open\,” meaning a person can begin attending at any time. There is comfort\, answers\, and hope in every session! Consider a single session to learn about the program.If you would like more information you can find more info about GriefShare on their website at griefshare.org or you may contact our office at 480-830-5024.
URL:https://victorylutheran.com/event/griefshare-4/2025-05-12/
CATEGORIES:Group Time
ATTACH;FMTTYPE=image/jpeg:https://victorylutheran.com/wp-content/uploads/2023/07/grief-share-slide.jpg
END:VEVENT
BEGIN:VEVENT
DTSTART;TZID=America/Phoenix:20250508T100000
DTEND;TZID=America/Phoenix:20250508T110000
DTSTAMP:20260419T130058
CREATED:20230731T045009Z
LAST-MODIFIED:20251010T180919Z
UID:10004328-1746698400-1746702000@victorylutheran.com
SUMMARY:Prayer Group
DESCRIPTION:We are a community dedicated to the power of prayer and supporting one another in our spiritual journeys. Together\, we gather in fellowship to seek God’s guidance\, intercede for the needs of our congregation and beyond. Whether you’re new to faith or a seasoned believer\, our prayer group offers a safe space for heartfelt conversations with God and the opportunity to grow in faith. Join us as we seek God’s presence and experience the transformative power of prayer.
URL:https://victorylutheran.com/event/prayer-group/2025-05-08/
CATEGORIES:Group Time
ATTACH;FMTTYPE=image/png:https://victorylutheran.com/wp-content/uploads/2023/06/prayer-ministry.png
END:VEVENT
BEGIN:VEVENT
DTSTART;TZID=America/Phoenix:20250507T133000
DTEND;TZID=America/Phoenix:20250507T150000
DTSTAMP:20260419T130058
CREATED:20231230T201101Z
LAST-MODIFIED:20231230T201112Z
UID:10005361-1746624600-1746630000@victorylutheran.com
SUMMARY:Women's Bible Study
DESCRIPTION:We gather each Wednesday at 1:30pm to learn and discuss God’s Word. Open to all women.
URL:https://victorylutheran.com/event/womens-bible-study/2025-05-07/
CATEGORIES:Group Time
ATTACH;FMTTYPE=image/jpeg:https://victorylutheran.com/wp-content/uploads/2023/12/Bible-with-flower.jpg
END:VEVENT
BEGIN:VEVENT
DTSTART;TZID=America/Phoenix:20250506T160000
DTEND;TZID=America/Phoenix:20250506T173000
DTSTAMP:20260419T130058
CREATED:20240822T234520Z
LAST-MODIFIED:20241105T204816Z
UID:10007045-1746547200-1746552600@victorylutheran.com
SUMMARY:Confirmation Class
DESCRIPTION:Our FREE Confirmation program is a three-year in-depth study of the scriptures and Luther’s Small Catechism. This program aims to provide a strong Christian foundation for youth\, emphasizing the sacraments\, commandments\, and foundational Christian beliefs. It starts on September 10 and classes will be held every Tuesday from 4-5:30pm.
URL:https://victorylutheran.com/event/confirmation-class/2025-05-06/
CATEGORIES:Group Time
ATTACH;FMTTYPE=image/jpeg:https://victorylutheran.com/wp-content/uploads/2024/08/confirmation-slide_rev.jpeg
END:VEVENT
BEGIN:VEVENT
DTSTART;TZID=America/Phoenix:20250505T123000
DTEND;TZID=America/Phoenix:20250505T143000
DTSTAMP:20260419T130058
CREATED:20250403T223343Z
LAST-MODIFIED:20250403T223551Z
UID:10008485-1746448200-1746455400@victorylutheran.com
SUMMARY:GriefShare
DESCRIPTION:13-week Program\n\n\n\n\n\nMondays\, 12:30-2:30pm (We will not meet May 26\, Memorial Day) \n\n\n\n\n\nA program for help in your journey through grief after the death of a spouse\, child\, family member or friend. GriefShare is a special 13-week seminar and support group designed to help you rebuild your life after losing a loved one. Our group is led by caring people who have experienced grief and desire to help you through the difficult days ahead. We know it hurts and we want to help. Some of the topics covered include: \n\n\n\n\nIs This Normal? • Why Am I Stuck?\n\n\n\nGrief and Relationships • Guilt & Anger\n\n\n\nWhy has this Happened? • And What Do I Live for Now?\n\n\n\nThe Challenges of Grief • Complicating FactorsVideo presentation and discussion. While it’s ideal for members to attend all 13 sessions\, each weekly session is designed to be “open\,” meaning a person can begin attending at any time. There is comfort\, answers\, and hope in every session! Consider a single session to learn about the program.If you would like more information you can find more info about GriefShare on their website at griefshare.org or you may contact our office at 480-830-5024.
URL:https://victorylutheran.com/event/griefshare-4/2025-05-05/
CATEGORIES:Group Time
ATTACH;FMTTYPE=image/jpeg:https://victorylutheran.com/wp-content/uploads/2023/07/grief-share-slide.jpg
END:VEVENT
BEGIN:VEVENT
DTSTART;TZID=America/Phoenix:20250501T100000
DTEND;TZID=America/Phoenix:20250501T110000
DTSTAMP:20260419T130058
CREATED:20230731T045009Z
LAST-MODIFIED:20251010T180919Z
UID:10009949-1746093600-1746097200@victorylutheran.com
SUMMARY:Prayer Group
DESCRIPTION:We are a community dedicated to the power of prayer and supporting one another in our spiritual journeys. Together\, we gather in fellowship to seek God’s guidance\, intercede for the needs of our congregation and beyond. Whether you’re new to faith or a seasoned believer\, our prayer group offers a safe space for heartfelt conversations with God and the opportunity to grow in faith. Join us as we seek God’s presence and experience the transformative power of prayer.
URL:https://victorylutheran.com/event/prayer-group/2025-05-01/
CATEGORIES:Group Time
ATTACH;FMTTYPE=image/png:https://victorylutheran.com/wp-content/uploads/2023/06/prayer-ministry.png
END:VEVENT
BEGIN:VEVENT
DTSTART;TZID=America/Phoenix:20250430T133000
DTEND;TZID=America/Phoenix:20250430T150000
DTSTAMP:20260419T130058
CREATED:20231230T201101Z
LAST-MODIFIED:20231230T201112Z
UID:10005360-1746019800-1746025200@victorylutheran.com
SUMMARY:Women's Bible Study
DESCRIPTION:We gather each Wednesday at 1:30pm to learn and discuss God’s Word. Open to all women.
URL:https://victorylutheran.com/event/womens-bible-study/2025-04-30/
CATEGORIES:Group Time
ATTACH;FMTTYPE=image/jpeg:https://victorylutheran.com/wp-content/uploads/2023/12/Bible-with-flower.jpg
END:VEVENT
BEGIN:VEVENT
DTSTART;TZID=America/Phoenix:20250429T160000
DTEND;TZID=America/Phoenix:20250429T173000
DTSTAMP:20260419T130058
CREATED:20240822T234520Z
LAST-MODIFIED:20241105T204816Z
UID:10007044-1745942400-1745947800@victorylutheran.com
SUMMARY:Confirmation Class
DESCRIPTION:Our FREE Confirmation program is a three-year in-depth study of the scriptures and Luther’s Small Catechism. This program aims to provide a strong Christian foundation for youth\, emphasizing the sacraments\, commandments\, and foundational Christian beliefs. It starts on September 10 and classes will be held every Tuesday from 4-5:30pm.
URL:https://victorylutheran.com/event/confirmation-class/2025-04-29/
CATEGORIES:Group Time
ATTACH;FMTTYPE=image/jpeg:https://victorylutheran.com/wp-content/uploads/2024/08/confirmation-slide_rev.jpeg
END:VEVENT
BEGIN:VEVENT
DTSTART;TZID=America/Phoenix:20250428T123000
DTEND;TZID=America/Phoenix:20250428T143000
DTSTAMP:20260419T130058
CREATED:20250403T223343Z
LAST-MODIFIED:20250403T223551Z
UID:10008483-1745843400-1745850600@victorylutheran.com
SUMMARY:GriefShare
DESCRIPTION:13-week Program\n\n\n\n\n\nMondays\, 12:30-2:30pm (We will not meet May 26\, Memorial Day) \n\n\n\n\n\nA program for help in your journey through grief after the death of a spouse\, child\, family member or friend. GriefShare is a special 13-week seminar and support group designed to help you rebuild your life after losing a loved one. Our group is led by caring people who have experienced grief and desire to help you through the difficult days ahead. We know it hurts and we want to help. Some of the topics covered include: \n\n\n\n\nIs This Normal? • Why Am I Stuck?\n\n\n\nGrief and Relationships • Guilt & Anger\n\n\n\nWhy has this Happened? • And What Do I Live for Now?\n\n\n\nThe Challenges of Grief • Complicating FactorsVideo presentation and discussion. While it’s ideal for members to attend all 13 sessions\, each weekly session is designed to be “open\,” meaning a person can begin attending at any time. There is comfort\, answers\, and hope in every session! Consider a single session to learn about the program.If you would like more information you can find more info about GriefShare on their website at griefshare.org or you may contact our office at 480-830-5024.
URL:https://victorylutheran.com/event/griefshare-4/2025-04-28/
CATEGORIES:Group Time
ATTACH;FMTTYPE=image/jpeg:https://victorylutheran.com/wp-content/uploads/2023/07/grief-share-slide.jpg
END:VEVENT
BEGIN:VEVENT
DTSTART;TZID=America/Phoenix:20250424T100000
DTEND;TZID=America/Phoenix:20250424T110000
DTSTAMP:20260419T130058
CREATED:20230731T045009Z
LAST-MODIFIED:20251010T180919Z
UID:10004326-1745488800-1745492400@victorylutheran.com
SUMMARY:Prayer Group
DESCRIPTION:We are a community dedicated to the power of prayer and supporting one another in our spiritual journeys. Together\, we gather in fellowship to seek God’s guidance\, intercede for the needs of our congregation and beyond. Whether you’re new to faith or a seasoned believer\, our prayer group offers a safe space for heartfelt conversations with God and the opportunity to grow in faith. Join us as we seek God’s presence and experience the transformative power of prayer.
URL:https://victorylutheran.com/event/prayer-group/2025-04-24/
CATEGORIES:Group Time
ATTACH;FMTTYPE=image/png:https://victorylutheran.com/wp-content/uploads/2023/06/prayer-ministry.png
END:VEVENT
BEGIN:VEVENT
DTSTART;TZID=America/Phoenix:20250423T133000
DTEND;TZID=America/Phoenix:20250423T150000
DTSTAMP:20260419T130058
CREATED:20231230T201101Z
LAST-MODIFIED:20231230T201112Z
UID:10005359-1745415000-1745420400@victorylutheran.com
SUMMARY:Women's Bible Study
DESCRIPTION:We gather each Wednesday at 1:30pm to learn and discuss God’s Word. Open to all women.
URL:https://victorylutheran.com/event/womens-bible-study/2025-04-23/
CATEGORIES:Group Time
ATTACH;FMTTYPE=image/jpeg:https://victorylutheran.com/wp-content/uploads/2023/12/Bible-with-flower.jpg
END:VEVENT
BEGIN:VEVENT
DTSTART;TZID=America/Phoenix:20250422T160000
DTEND;TZID=America/Phoenix:20250422T173000
DTSTAMP:20260419T130058
CREATED:20240822T234520Z
LAST-MODIFIED:20241105T204816Z
UID:10007043-1745337600-1745343000@victorylutheran.com
SUMMARY:Confirmation Class
DESCRIPTION:Our FREE Confirmation program is a three-year in-depth study of the scriptures and Luther’s Small Catechism. This program aims to provide a strong Christian foundation for youth\, emphasizing the sacraments\, commandments\, and foundational Christian beliefs. It starts on September 10 and classes will be held every Tuesday from 4-5:30pm.
URL:https://victorylutheran.com/event/confirmation-class/2025-04-22/
CATEGORIES:Group Time
ATTACH;FMTTYPE=image/jpeg:https://victorylutheran.com/wp-content/uploads/2024/08/confirmation-slide_rev.jpeg
END:VEVENT
BEGIN:VEVENT
DTSTART;TZID=America/Phoenix:20250417T100000
DTEND;TZID=America/Phoenix:20250417T110000
DTSTAMP:20260419T130058
CREATED:20230731T045009Z
LAST-MODIFIED:20251010T180919Z
UID:10004325-1744884000-1744887600@victorylutheran.com
SUMMARY:Prayer Group
DESCRIPTION:We are a community dedicated to the power of prayer and supporting one another in our spiritual journeys. Together\, we gather in fellowship to seek God’s guidance\, intercede for the needs of our congregation and beyond. Whether you’re new to faith or a seasoned believer\, our prayer group offers a safe space for heartfelt conversations with God and the opportunity to grow in faith. Join us as we seek God’s presence and experience the transformative power of prayer.
URL:https://victorylutheran.com/event/prayer-group/2025-04-17/
CATEGORIES:Group Time
ATTACH;FMTTYPE=image/png:https://victorylutheran.com/wp-content/uploads/2023/06/prayer-ministry.png
END:VEVENT
BEGIN:VEVENT
DTSTART;TZID=America/Phoenix:20250416T133000
DTEND;TZID=America/Phoenix:20250416T150000
DTSTAMP:20260419T130058
CREATED:20231230T201101Z
LAST-MODIFIED:20231230T201112Z
UID:10005358-1744810200-1744815600@victorylutheran.com
SUMMARY:Women's Bible Study
DESCRIPTION:We gather each Wednesday at 1:30pm to learn and discuss God’s Word. Open to all women.
URL:https://victorylutheran.com/event/womens-bible-study/2025-04-16/
CATEGORIES:Group Time
ATTACH;FMTTYPE=image/jpeg:https://victorylutheran.com/wp-content/uploads/2023/12/Bible-with-flower.jpg
END:VEVENT
BEGIN:VEVENT
DTSTART;TZID=America/Phoenix:20250415T160000
DTEND;TZID=America/Phoenix:20250415T173000
DTSTAMP:20260419T130058
CREATED:20240822T234520Z
LAST-MODIFIED:20241105T204816Z
UID:10007042-1744732800-1744738200@victorylutheran.com
SUMMARY:Confirmation Class
DESCRIPTION:Our FREE Confirmation program is a three-year in-depth study of the scriptures and Luther’s Small Catechism. This program aims to provide a strong Christian foundation for youth\, emphasizing the sacraments\, commandments\, and foundational Christian beliefs. It starts on September 10 and classes will be held every Tuesday from 4-5:30pm.
URL:https://victorylutheran.com/event/confirmation-class/2025-04-15/
CATEGORIES:Group Time
ATTACH;FMTTYPE=image/jpeg:https://victorylutheran.com/wp-content/uploads/2024/08/confirmation-slide_rev.jpeg
END:VEVENT
BEGIN:VEVENT
DTSTART;TZID=America/Phoenix:20250413T121500
DTEND;TZID=America/Phoenix:20250413T134500
DTSTAMP:20260419T130058
CREATED:20250403T221323Z
LAST-MODIFIED:20250403T221350Z
UID:10008481-1744546500-1744551900@victorylutheran.com
SUMMARY:First Holy Communion
DESCRIPTION:Attention all children 7 years and up who have not received their First Communion! On April 13th we will meet in room B7 for First Communion training for all children 7 years and up along with their parents. Our First Communion will be held on Thursday\, April 17 during our Maundy Thursday service at 6:00pm. \n\n\n\nDuring the class we will explain the Last Supper\, Jesus’ death and resurrection\, and the Meaning of Communion. The Lord’s Supper gives us the promise through the earthly elements of bread and wine that our sins are forgiven. We are the passive recipients of God’s forgiveness. We do nothing to deserve this. It’s Christ’s words that through His body and blood our sins are forgiven\, that makes it so. Our faith and our conduct have nothing to do with the efficacy of the sacrament.  \n\n\n\nSign up at the Welcome Desk or email Renee Bennett at rbennett@victorylutheran.com.
URL:https://victorylutheran.com/event/first-holy-communion/
CATEGORIES:Group Time
ATTACH;FMTTYPE=image/jpeg:https://victorylutheran.com/wp-content/uploads/2025/04/First-Communion-Invitation-1920-x-1080-px.jpg
END:VEVENT
BEGIN:VEVENT
DTSTART;TZID=America/Phoenix:20250410T100000
DTEND;TZID=America/Phoenix:20250410T110000
DTSTAMP:20260419T130058
CREATED:20230731T045009Z
LAST-MODIFIED:20251010T180919Z
UID:10004324-1744279200-1744282800@victorylutheran.com
SUMMARY:Prayer Group
DESCRIPTION:We are a community dedicated to the power of prayer and supporting one another in our spiritual journeys. Together\, we gather in fellowship to seek God’s guidance\, intercede for the needs of our congregation and beyond. Whether you’re new to faith or a seasoned believer\, our prayer group offers a safe space for heartfelt conversations with God and the opportunity to grow in faith. Join us as we seek God’s presence and experience the transformative power of prayer.
URL:https://victorylutheran.com/event/prayer-group/2025-04-10/
CATEGORIES:Group Time
ATTACH;FMTTYPE=image/png:https://victorylutheran.com/wp-content/uploads/2023/06/prayer-ministry.png
END:VEVENT
BEGIN:VEVENT
DTSTART;TZID=America/Phoenix:20250409T133000
DTEND;TZID=America/Phoenix:20250409T150000
DTSTAMP:20260419T130058
CREATED:20231230T201101Z
LAST-MODIFIED:20231230T201112Z
UID:10005357-1744205400-1744210800@victorylutheran.com
SUMMARY:Women's Bible Study
DESCRIPTION:We gather each Wednesday at 1:30pm to learn and discuss God’s Word. Open to all women.
URL:https://victorylutheran.com/event/womens-bible-study/2025-04-09/
CATEGORIES:Group Time
ATTACH;FMTTYPE=image/jpeg:https://victorylutheran.com/wp-content/uploads/2023/12/Bible-with-flower.jpg
END:VEVENT
END:VCALENDAR