BEGIN:VCALENDAR
VERSION:2.0
PRODID:-//Victory Lutheran Church - ECPv6.15.11//NONSGML v1.0//EN
CALSCALE:GREGORIAN
METHOD:PUBLISH
X-WR-CALNAME:Victory Lutheran Church
X-ORIGINAL-URL:https://victorylutheran.com
X-WR-CALDESC:Events for Victory Lutheran Church
REFRESH-INTERVAL;VALUE=DURATION:PT1H
X-Robots-Tag:noindex
X-PUBLISHED-TTL:PT1H
BEGIN:VTIMEZONE
TZID:America/Phoenix
BEGIN:STANDARD
TZOFFSETFROM:-0700
TZOFFSETTO:-0700
TZNAME:MST
DTSTART:20230101T000000
END:STANDARD
END:VTIMEZONE
BEGIN:VEVENT
DTSTART;TZID=America/Phoenix:20241031T100000
DTEND;TZID=America/Phoenix:20241031T110000
DTSTAMP:20260421T182307
CREATED:20230731T045009Z
LAST-MODIFIED:20251010T180919Z
UID:10004301-1730368800-1730372400@victorylutheran.com
SUMMARY:Prayer Group
DESCRIPTION:We are a community dedicated to the power of prayer and supporting one another in our spiritual journeys. Together\, we gather in fellowship to seek God’s guidance\, intercede for the needs of our congregation and beyond. Whether you’re new to faith or a seasoned believer\, our prayer group offers a safe space for heartfelt conversations with God and the opportunity to grow in faith. Join us as we seek God’s presence and experience the transformative power of prayer.
URL:https://victorylutheran.com/event/prayer-group/2024-10-31/
CATEGORIES:Group Time
ATTACH;FMTTYPE=image/png:https://victorylutheran.com/wp-content/uploads/2023/06/prayer-ministry.png
END:VEVENT
BEGIN:VEVENT
DTSTART;TZID=America/Phoenix:20241030T133000
DTEND;TZID=America/Phoenix:20241030T150000
DTSTAMP:20260421T182307
CREATED:20231230T201101Z
LAST-MODIFIED:20231230T201112Z
UID:10005334-1730295000-1730300400@victorylutheran.com
SUMMARY:Women's Bible Study
DESCRIPTION:We gather each Wednesday at 1:30pm to learn and discuss God’s Word. Open to all women.
URL:https://victorylutheran.com/event/womens-bible-study/2024-10-30/
CATEGORIES:Group Time
ATTACH;FMTTYPE=image/jpeg:https://victorylutheran.com/wp-content/uploads/2023/12/Bible-with-flower.jpg
END:VEVENT
BEGIN:VEVENT
DTSTART;TZID=America/Phoenix:20241029T160000
DTEND;TZID=America/Phoenix:20241029T173000
DTSTAMP:20260421T182307
CREATED:20240822T234520Z
LAST-MODIFIED:20241105T204816Z
UID:10007018-1730217600-1730223000@victorylutheran.com
SUMMARY:Confirmation Class
DESCRIPTION:Our FREE Confirmation program is a three-year in-depth study of the scriptures and Luther’s Small Catechism. This program aims to provide a strong Christian foundation for youth\, emphasizing the sacraments\, commandments\, and foundational Christian beliefs. It starts on September 10 and classes will be held every Tuesday from 4-5:30pm.
URL:https://victorylutheran.com/event/confirmation-class/2024-10-29/
CATEGORIES:Group Time
ATTACH;FMTTYPE=image/jpeg:https://victorylutheran.com/wp-content/uploads/2024/08/confirmation-slide_rev.jpeg
END:VEVENT
BEGIN:VEVENT
DTSTART;TZID=America/Phoenix:20241028T093000
DTEND;TZID=America/Phoenix:20241028T110000
DTSTAMP:20260421T182307
CREATED:20240928T180207Z
LAST-MODIFIED:20240928T183614Z
UID:10007983-1730107800-1730113200@victorylutheran.com
SUMMARY:Hearing God's Voice Class
DESCRIPTION:HEARING GOD’S VOICEOctober 21-November 18\, 2024Mondays @ 9:30-11:00amLed by Pastor Susan Westland \n\n\n\nOpen almost any chapter in the Bible and it will quickly become obvious that the people in the Bible knew God through hearing Him speak to them and seeing Him in their visions and dreams. God was their friend. They walked and talked with Him. What an astounding lifestyle!  \n\n\n\nIn the New Testament\, this intimacy with God continued with Jesus who told us\, “My sheep hear My voice\, I know them\, and they follow Me.” (John 10:27) What about today\, does God still talk to us the way He did in the past? What about you? Do you hear God’s voice in your prayer life or encounter Him in your dreams?  \n\n\n\nIf you have ever wondered what it sounds like to hear from Heaven and you desire such intimacy with God then you are invited to join Pastor Susan for a new 5-week Bible study class called\, “Four Keys to Hearing God’s Voice”. The study is based on the book with the same name authored by Dr. Mark Virkler.  \n\n\n\nIn this class\, Pastor Susan will help participants explore Biblically based powerful ways designed to enrich our prayer lives by helping us hear God’s voice and recognize how He is speaking to us in our everyday life.
URL:https://victorylutheran.com/event/hearing-gods-voice-class/2024-10-28/
CATEGORIES:Group Time
ATTACH;FMTTYPE=image/jpeg:https://victorylutheran.com/wp-content/uploads/2024/09/prayer-class.jpeg
END:VEVENT
BEGIN:VEVENT
DTSTART;TZID=America/Phoenix:20241024T100000
DTEND;TZID=America/Phoenix:20241024T110000
DTSTAMP:20260421T182307
CREATED:20230731T045009Z
LAST-MODIFIED:20251010T180919Z
UID:10004300-1729764000-1729767600@victorylutheran.com
SUMMARY:Prayer Group
DESCRIPTION:We are a community dedicated to the power of prayer and supporting one another in our spiritual journeys. Together\, we gather in fellowship to seek God’s guidance\, intercede for the needs of our congregation and beyond. Whether you’re new to faith or a seasoned believer\, our prayer group offers a safe space for heartfelt conversations with God and the opportunity to grow in faith. Join us as we seek God’s presence and experience the transformative power of prayer.
URL:https://victorylutheran.com/event/prayer-group/2024-10-24/
CATEGORIES:Group Time
ATTACH;FMTTYPE=image/png:https://victorylutheran.com/wp-content/uploads/2023/06/prayer-ministry.png
END:VEVENT
BEGIN:VEVENT
DTSTART;TZID=America/Phoenix:20241023T133000
DTEND;TZID=America/Phoenix:20241023T150000
DTSTAMP:20260421T182307
CREATED:20231230T201101Z
LAST-MODIFIED:20231230T201112Z
UID:10005333-1729690200-1729695600@victorylutheran.com
SUMMARY:Women's Bible Study
DESCRIPTION:We gather each Wednesday at 1:30pm to learn and discuss God’s Word. Open to all women.
URL:https://victorylutheran.com/event/womens-bible-study/2024-10-23/
CATEGORIES:Group Time
ATTACH;FMTTYPE=image/jpeg:https://victorylutheran.com/wp-content/uploads/2023/12/Bible-with-flower.jpg
END:VEVENT
BEGIN:VEVENT
DTSTART;TZID=America/Phoenix:20241022T160000
DTEND;TZID=America/Phoenix:20241022T173000
DTSTAMP:20260421T182307
CREATED:20240822T234520Z
LAST-MODIFIED:20241105T204816Z
UID:10007017-1729612800-1729618200@victorylutheran.com
SUMMARY:Confirmation Class
DESCRIPTION:Our FREE Confirmation program is a three-year in-depth study of the scriptures and Luther’s Small Catechism. This program aims to provide a strong Christian foundation for youth\, emphasizing the sacraments\, commandments\, and foundational Christian beliefs. It starts on September 10 and classes will be held every Tuesday from 4-5:30pm.
URL:https://victorylutheran.com/event/confirmation-class/2024-10-22/
CATEGORIES:Group Time
ATTACH;FMTTYPE=image/jpeg:https://victorylutheran.com/wp-content/uploads/2024/08/confirmation-slide_rev.jpeg
END:VEVENT
BEGIN:VEVENT
DTSTART;TZID=America/Phoenix:20241022T133000
DTEND;TZID=America/Phoenix:20241022T150000
DTSTAMP:20260421T182307
CREATED:20241107T010530Z
LAST-MODIFIED:20241107T010531Z
UID:10004905-1729603800-1729609200@victorylutheran.com
SUMMARY:Monthly Book Club
DESCRIPTION:Do you love to read books? The Book Club meets monthly on the 4th Tuesday. Please come prepared to discuss the monthly book selection. \n\n\n\nMONTHLY BOOK SCHEDULE:\n\n\n\nOctober 22\, 2024 “The Joy of Christian Life” by Rev. Luther Lerseth\, Rev. Peder Lerseth \n\n\n\nNovember 26\, 2024 “The Great Arizona Orphan Abduction” by Linda Gordon \n\n\n\nDecember 31\, 2024 “The Prayer Box” by Lisa Wingate \n\n\n\nJanuary 28\, 2025 “The Pearl That Broke Its Shell” by Nadia Hashimi \n\n\n\nFebruary 25\, 2025 “The Book Woman’s Daughter” by Kim Michele Richardson \n\n\n\nMarch 25\, 2025 “I Am Code: An Artificial Intelligence Speaks” by code-davinci-002 \n\n\n\nApril 22\, 2025 “Saturday Night at the Lakeside Supper Club” by J. Ryan Stradal
URL:https://victorylutheran.com/event/book-club/
CATEGORIES:Group Time
ATTACH;FMTTYPE=image/jpeg:https://victorylutheran.com/wp-content/uploads/2023/09/Book-Club.jpg
END:VEVENT
BEGIN:VEVENT
DTSTART;TZID=America/Phoenix:20241021T093000
DTEND;TZID=America/Phoenix:20241021T110000
DTSTAMP:20260421T182307
CREATED:20240928T180207Z
LAST-MODIFIED:20240928T183614Z
UID:10007982-1729503000-1729508400@victorylutheran.com
SUMMARY:Hearing God's Voice Class
DESCRIPTION:HEARING GOD’S VOICEOctober 21-November 18\, 2024Mondays @ 9:30-11:00amLed by Pastor Susan Westland \n\n\n\nOpen almost any chapter in the Bible and it will quickly become obvious that the people in the Bible knew God through hearing Him speak to them and seeing Him in their visions and dreams. God was their friend. They walked and talked with Him. What an astounding lifestyle!  \n\n\n\nIn the New Testament\, this intimacy with God continued with Jesus who told us\, “My sheep hear My voice\, I know them\, and they follow Me.” (John 10:27) What about today\, does God still talk to us the way He did in the past? What about you? Do you hear God’s voice in your prayer life or encounter Him in your dreams?  \n\n\n\nIf you have ever wondered what it sounds like to hear from Heaven and you desire such intimacy with God then you are invited to join Pastor Susan for a new 5-week Bible study class called\, “Four Keys to Hearing God’s Voice”. The study is based on the book with the same name authored by Dr. Mark Virkler.  \n\n\n\nIn this class\, Pastor Susan will help participants explore Biblically based powerful ways designed to enrich our prayer lives by helping us hear God’s voice and recognize how He is speaking to us in our everyday life.
URL:https://victorylutheran.com/event/hearing-gods-voice-class/2024-10-21/
CATEGORIES:Group Time
ATTACH;FMTTYPE=image/jpeg:https://victorylutheran.com/wp-content/uploads/2024/09/prayer-class.jpeg
END:VEVENT
BEGIN:VEVENT
DTSTART;TZID=America/Phoenix:20241017T100000
DTEND;TZID=America/Phoenix:20241017T110000
DTSTAMP:20260421T182307
CREATED:20230731T045009Z
LAST-MODIFIED:20251010T180919Z
UID:10004299-1729159200-1729162800@victorylutheran.com
SUMMARY:Prayer Group
DESCRIPTION:We are a community dedicated to the power of prayer and supporting one another in our spiritual journeys. Together\, we gather in fellowship to seek God’s guidance\, intercede for the needs of our congregation and beyond. Whether you’re new to faith or a seasoned believer\, our prayer group offers a safe space for heartfelt conversations with God and the opportunity to grow in faith. Join us as we seek God’s presence and experience the transformative power of prayer.
URL:https://victorylutheran.com/event/prayer-group/2024-10-17/
CATEGORIES:Group Time
ATTACH;FMTTYPE=image/png:https://victorylutheran.com/wp-content/uploads/2023/06/prayer-ministry.png
END:VEVENT
BEGIN:VEVENT
DTSTART;TZID=America/Phoenix:20241016T133000
DTEND;TZID=America/Phoenix:20241016T150000
DTSTAMP:20260421T182307
CREATED:20231230T201101Z
LAST-MODIFIED:20231230T201112Z
UID:10005332-1729085400-1729090800@victorylutheran.com
SUMMARY:Women's Bible Study
DESCRIPTION:We gather each Wednesday at 1:30pm to learn and discuss God’s Word. Open to all women.
URL:https://victorylutheran.com/event/womens-bible-study/2024-10-16/
CATEGORIES:Group Time
ATTACH;FMTTYPE=image/jpeg:https://victorylutheran.com/wp-content/uploads/2023/12/Bible-with-flower.jpg
END:VEVENT
BEGIN:VEVENT
DTSTART;TZID=America/Phoenix:20241015T160000
DTEND;TZID=America/Phoenix:20241015T173000
DTSTAMP:20260421T182307
CREATED:20240822T234520Z
LAST-MODIFIED:20241105T204816Z
UID:10007016-1729008000-1729013400@victorylutheran.com
SUMMARY:Confirmation Class
DESCRIPTION:Our FREE Confirmation program is a three-year in-depth study of the scriptures and Luther’s Small Catechism. This program aims to provide a strong Christian foundation for youth\, emphasizing the sacraments\, commandments\, and foundational Christian beliefs. It starts on September 10 and classes will be held every Tuesday from 4-5:30pm.
URL:https://victorylutheran.com/event/confirmation-class/2024-10-15/
CATEGORIES:Group Time
ATTACH;FMTTYPE=image/jpeg:https://victorylutheran.com/wp-content/uploads/2024/08/confirmation-slide_rev.jpeg
END:VEVENT
BEGIN:VEVENT
DTSTART;TZID=America/Phoenix:20241015T130000
DTEND;TZID=America/Phoenix:20241015T143000
DTSTAMP:20260421T182307
CREATED:20240930T151132Z
LAST-MODIFIED:20241001T224943Z
UID:10007990-1728997200-1729002600@victorylutheran.com
SUMMARY:Dementia | Alzheimer Care Partner Seminar
DESCRIPTION:Victory Lutheran Church is proud to present an educational seminar series on Dementia and Alzheimer’s. If you or a loved one is suffering from Dementia or Alzheimer’s\, and you have wondered about their behavior or how to care for them then we invite you to attend these powerful seminars. Each session is a 90-minute seminar where participants will learn more about the causes of the disease\, how it progresses\, and best practices on ways to care for our loved ones as the disease progresses. \n\n\n\nIf you are interested in finding out more about Dementia or Alzheimer’s\, please plan to join us for the following seminars. Adult day care is available for anyone you bring that will be needing an activity while you attend the seminar. Please REGISTER so that we may plan appropriately for those who will attend.
URL:https://victorylutheran.com/event/dementia-alzheimer-care-partner-seminar-4/
CATEGORIES:Group Time
ATTACH;FMTTYPE=image/jpeg:https://victorylutheran.com/wp-content/uploads/2024/09/Dementia-Alzheimer-Seminar-ADS-Presentation.jpg
END:VEVENT
BEGIN:VEVENT
DTSTART;TZID=America/Phoenix:20241010T100000
DTEND;TZID=America/Phoenix:20241010T110000
DTSTAMP:20260421T182307
CREATED:20230731T045009Z
LAST-MODIFIED:20251010T180919Z
UID:10004298-1728554400-1728558000@victorylutheran.com
SUMMARY:Prayer Group
DESCRIPTION:We are a community dedicated to the power of prayer and supporting one another in our spiritual journeys. Together\, we gather in fellowship to seek God’s guidance\, intercede for the needs of our congregation and beyond. Whether you’re new to faith or a seasoned believer\, our prayer group offers a safe space for heartfelt conversations with God and the opportunity to grow in faith. Join us as we seek God’s presence and experience the transformative power of prayer.
URL:https://victorylutheran.com/event/prayer-group/2024-10-10/
CATEGORIES:Group Time
ATTACH;FMTTYPE=image/png:https://victorylutheran.com/wp-content/uploads/2023/06/prayer-ministry.png
END:VEVENT
BEGIN:VEVENT
DTSTART;TZID=America/Phoenix:20241009T133000
DTEND;TZID=America/Phoenix:20241009T150000
DTSTAMP:20260421T182307
CREATED:20231230T201101Z
LAST-MODIFIED:20231230T201112Z
UID:10005331-1728480600-1728486000@victorylutheran.com
SUMMARY:Women's Bible Study
DESCRIPTION:We gather each Wednesday at 1:30pm to learn and discuss God’s Word. Open to all women.
URL:https://victorylutheran.com/event/womens-bible-study/2024-10-09/
CATEGORIES:Group Time
ATTACH;FMTTYPE=image/jpeg:https://victorylutheran.com/wp-content/uploads/2023/12/Bible-with-flower.jpg
END:VEVENT
BEGIN:VEVENT
DTSTART;TZID=America/Phoenix:20241008T160000
DTEND;TZID=America/Phoenix:20241008T173000
DTSTAMP:20260421T182307
CREATED:20240822T234520Z
LAST-MODIFIED:20241105T204816Z
UID:10007015-1728403200-1728408600@victorylutheran.com
SUMMARY:Confirmation Class
DESCRIPTION:Our FREE Confirmation program is a three-year in-depth study of the scriptures and Luther’s Small Catechism. This program aims to provide a strong Christian foundation for youth\, emphasizing the sacraments\, commandments\, and foundational Christian beliefs. It starts on September 10 and classes will be held every Tuesday from 4-5:30pm.
URL:https://victorylutheran.com/event/confirmation-class/2024-10-08/
CATEGORIES:Group Time
ATTACH;FMTTYPE=image/jpeg:https://victorylutheran.com/wp-content/uploads/2024/08/confirmation-slide_rev.jpeg
END:VEVENT
BEGIN:VEVENT
DTSTART;TZID=America/Phoenix:20241003T100000
DTEND;TZID=America/Phoenix:20241003T110000
DTSTAMP:20260421T182307
CREATED:20230731T045009Z
LAST-MODIFIED:20251010T180919Z
UID:10009941-1727949600-1727953200@victorylutheran.com
SUMMARY:Prayer Group
DESCRIPTION:We are a community dedicated to the power of prayer and supporting one another in our spiritual journeys. Together\, we gather in fellowship to seek God’s guidance\, intercede for the needs of our congregation and beyond. Whether you’re new to faith or a seasoned believer\, our prayer group offers a safe space for heartfelt conversations with God and the opportunity to grow in faith. Join us as we seek God’s presence and experience the transformative power of prayer.
URL:https://victorylutheran.com/event/prayer-group/2024-10-03/
CATEGORIES:Group Time
ATTACH;FMTTYPE=image/png:https://victorylutheran.com/wp-content/uploads/2023/06/prayer-ministry.png
END:VEVENT
BEGIN:VEVENT
DTSTART;TZID=America/Phoenix:20241002T133000
DTEND;TZID=America/Phoenix:20241002T150000
DTSTAMP:20260421T182307
CREATED:20231230T201101Z
LAST-MODIFIED:20231230T201112Z
UID:10005330-1727875800-1727881200@victorylutheran.com
SUMMARY:Women's Bible Study
DESCRIPTION:We gather each Wednesday at 1:30pm to learn and discuss God’s Word. Open to all women.
URL:https://victorylutheran.com/event/womens-bible-study/2024-10-02/
CATEGORIES:Group Time
ATTACH;FMTTYPE=image/jpeg:https://victorylutheran.com/wp-content/uploads/2023/12/Bible-with-flower.jpg
END:VEVENT
BEGIN:VEVENT
DTSTART;TZID=America/Phoenix:20241001T160000
DTEND;TZID=America/Phoenix:20241001T173000
DTSTAMP:20260421T182307
CREATED:20240822T234520Z
LAST-MODIFIED:20241105T204816Z
UID:10007014-1727798400-1727803800@victorylutheran.com
SUMMARY:Confirmation Class
DESCRIPTION:Our FREE Confirmation program is a three-year in-depth study of the scriptures and Luther’s Small Catechism. This program aims to provide a strong Christian foundation for youth\, emphasizing the sacraments\, commandments\, and foundational Christian beliefs. It starts on September 10 and classes will be held every Tuesday from 4-5:30pm.
URL:https://victorylutheran.com/event/confirmation-class/2024-10-01/
CATEGORIES:Group Time
ATTACH;FMTTYPE=image/jpeg:https://victorylutheran.com/wp-content/uploads/2024/08/confirmation-slide_rev.jpeg
END:VEVENT
BEGIN:VEVENT
DTSTART;TZID=America/Phoenix:20240926T100000
DTEND;TZID=America/Phoenix:20240926T110000
DTSTAMP:20260421T182307
CREATED:20230731T045009Z
LAST-MODIFIED:20251010T180919Z
UID:10004296-1727344800-1727348400@victorylutheran.com
SUMMARY:Prayer Group
DESCRIPTION:We are a community dedicated to the power of prayer and supporting one another in our spiritual journeys. Together\, we gather in fellowship to seek God’s guidance\, intercede for the needs of our congregation and beyond. Whether you’re new to faith or a seasoned believer\, our prayer group offers a safe space for heartfelt conversations with God and the opportunity to grow in faith. Join us as we seek God’s presence and experience the transformative power of prayer.
URL:https://victorylutheran.com/event/prayer-group/2024-09-26/
CATEGORIES:Group Time
ATTACH;FMTTYPE=image/png:https://victorylutheran.com/wp-content/uploads/2023/06/prayer-ministry.png
END:VEVENT
BEGIN:VEVENT
DTSTART;TZID=America/Phoenix:20240925T133000
DTEND;TZID=America/Phoenix:20240925T150000
DTSTAMP:20260421T182307
CREATED:20231230T201101Z
LAST-MODIFIED:20231230T201112Z
UID:10005329-1727271000-1727276400@victorylutheran.com
SUMMARY:Women's Bible Study
DESCRIPTION:We gather each Wednesday at 1:30pm to learn and discuss God’s Word. Open to all women.
URL:https://victorylutheran.com/event/womens-bible-study/2024-09-25/
CATEGORIES:Group Time
ATTACH;FMTTYPE=image/jpeg:https://victorylutheran.com/wp-content/uploads/2023/12/Bible-with-flower.jpg
END:VEVENT
BEGIN:VEVENT
DTSTART;TZID=America/Phoenix:20240924T160000
DTEND;TZID=America/Phoenix:20240924T173000
DTSTAMP:20260421T182307
CREATED:20240822T234520Z
LAST-MODIFIED:20241105T204816Z
UID:10007013-1727193600-1727199000@victorylutheran.com
SUMMARY:Confirmation Class
DESCRIPTION:Our FREE Confirmation program is a three-year in-depth study of the scriptures and Luther’s Small Catechism. This program aims to provide a strong Christian foundation for youth\, emphasizing the sacraments\, commandments\, and foundational Christian beliefs. It starts on September 10 and classes will be held every Tuesday from 4-5:30pm.
URL:https://victorylutheran.com/event/confirmation-class/2024-09-24/
CATEGORIES:Group Time
ATTACH;FMTTYPE=image/jpeg:https://victorylutheran.com/wp-content/uploads/2024/08/confirmation-slide_rev.jpeg
END:VEVENT
BEGIN:VEVENT
DTSTART;TZID=America/Phoenix:20240919T100000
DTEND;TZID=America/Phoenix:20240919T110000
DTSTAMP:20260421T182307
CREATED:20230731T045009Z
LAST-MODIFIED:20251010T180919Z
UID:10004295-1726740000-1726743600@victorylutheran.com
SUMMARY:Prayer Group
DESCRIPTION:We are a community dedicated to the power of prayer and supporting one another in our spiritual journeys. Together\, we gather in fellowship to seek God’s guidance\, intercede for the needs of our congregation and beyond. Whether you’re new to faith or a seasoned believer\, our prayer group offers a safe space for heartfelt conversations with God and the opportunity to grow in faith. Join us as we seek God’s presence and experience the transformative power of prayer.
URL:https://victorylutheran.com/event/prayer-group/2024-09-19/
CATEGORIES:Group Time
ATTACH;FMTTYPE=image/png:https://victorylutheran.com/wp-content/uploads/2023/06/prayer-ministry.png
END:VEVENT
BEGIN:VEVENT
DTSTART;TZID=America/Phoenix:20240918T133000
DTEND;TZID=America/Phoenix:20240918T150000
DTSTAMP:20260421T182307
CREATED:20231230T201101Z
LAST-MODIFIED:20231230T201112Z
UID:10005328-1726666200-1726671600@victorylutheran.com
SUMMARY:Women's Bible Study
DESCRIPTION:We gather each Wednesday at 1:30pm to learn and discuss God’s Word. Open to all women.
URL:https://victorylutheran.com/event/womens-bible-study/2024-09-18/
CATEGORIES:Group Time
ATTACH;FMTTYPE=image/jpeg:https://victorylutheran.com/wp-content/uploads/2023/12/Bible-with-flower.jpg
END:VEVENT
BEGIN:VEVENT
DTSTART;TZID=America/Phoenix:20240917T160000
DTEND;TZID=America/Phoenix:20240917T173000
DTSTAMP:20260421T182307
CREATED:20240822T234520Z
LAST-MODIFIED:20241105T204816Z
UID:10007012-1726588800-1726594200@victorylutheran.com
SUMMARY:Confirmation Class
DESCRIPTION:Our FREE Confirmation program is a three-year in-depth study of the scriptures and Luther’s Small Catechism. This program aims to provide a strong Christian foundation for youth\, emphasizing the sacraments\, commandments\, and foundational Christian beliefs. It starts on September 10 and classes will be held every Tuesday from 4-5:30pm.
URL:https://victorylutheran.com/event/confirmation-class/2024-09-17/
CATEGORIES:Group Time
ATTACH;FMTTYPE=image/jpeg:https://victorylutheran.com/wp-content/uploads/2024/08/confirmation-slide_rev.jpeg
END:VEVENT
BEGIN:VEVENT
DTSTART;TZID=America/Phoenix:20240912T100000
DTEND;TZID=America/Phoenix:20240912T110000
DTSTAMP:20260421T182307
CREATED:20230731T045009Z
LAST-MODIFIED:20251010T180919Z
UID:10004294-1726135200-1726138800@victorylutheran.com
SUMMARY:Prayer Group
DESCRIPTION:We are a community dedicated to the power of prayer and supporting one another in our spiritual journeys. Together\, we gather in fellowship to seek God’s guidance\, intercede for the needs of our congregation and beyond. Whether you’re new to faith or a seasoned believer\, our prayer group offers a safe space for heartfelt conversations with God and the opportunity to grow in faith. Join us as we seek God’s presence and experience the transformative power of prayer.
URL:https://victorylutheran.com/event/prayer-group/2024-09-12/
CATEGORIES:Group Time
ATTACH;FMTTYPE=image/png:https://victorylutheran.com/wp-content/uploads/2023/06/prayer-ministry.png
END:VEVENT
BEGIN:VEVENT
DTSTART;TZID=America/Phoenix:20240911T133000
DTEND;TZID=America/Phoenix:20240911T150000
DTSTAMP:20260421T182307
CREATED:20231230T201101Z
LAST-MODIFIED:20231230T201112Z
UID:10005327-1726061400-1726066800@victorylutheran.com
SUMMARY:Women's Bible Study
DESCRIPTION:We gather each Wednesday at 1:30pm to learn and discuss God’s Word. Open to all women.
URL:https://victorylutheran.com/event/womens-bible-study/2024-09-11/
CATEGORIES:Group Time
ATTACH;FMTTYPE=image/jpeg:https://victorylutheran.com/wp-content/uploads/2023/12/Bible-with-flower.jpg
END:VEVENT
BEGIN:VEVENT
DTSTART;TZID=America/Phoenix:20240910T160000
DTEND;TZID=America/Phoenix:20240910T173000
DTSTAMP:20260421T182307
CREATED:20240822T234520Z
LAST-MODIFIED:20241105T204816Z
UID:10007011-1725984000-1725989400@victorylutheran.com
SUMMARY:Confirmation Class
DESCRIPTION:Our FREE Confirmation program is a three-year in-depth study of the scriptures and Luther’s Small Catechism. This program aims to provide a strong Christian foundation for youth\, emphasizing the sacraments\, commandments\, and foundational Christian beliefs. It starts on September 10 and classes will be held every Tuesday from 4-5:30pm.
URL:https://victorylutheran.com/event/confirmation-class/2024-09-10/
CATEGORIES:Group Time
ATTACH;FMTTYPE=image/jpeg:https://victorylutheran.com/wp-content/uploads/2024/08/confirmation-slide_rev.jpeg
END:VEVENT
BEGIN:VEVENT
DTSTART;TZID=America/Phoenix:20240905T100000
DTEND;TZID=America/Phoenix:20240905T110000
DTSTAMP:20260421T182307
CREATED:20230731T045009Z
LAST-MODIFIED:20251010T180919Z
UID:10009940-1725530400-1725534000@victorylutheran.com
SUMMARY:Prayer Group
DESCRIPTION:We are a community dedicated to the power of prayer and supporting one another in our spiritual journeys. Together\, we gather in fellowship to seek God’s guidance\, intercede for the needs of our congregation and beyond. Whether you’re new to faith or a seasoned believer\, our prayer group offers a safe space for heartfelt conversations with God and the opportunity to grow in faith. Join us as we seek God’s presence and experience the transformative power of prayer.
URL:https://victorylutheran.com/event/prayer-group/2024-09-05/
CATEGORIES:Group Time
ATTACH;FMTTYPE=image/png:https://victorylutheran.com/wp-content/uploads/2023/06/prayer-ministry.png
END:VEVENT
BEGIN:VEVENT
DTSTART;TZID=America/Phoenix:20240829T100000
DTEND;TZID=America/Phoenix:20240829T110000
DTSTAMP:20260421T182307
CREATED:20230731T045009Z
LAST-MODIFIED:20251010T180919Z
UID:10004292-1724925600-1724929200@victorylutheran.com
SUMMARY:Prayer Group
DESCRIPTION:We are a community dedicated to the power of prayer and supporting one another in our spiritual journeys. Together\, we gather in fellowship to seek God’s guidance\, intercede for the needs of our congregation and beyond. Whether you’re new to faith or a seasoned believer\, our prayer group offers a safe space for heartfelt conversations with God and the opportunity to grow in faith. Join us as we seek God’s presence and experience the transformative power of prayer.
URL:https://victorylutheran.com/event/prayer-group/2024-08-29/
CATEGORIES:Group Time
ATTACH;FMTTYPE=image/png:https://victorylutheran.com/wp-content/uploads/2023/06/prayer-ministry.png
END:VEVENT
END:VCALENDAR