BEGIN:VCALENDAR
VERSION:2.0
PRODID:-//Victory Lutheran Church - ECPv6.15.11//NONSGML v1.0//EN
CALSCALE:GREGORIAN
METHOD:PUBLISH
X-WR-CALNAME:Victory Lutheran Church
X-ORIGINAL-URL:https://victorylutheran.com
X-WR-CALDESC:Events for Victory Lutheran Church
REFRESH-INTERVAL;VALUE=DURATION:PT1H
X-Robots-Tag:noindex
X-PUBLISHED-TTL:PT1H
BEGIN:VTIMEZONE
TZID:America/Phoenix
BEGIN:STANDARD
TZOFFSETFROM:-0700
TZOFFSETTO:-0700
TZNAME:MST
DTSTART:20230101T000000
END:STANDARD
END:VTIMEZONE
BEGIN:VEVENT
DTSTART;TZID=America/Phoenix:20240917T160000
DTEND;TZID=America/Phoenix:20240917T173000
DTSTAMP:20260421T211338
CREATED:20240822T234520Z
LAST-MODIFIED:20241105T204816Z
UID:10007012-1726588800-1726594200@victorylutheran.com
SUMMARY:Confirmation Class
DESCRIPTION:Our FREE Confirmation program is a three-year in-depth study of the scriptures and Luther’s Small Catechism. This program aims to provide a strong Christian foundation for youth\, emphasizing the sacraments\, commandments\, and foundational Christian beliefs. It starts on September 10 and classes will be held every Tuesday from 4-5:30pm.
URL:https://victorylutheran.com/event/confirmation-class/2024-09-17/
CATEGORIES:Group Time
ATTACH;FMTTYPE=image/jpeg:https://victorylutheran.com/wp-content/uploads/2024/08/confirmation-slide_rev.jpeg
END:VEVENT
BEGIN:VEVENT
DTSTART;TZID=America/Phoenix:20240912T100000
DTEND;TZID=America/Phoenix:20240912T110000
DTSTAMP:20260421T211338
CREATED:20230731T045009Z
LAST-MODIFIED:20251010T180919Z
UID:10004294-1726135200-1726138800@victorylutheran.com
SUMMARY:Prayer Group
DESCRIPTION:We are a community dedicated to the power of prayer and supporting one another in our spiritual journeys. Together\, we gather in fellowship to seek God’s guidance\, intercede for the needs of our congregation and beyond. Whether you’re new to faith or a seasoned believer\, our prayer group offers a safe space for heartfelt conversations with God and the opportunity to grow in faith. Join us as we seek God’s presence and experience the transformative power of prayer.
URL:https://victorylutheran.com/event/prayer-group/2024-09-12/
CATEGORIES:Group Time
ATTACH;FMTTYPE=image/png:https://victorylutheran.com/wp-content/uploads/2023/06/prayer-ministry.png
END:VEVENT
BEGIN:VEVENT
DTSTART;TZID=America/Phoenix:20240911T133000
DTEND;TZID=America/Phoenix:20240911T150000
DTSTAMP:20260421T211338
CREATED:20231230T201101Z
LAST-MODIFIED:20231230T201112Z
UID:10005327-1726061400-1726066800@victorylutheran.com
SUMMARY:Women's Bible Study
DESCRIPTION:We gather each Wednesday at 1:30pm to learn and discuss God’s Word. Open to all women.
URL:https://victorylutheran.com/event/womens-bible-study/2024-09-11/
CATEGORIES:Group Time
ATTACH;FMTTYPE=image/jpeg:https://victorylutheran.com/wp-content/uploads/2023/12/Bible-with-flower.jpg
END:VEVENT
BEGIN:VEVENT
DTSTART;TZID=America/Phoenix:20240910T160000
DTEND;TZID=America/Phoenix:20240910T173000
DTSTAMP:20260421T211338
CREATED:20240822T234520Z
LAST-MODIFIED:20241105T204816Z
UID:10007011-1725984000-1725989400@victorylutheran.com
SUMMARY:Confirmation Class
DESCRIPTION:Our FREE Confirmation program is a three-year in-depth study of the scriptures and Luther’s Small Catechism. This program aims to provide a strong Christian foundation for youth\, emphasizing the sacraments\, commandments\, and foundational Christian beliefs. It starts on September 10 and classes will be held every Tuesday from 4-5:30pm.
URL:https://victorylutheran.com/event/confirmation-class/2024-09-10/
CATEGORIES:Group Time
ATTACH;FMTTYPE=image/jpeg:https://victorylutheran.com/wp-content/uploads/2024/08/confirmation-slide_rev.jpeg
END:VEVENT
BEGIN:VEVENT
DTSTART;TZID=America/Phoenix:20240905T100000
DTEND;TZID=America/Phoenix:20240905T110000
DTSTAMP:20260421T211338
CREATED:20230731T045009Z
LAST-MODIFIED:20251010T180919Z
UID:10009940-1725530400-1725534000@victorylutheran.com
SUMMARY:Prayer Group
DESCRIPTION:We are a community dedicated to the power of prayer and supporting one another in our spiritual journeys. Together\, we gather in fellowship to seek God’s guidance\, intercede for the needs of our congregation and beyond. Whether you’re new to faith or a seasoned believer\, our prayer group offers a safe space for heartfelt conversations with God and the opportunity to grow in faith. Join us as we seek God’s presence and experience the transformative power of prayer.
URL:https://victorylutheran.com/event/prayer-group/2024-09-05/
CATEGORIES:Group Time
ATTACH;FMTTYPE=image/png:https://victorylutheran.com/wp-content/uploads/2023/06/prayer-ministry.png
END:VEVENT
BEGIN:VEVENT
DTSTART;TZID=America/Phoenix:20240829T100000
DTEND;TZID=America/Phoenix:20240829T110000
DTSTAMP:20260421T211338
CREATED:20230731T045009Z
LAST-MODIFIED:20251010T180919Z
UID:10004292-1724925600-1724929200@victorylutheran.com
SUMMARY:Prayer Group
DESCRIPTION:We are a community dedicated to the power of prayer and supporting one another in our spiritual journeys. Together\, we gather in fellowship to seek God’s guidance\, intercede for the needs of our congregation and beyond. Whether you’re new to faith or a seasoned believer\, our prayer group offers a safe space for heartfelt conversations with God and the opportunity to grow in faith. Join us as we seek God’s presence and experience the transformative power of prayer.
URL:https://victorylutheran.com/event/prayer-group/2024-08-29/
CATEGORIES:Group Time
ATTACH;FMTTYPE=image/png:https://victorylutheran.com/wp-content/uploads/2023/06/prayer-ministry.png
END:VEVENT
BEGIN:VEVENT
DTSTART;TZID=America/Phoenix:20240828T133000
DTEND;TZID=America/Phoenix:20240828T150000
DTSTAMP:20260421T211338
CREATED:20231230T201101Z
LAST-MODIFIED:20231230T201112Z
UID:10005325-1724851800-1724857200@victorylutheran.com
SUMMARY:Women's Bible Study
DESCRIPTION:We gather each Wednesday at 1:30pm to learn and discuss God’s Word. Open to all women.
URL:https://victorylutheran.com/event/womens-bible-study/2024-08-28/
CATEGORIES:Group Time
ATTACH;FMTTYPE=image/jpeg:https://victorylutheran.com/wp-content/uploads/2023/12/Bible-with-flower.jpg
END:VEVENT
BEGIN:VEVENT
DTSTART;TZID=America/Phoenix:20240822T100000
DTEND;TZID=America/Phoenix:20240822T110000
DTSTAMP:20260421T211338
CREATED:20230731T045009Z
LAST-MODIFIED:20251010T180919Z
UID:10004291-1724320800-1724324400@victorylutheran.com
SUMMARY:Prayer Group
DESCRIPTION:We are a community dedicated to the power of prayer and supporting one another in our spiritual journeys. Together\, we gather in fellowship to seek God’s guidance\, intercede for the needs of our congregation and beyond. Whether you’re new to faith or a seasoned believer\, our prayer group offers a safe space for heartfelt conversations with God and the opportunity to grow in faith. Join us as we seek God’s presence and experience the transformative power of prayer.
URL:https://victorylutheran.com/event/prayer-group/2024-08-22/
CATEGORIES:Group Time
ATTACH;FMTTYPE=image/png:https://victorylutheran.com/wp-content/uploads/2023/06/prayer-ministry.png
END:VEVENT
BEGIN:VEVENT
DTSTART;TZID=America/Phoenix:20240821T133000
DTEND;TZID=America/Phoenix:20240821T150000
DTSTAMP:20260421T211338
CREATED:20231230T201101Z
LAST-MODIFIED:20231230T201112Z
UID:10005324-1724247000-1724252400@victorylutheran.com
SUMMARY:Women's Bible Study
DESCRIPTION:We gather each Wednesday at 1:30pm to learn and discuss God’s Word. Open to all women.
URL:https://victorylutheran.com/event/womens-bible-study/2024-08-21/
CATEGORIES:Group Time
ATTACH;FMTTYPE=image/jpeg:https://victorylutheran.com/wp-content/uploads/2023/12/Bible-with-flower.jpg
END:VEVENT
BEGIN:VEVENT
DTSTART;TZID=America/Phoenix:20240818T121500
DTEND;TZID=America/Phoenix:20240818T131500
DTSTAMP:20260421T211338
CREATED:20240801T215611Z
LAST-MODIFIED:20240801T215619Z
UID:10006783-1723983300-1723986900@victorylutheran.com
SUMMARY:Confirmation Class - OPEN HOUSE
DESCRIPTION:NEW! CONFIRMATION CLASSMEET THE TEACHER OPEN HOUSESUN\, AUGUST 18 @ 12:15PMJoin our Confirmation Class and give your child a foundation in faith!This FREE 3-year confirmation program dives deep into the scriptures and helps your child to develop a stronger understanding of who Jesus is in their lifeAll children from 6th\, 7th and 8th grades are welcome!No prerequisites or requirements. You don’t have to be a member of Victory to attend. Learn more by attending our Open House on August 18th at 12:15pm. \n\n\n\n*Class begins September 10th. Meets Tuesdays 4:00-5:30pm. Snacks provided. \n\n\n\nCLICK HERE TO LEARN MORE
URL:https://victorylutheran.com/event/confirmation-class-open-house/
CATEGORIES:Group Time
ATTACH;FMTTYPE=image/jpeg:https://victorylutheran.com/wp-content/uploads/2024/08/Confirmation-Class_slide.jpg
END:VEVENT
BEGIN:VEVENT
DTSTART;TZID=America/Phoenix:20240815T100000
DTEND;TZID=America/Phoenix:20240815T110000
DTSTAMP:20260421T211338
CREATED:20230731T045009Z
LAST-MODIFIED:20251010T180919Z
UID:10004290-1723716000-1723719600@victorylutheran.com
SUMMARY:Prayer Group
DESCRIPTION:We are a community dedicated to the power of prayer and supporting one another in our spiritual journeys. Together\, we gather in fellowship to seek God’s guidance\, intercede for the needs of our congregation and beyond. Whether you’re new to faith or a seasoned believer\, our prayer group offers a safe space for heartfelt conversations with God and the opportunity to grow in faith. Join us as we seek God’s presence and experience the transformative power of prayer.
URL:https://victorylutheran.com/event/prayer-group/2024-08-15/
CATEGORIES:Group Time
ATTACH;FMTTYPE=image/png:https://victorylutheran.com/wp-content/uploads/2023/06/prayer-ministry.png
END:VEVENT
BEGIN:VEVENT
DTSTART;TZID=America/Phoenix:20240814T133000
DTEND;TZID=America/Phoenix:20240814T150000
DTSTAMP:20260421T211338
CREATED:20231230T201101Z
LAST-MODIFIED:20231230T201112Z
UID:10005323-1723642200-1723647600@victorylutheran.com
SUMMARY:Women's Bible Study
DESCRIPTION:We gather each Wednesday at 1:30pm to learn and discuss God’s Word. Open to all women.
URL:https://victorylutheran.com/event/womens-bible-study/2024-08-14/
CATEGORIES:Group Time
ATTACH;FMTTYPE=image/jpeg:https://victorylutheran.com/wp-content/uploads/2023/12/Bible-with-flower.jpg
END:VEVENT
BEGIN:VEVENT
DTSTART;TZID=America/Phoenix:20240808T100000
DTEND;TZID=America/Phoenix:20240808T110000
DTSTAMP:20260421T211338
CREATED:20230731T045009Z
LAST-MODIFIED:20251010T180919Z
UID:10004289-1723111200-1723114800@victorylutheran.com
SUMMARY:Prayer Group
DESCRIPTION:We are a community dedicated to the power of prayer and supporting one another in our spiritual journeys. Together\, we gather in fellowship to seek God’s guidance\, intercede for the needs of our congregation and beyond. Whether you’re new to faith or a seasoned believer\, our prayer group offers a safe space for heartfelt conversations with God and the opportunity to grow in faith. Join us as we seek God’s presence and experience the transformative power of prayer.
URL:https://victorylutheran.com/event/prayer-group/2024-08-08/
CATEGORIES:Group Time
ATTACH;FMTTYPE=image/png:https://victorylutheran.com/wp-content/uploads/2023/06/prayer-ministry.png
END:VEVENT
BEGIN:VEVENT
DTSTART;TZID=America/Phoenix:20240807T133000
DTEND;TZID=America/Phoenix:20240807T150000
DTSTAMP:20260421T211338
CREATED:20231230T201101Z
LAST-MODIFIED:20231230T201112Z
UID:10005322-1723037400-1723042800@victorylutheran.com
SUMMARY:Women's Bible Study
DESCRIPTION:We gather each Wednesday at 1:30pm to learn and discuss God’s Word. Open to all women.
URL:https://victorylutheran.com/event/womens-bible-study/2024-08-07/
CATEGORIES:Group Time
ATTACH;FMTTYPE=image/jpeg:https://victorylutheran.com/wp-content/uploads/2023/12/Bible-with-flower.jpg
END:VEVENT
BEGIN:VEVENT
DTSTART;TZID=America/Phoenix:20240805T100000
DTEND;TZID=America/Phoenix:20240805T110000
DTSTAMP:20260421T211338
CREATED:20240604T211811Z
LAST-MODIFIED:20240604T211813Z
UID:10006443-1722852000-1722855600@victorylutheran.com
SUMMARY:Israel & The Church Study
DESCRIPTION:ISRAEL & THE CHURCHJuly 8-August 5\, 2024Mondays @ 10:00am (5-Week Study) \n\n\n\nIsrael is a “hot topic” whether it is on the agenda at the United Nations or the reason for a college protest or the subject of conversation among friends. This class will examine what God’s Word says about Israel — both its past history and in prophecy. We will cover the fascinating story of how Israel became a nation again after nearly 2\,000 years. We will also look at the ongoing struggle for peace since 1948 and at the ways churches are responding — from boycott/divestment to Christian Zionism — and how we can\, “Pray for the peace of Jerusalem.” (Psalm 122:6) \n\n\n\nMake plans to be part of this transformative study presented by Dr. Carol Peters (who has taught before at Victory) and gain a deeper appreciation of Israel’s past\, present\, and future in God’s grand narrative.
URL:https://victorylutheran.com/event/israel-the-church-study-2/
CATEGORIES:Group Time
ATTACH;FMTTYPE=image/jpeg:https://victorylutheran.com/wp-content/uploads/2024/06/Israel-Register.jpg
END:VEVENT
BEGIN:VEVENT
DTSTART;TZID=America/Phoenix:20240801T100000
DTEND;TZID=America/Phoenix:20240801T110000
DTSTAMP:20260421T211338
CREATED:20230731T045009Z
LAST-MODIFIED:20251010T180919Z
UID:10009939-1722506400-1722510000@victorylutheran.com
SUMMARY:Prayer Group
DESCRIPTION:We are a community dedicated to the power of prayer and supporting one another in our spiritual journeys. Together\, we gather in fellowship to seek God’s guidance\, intercede for the needs of our congregation and beyond. Whether you’re new to faith or a seasoned believer\, our prayer group offers a safe space for heartfelt conversations with God and the opportunity to grow in faith. Join us as we seek God’s presence and experience the transformative power of prayer.
URL:https://victorylutheran.com/event/prayer-group/2024-08-01/
CATEGORIES:Group Time
ATTACH;FMTTYPE=image/png:https://victorylutheran.com/wp-content/uploads/2023/06/prayer-ministry.png
END:VEVENT
BEGIN:VEVENT
DTSTART;TZID=America/Phoenix:20240731T133000
DTEND;TZID=America/Phoenix:20240731T150000
DTSTAMP:20260421T211338
CREATED:20231230T201101Z
LAST-MODIFIED:20231230T201112Z
UID:10005321-1722432600-1722438000@victorylutheran.com
SUMMARY:Women's Bible Study
DESCRIPTION:We gather each Wednesday at 1:30pm to learn and discuss God’s Word. Open to all women.
URL:https://victorylutheran.com/event/womens-bible-study/2024-07-31/
CATEGORIES:Group Time
ATTACH;FMTTYPE=image/jpeg:https://victorylutheran.com/wp-content/uploads/2023/12/Bible-with-flower.jpg
END:VEVENT
BEGIN:VEVENT
DTSTART;TZID=America/Phoenix:20240729T100000
DTEND;TZID=America/Phoenix:20240729T110000
DTSTAMP:20260421T211338
CREATED:20240604T211653Z
LAST-MODIFIED:20240604T211705Z
UID:10006442-1722247200-1722250800@victorylutheran.com
SUMMARY:Israel & The Church Study
DESCRIPTION:ISRAEL & THE CHURCHJuly 8-August 5\, 2024Mondays @ 10:00am (5-Week Study) \n\n\n\nIsrael is a “hot topic” whether it is on the agenda at the United Nations or the reason for a college protest or the subject of conversation among friends. This class will examine what God’s Word says about Israel — both its past history and in prophecy. We will cover the fascinating story of how Israel became a nation again after nearly 2\,000 years. We will also look at the ongoing struggle for peace since 1948 and at the ways churches are responding — from boycott/divestment to Christian Zionism — and how we can\, “Pray for the peace of Jerusalem.” (Psalm 122:6) \n\n\n\nMake plans to be part of this transformative study presented by Dr. Carol Peters (who has taught before at Victory) and gain a deeper appreciation of Israel’s past\, present\, and future in God’s grand narrative.
URL:https://victorylutheran.com/event/israel-the-church-study/2024-07-29/
CATEGORIES:Group Time
ATTACH;FMTTYPE=image/jpeg:https://victorylutheran.com/wp-content/uploads/2024/06/Israel-Register.jpg
END:VEVENT
BEGIN:VEVENT
DTSTART;TZID=America/Phoenix:20240725T100000
DTEND;TZID=America/Phoenix:20240725T110000
DTSTAMP:20260421T211338
CREATED:20230731T045009Z
LAST-MODIFIED:20251010T180919Z
UID:10004287-1721901600-1721905200@victorylutheran.com
SUMMARY:Prayer Group
DESCRIPTION:We are a community dedicated to the power of prayer and supporting one another in our spiritual journeys. Together\, we gather in fellowship to seek God’s guidance\, intercede for the needs of our congregation and beyond. Whether you’re new to faith or a seasoned believer\, our prayer group offers a safe space for heartfelt conversations with God and the opportunity to grow in faith. Join us as we seek God’s presence and experience the transformative power of prayer.
URL:https://victorylutheran.com/event/prayer-group/2024-07-25/
CATEGORIES:Group Time
ATTACH;FMTTYPE=image/png:https://victorylutheran.com/wp-content/uploads/2023/06/prayer-ministry.png
END:VEVENT
BEGIN:VEVENT
DTSTART;TZID=America/Phoenix:20240724T133000
DTEND;TZID=America/Phoenix:20240724T150000
DTSTAMP:20260421T211338
CREATED:20231230T201101Z
LAST-MODIFIED:20231230T201112Z
UID:10005320-1721827800-1721833200@victorylutheran.com
SUMMARY:Women's Bible Study
DESCRIPTION:We gather each Wednesday at 1:30pm to learn and discuss God’s Word. Open to all women.
URL:https://victorylutheran.com/event/womens-bible-study/2024-07-24/
CATEGORIES:Group Time
ATTACH;FMTTYPE=image/jpeg:https://victorylutheran.com/wp-content/uploads/2023/12/Bible-with-flower.jpg
END:VEVENT
BEGIN:VEVENT
DTSTART;TZID=America/Phoenix:20240722T100000
DTEND;TZID=America/Phoenix:20240722T110000
DTSTAMP:20260421T211338
CREATED:20240604T211653Z
LAST-MODIFIED:20240604T211705Z
UID:10006441-1721642400-1721646000@victorylutheran.com
SUMMARY:Israel & The Church Study
DESCRIPTION:ISRAEL & THE CHURCHJuly 8-August 5\, 2024Mondays @ 10:00am (5-Week Study) \n\n\n\nIsrael is a “hot topic” whether it is on the agenda at the United Nations or the reason for a college protest or the subject of conversation among friends. This class will examine what God’s Word says about Israel — both its past history and in prophecy. We will cover the fascinating story of how Israel became a nation again after nearly 2\,000 years. We will also look at the ongoing struggle for peace since 1948 and at the ways churches are responding — from boycott/divestment to Christian Zionism — and how we can\, “Pray for the peace of Jerusalem.” (Psalm 122:6) \n\n\n\nMake plans to be part of this transformative study presented by Dr. Carol Peters (who has taught before at Victory) and gain a deeper appreciation of Israel’s past\, present\, and future in God’s grand narrative.
URL:https://victorylutheran.com/event/israel-the-church-study/2024-07-22/
CATEGORIES:Group Time
ATTACH;FMTTYPE=image/jpeg:https://victorylutheran.com/wp-content/uploads/2024/06/Israel-Register.jpg
END:VEVENT
BEGIN:VEVENT
DTSTART;TZID=America/Phoenix:20240718T100000
DTEND;TZID=America/Phoenix:20240718T110000
DTSTAMP:20260421T211338
CREATED:20230731T045009Z
LAST-MODIFIED:20251010T180919Z
UID:10004286-1721296800-1721300400@victorylutheran.com
SUMMARY:Prayer Group
DESCRIPTION:We are a community dedicated to the power of prayer and supporting one another in our spiritual journeys. Together\, we gather in fellowship to seek God’s guidance\, intercede for the needs of our congregation and beyond. Whether you’re new to faith or a seasoned believer\, our prayer group offers a safe space for heartfelt conversations with God and the opportunity to grow in faith. Join us as we seek God’s presence and experience the transformative power of prayer.
URL:https://victorylutheran.com/event/prayer-group/2024-07-18/
CATEGORIES:Group Time
ATTACH;FMTTYPE=image/png:https://victorylutheran.com/wp-content/uploads/2023/06/prayer-ministry.png
END:VEVENT
BEGIN:VEVENT
DTSTART;TZID=America/Phoenix:20240717T133000
DTEND;TZID=America/Phoenix:20240717T150000
DTSTAMP:20260421T211338
CREATED:20231230T201101Z
LAST-MODIFIED:20231230T201112Z
UID:10005319-1721223000-1721228400@victorylutheran.com
SUMMARY:Women's Bible Study
DESCRIPTION:We gather each Wednesday at 1:30pm to learn and discuss God’s Word. Open to all women.
URL:https://victorylutheran.com/event/womens-bible-study/2024-07-17/
CATEGORIES:Group Time
ATTACH;FMTTYPE=image/jpeg:https://victorylutheran.com/wp-content/uploads/2023/12/Bible-with-flower.jpg
END:VEVENT
BEGIN:VEVENT
DTSTART;TZID=America/Phoenix:20240715T100000
DTEND;TZID=America/Phoenix:20240715T110000
DTSTAMP:20260421T211338
CREATED:20240604T211653Z
LAST-MODIFIED:20240604T211705Z
UID:10006440-1721037600-1721041200@victorylutheran.com
SUMMARY:Israel & The Church Study
DESCRIPTION:ISRAEL & THE CHURCHJuly 8-August 5\, 2024Mondays @ 10:00am (5-Week Study) \n\n\n\nIsrael is a “hot topic” whether it is on the agenda at the United Nations or the reason for a college protest or the subject of conversation among friends. This class will examine what God’s Word says about Israel — both its past history and in prophecy. We will cover the fascinating story of how Israel became a nation again after nearly 2\,000 years. We will also look at the ongoing struggle for peace since 1948 and at the ways churches are responding — from boycott/divestment to Christian Zionism — and how we can\, “Pray for the peace of Jerusalem.” (Psalm 122:6) \n\n\n\nMake plans to be part of this transformative study presented by Dr. Carol Peters (who has taught before at Victory) and gain a deeper appreciation of Israel’s past\, present\, and future in God’s grand narrative.
URL:https://victorylutheran.com/event/israel-the-church-study/2024-07-15/
CATEGORIES:Group Time
ATTACH;FMTTYPE=image/jpeg:https://victorylutheran.com/wp-content/uploads/2024/06/Israel-Register.jpg
END:VEVENT
BEGIN:VEVENT
DTSTART;TZID=America/Phoenix:20240711T100000
DTEND;TZID=America/Phoenix:20240711T110000
DTSTAMP:20260421T211338
CREATED:20230731T045009Z
LAST-MODIFIED:20251010T180919Z
UID:10004285-1720692000-1720695600@victorylutheran.com
SUMMARY:Prayer Group
DESCRIPTION:We are a community dedicated to the power of prayer and supporting one another in our spiritual journeys. Together\, we gather in fellowship to seek God’s guidance\, intercede for the needs of our congregation and beyond. Whether you’re new to faith or a seasoned believer\, our prayer group offers a safe space for heartfelt conversations with God and the opportunity to grow in faith. Join us as we seek God’s presence and experience the transformative power of prayer.
URL:https://victorylutheran.com/event/prayer-group/2024-07-11/
CATEGORIES:Group Time
ATTACH;FMTTYPE=image/png:https://victorylutheran.com/wp-content/uploads/2023/06/prayer-ministry.png
END:VEVENT
BEGIN:VEVENT
DTSTART;TZID=America/Phoenix:20240710T133000
DTEND;TZID=America/Phoenix:20240710T150000
DTSTAMP:20260421T211338
CREATED:20231230T201101Z
LAST-MODIFIED:20231230T201112Z
UID:10005318-1720618200-1720623600@victorylutheran.com
SUMMARY:Women's Bible Study
DESCRIPTION:We gather each Wednesday at 1:30pm to learn and discuss God’s Word. Open to all women.
URL:https://victorylutheran.com/event/womens-bible-study/2024-07-10/
CATEGORIES:Group Time
ATTACH;FMTTYPE=image/jpeg:https://victorylutheran.com/wp-content/uploads/2023/12/Bible-with-flower.jpg
END:VEVENT
BEGIN:VEVENT
DTSTART;TZID=America/Phoenix:20240709T093000
DTEND;TZID=America/Phoenix:20240709T110000
DTSTAMP:20260421T211338
CREATED:20240604T213614Z
LAST-MODIFIED:20240604T213628Z
UID:10006445-1720517400-1720522800@victorylutheran.com
SUMMARY:Women's Ministry Combined Bible Study
DESCRIPTION:Women’s Ministry Combined Bible Study Tuesday @ 9:30am – June 11\, July 9\, August 13\, September 10 \n\n\n\nDuring the summer months (May-September) Women’s Ministry meets the 2nd Tuesday of the month at Victory as a combined group. Pastor or Bible Study leader choses the study.
URL:https://victorylutheran.com/event/womens-ministry-combined-bible-study/2024-07-09/
CATEGORIES:Group Time
ATTACH;FMTTYPE=image/jpeg:https://victorylutheran.com/wp-content/uploads/2024/06/Womens-Ministry.jpg
END:VEVENT
BEGIN:VEVENT
DTSTART;TZID=America/Phoenix:20240708T100000
DTEND;TZID=America/Phoenix:20240708T110000
DTSTAMP:20260421T211338
CREATED:20240604T211653Z
LAST-MODIFIED:20240604T211705Z
UID:10006439-1720432800-1720436400@victorylutheran.com
SUMMARY:Israel & The Church Study
DESCRIPTION:ISRAEL & THE CHURCHJuly 8-August 5\, 2024Mondays @ 10:00am (5-Week Study) \n\n\n\nIsrael is a “hot topic” whether it is on the agenda at the United Nations or the reason for a college protest or the subject of conversation among friends. This class will examine what God’s Word says about Israel — both its past history and in prophecy. We will cover the fascinating story of how Israel became a nation again after nearly 2\,000 years. We will also look at the ongoing struggle for peace since 1948 and at the ways churches are responding — from boycott/divestment to Christian Zionism — and how we can\, “Pray for the peace of Jerusalem.” (Psalm 122:6) \n\n\n\nMake plans to be part of this transformative study presented by Dr. Carol Peters (who has taught before at Victory) and gain a deeper appreciation of Israel’s past\, present\, and future in God’s grand narrative.
URL:https://victorylutheran.com/event/israel-the-church-study/2024-07-08/
CATEGORIES:Group Time
ATTACH;FMTTYPE=image/jpeg:https://victorylutheran.com/wp-content/uploads/2024/06/Israel-Register.jpg
END:VEVENT
BEGIN:VEVENT
DTSTART;TZID=America/Phoenix:20240704T100000
DTEND;TZID=America/Phoenix:20240704T110000
DTSTAMP:20260421T211338
CREATED:20230731T045009Z
LAST-MODIFIED:20251010T180919Z
UID:10009938-1720087200-1720090800@victorylutheran.com
SUMMARY:Prayer Group
DESCRIPTION:We are a community dedicated to the power of prayer and supporting one another in our spiritual journeys. Together\, we gather in fellowship to seek God’s guidance\, intercede for the needs of our congregation and beyond. Whether you’re new to faith or a seasoned believer\, our prayer group offers a safe space for heartfelt conversations with God and the opportunity to grow in faith. Join us as we seek God’s presence and experience the transformative power of prayer.
URL:https://victorylutheran.com/event/prayer-group/2024-07-04/
CATEGORIES:Group Time
ATTACH;FMTTYPE=image/png:https://victorylutheran.com/wp-content/uploads/2023/06/prayer-ministry.png
END:VEVENT
BEGIN:VEVENT
DTSTART;TZID=America/Phoenix:20240703T133000
DTEND;TZID=America/Phoenix:20240703T150000
DTSTAMP:20260421T211338
CREATED:20231230T201101Z
LAST-MODIFIED:20231230T201112Z
UID:10005317-1720013400-1720018800@victorylutheran.com
SUMMARY:Women's Bible Study
DESCRIPTION:We gather each Wednesday at 1:30pm to learn and discuss God’s Word. Open to all women.
URL:https://victorylutheran.com/event/womens-bible-study/2024-07-03/
CATEGORIES:Group Time
ATTACH;FMTTYPE=image/jpeg:https://victorylutheran.com/wp-content/uploads/2023/12/Bible-with-flower.jpg
END:VEVENT
END:VCALENDAR