BEGIN:VCALENDAR
VERSION:2.0
PRODID:-//Victory Lutheran Church - ECPv6.15.11//NONSGML v1.0//EN
CALSCALE:GREGORIAN
METHOD:PUBLISH
X-ORIGINAL-URL:https://victorylutheran.com
X-WR-CALDESC:Events for Victory Lutheran Church
REFRESH-INTERVAL;VALUE=DURATION:PT1H
X-Robots-Tag:noindex
X-PUBLISHED-TTL:PT1H
BEGIN:VTIMEZONE
TZID:America/Phoenix
BEGIN:STANDARD
TZOFFSETFROM:-0700
TZOFFSETTO:-0700
TZNAME:MST
DTSTART:20280101T000000
END:STANDARD
END:VTIMEZONE
BEGIN:VEVENT
DTSTART;TZID=America/Phoenix:20290502T133000
DTEND;TZID=America/Phoenix:20290502T150000
DTSTAMP:20260420T072817
CREATED:20231230T201101Z
LAST-MODIFIED:20231230T201112Z
UID:10007254-1872423000-1872428400@victorylutheran.com
SUMMARY:Women's Bible Study
DESCRIPTION:We gather each Wednesday at 1:30pm to learn and discuss God’s Word. Open to all women.
URL:https://victorylutheran.com/event/womens-bible-study/2029-05-02/
CATEGORIES:Group Time
ATTACH;FMTTYPE=image/jpeg:https://victorylutheran.com/wp-content/uploads/2023/12/Bible-with-flower.jpg
END:VEVENT
BEGIN:VEVENT
DTSTART;TZID=America/Phoenix:20290503T100000
DTEND;TZID=America/Phoenix:20290503T110000
DTSTAMP:20260420T072817
CREATED:20230731T045009Z
LAST-MODIFIED:20251010T180919Z
UID:10009997-1872496800-1872500400@victorylutheran.com
SUMMARY:Prayer Group
DESCRIPTION:We are a community dedicated to the power of prayer and supporting one another in our spiritual journeys. Together\, we gather in fellowship to seek God’s guidance\, intercede for the needs of our congregation and beyond. Whether you’re new to faith or a seasoned believer\, our prayer group offers a safe space for heartfelt conversations with God and the opportunity to grow in faith. Join us as we seek God’s presence and experience the transformative power of prayer.
URL:https://victorylutheran.com/event/prayer-group/2029-05-03/
CATEGORIES:Group Time
ATTACH;FMTTYPE=image/png:https://victorylutheran.com/wp-content/uploads/2023/06/prayer-ministry.png
END:VEVENT
BEGIN:VEVENT
DTSTART;TZID=America/Phoenix:20290509T133000
DTEND;TZID=America/Phoenix:20290509T150000
DTSTAMP:20260420T072817
CREATED:20231230T201101Z
LAST-MODIFIED:20231230T201112Z
UID:10007255-1873027800-1873033200@victorylutheran.com
SUMMARY:Women's Bible Study
DESCRIPTION:We gather each Wednesday at 1:30pm to learn and discuss God’s Word. Open to all women.
URL:https://victorylutheran.com/event/womens-bible-study/2029-05-09/
CATEGORIES:Group Time
ATTACH;FMTTYPE=image/jpeg:https://victorylutheran.com/wp-content/uploads/2023/12/Bible-with-flower.jpg
END:VEVENT
BEGIN:VEVENT
DTSTART;TZID=America/Phoenix:20290510T100000
DTEND;TZID=America/Phoenix:20290510T110000
DTSTAMP:20260420T072817
CREATED:20230731T045009Z
LAST-MODIFIED:20251010T180919Z
UID:10008055-1873101600-1873105200@victorylutheran.com
SUMMARY:Prayer Group
DESCRIPTION:We are a community dedicated to the power of prayer and supporting one another in our spiritual journeys. Together\, we gather in fellowship to seek God’s guidance\, intercede for the needs of our congregation and beyond. Whether you’re new to faith or a seasoned believer\, our prayer group offers a safe space for heartfelt conversations with God and the opportunity to grow in faith. Join us as we seek God’s presence and experience the transformative power of prayer.
URL:https://victorylutheran.com/event/prayer-group/2029-05-10/
CATEGORIES:Group Time
ATTACH;FMTTYPE=image/png:https://victorylutheran.com/wp-content/uploads/2023/06/prayer-ministry.png
END:VEVENT
BEGIN:VEVENT
DTSTART;TZID=America/Phoenix:20290516T133000
DTEND;TZID=America/Phoenix:20290516T150000
DTSTAMP:20260420T072817
CREATED:20231230T201101Z
LAST-MODIFIED:20231230T201112Z
UID:10007256-1873632600-1873638000@victorylutheran.com
SUMMARY:Women's Bible Study
DESCRIPTION:We gather each Wednesday at 1:30pm to learn and discuss God’s Word. Open to all women.
URL:https://victorylutheran.com/event/womens-bible-study/2029-05-16/
CATEGORIES:Group Time
ATTACH;FMTTYPE=image/jpeg:https://victorylutheran.com/wp-content/uploads/2023/12/Bible-with-flower.jpg
END:VEVENT
BEGIN:VEVENT
DTSTART;TZID=America/Phoenix:20290517T100000
DTEND;TZID=America/Phoenix:20290517T110000
DTSTAMP:20260420T072817
CREATED:20230731T045009Z
LAST-MODIFIED:20251010T180919Z
UID:10008056-1873706400-1873710000@victorylutheran.com
SUMMARY:Prayer Group
DESCRIPTION:We are a community dedicated to the power of prayer and supporting one another in our spiritual journeys. Together\, we gather in fellowship to seek God’s guidance\, intercede for the needs of our congregation and beyond. Whether you’re new to faith or a seasoned believer\, our prayer group offers a safe space for heartfelt conversations with God and the opportunity to grow in faith. Join us as we seek God’s presence and experience the transformative power of prayer.
URL:https://victorylutheran.com/event/prayer-group/2029-05-17/
CATEGORIES:Group Time
ATTACH;FMTTYPE=image/png:https://victorylutheran.com/wp-content/uploads/2023/06/prayer-ministry.png
END:VEVENT
BEGIN:VEVENT
DTSTART;TZID=America/Phoenix:20290523T133000
DTEND;TZID=America/Phoenix:20290523T150000
DTSTAMP:20260420T072817
CREATED:20231230T201101Z
LAST-MODIFIED:20231230T201112Z
UID:10007257-1874237400-1874242800@victorylutheran.com
SUMMARY:Women's Bible Study
DESCRIPTION:We gather each Wednesday at 1:30pm to learn and discuss God’s Word. Open to all women.
URL:https://victorylutheran.com/event/womens-bible-study/2029-05-23/
CATEGORIES:Group Time
ATTACH;FMTTYPE=image/jpeg:https://victorylutheran.com/wp-content/uploads/2023/12/Bible-with-flower.jpg
END:VEVENT
BEGIN:VEVENT
DTSTART;TZID=America/Phoenix:20290524T100000
DTEND;TZID=America/Phoenix:20290524T110000
DTSTAMP:20260420T072817
CREATED:20230731T045009Z
LAST-MODIFIED:20251010T180919Z
UID:10008057-1874311200-1874314800@victorylutheran.com
SUMMARY:Prayer Group
DESCRIPTION:We are a community dedicated to the power of prayer and supporting one another in our spiritual journeys. Together\, we gather in fellowship to seek God’s guidance\, intercede for the needs of our congregation and beyond. Whether you’re new to faith or a seasoned believer\, our prayer group offers a safe space for heartfelt conversations with God and the opportunity to grow in faith. Join us as we seek God’s presence and experience the transformative power of prayer.
URL:https://victorylutheran.com/event/prayer-group/2029-05-24/
CATEGORIES:Group Time
ATTACH;FMTTYPE=image/png:https://victorylutheran.com/wp-content/uploads/2023/06/prayer-ministry.png
END:VEVENT
BEGIN:VEVENT
DTSTART;TZID=America/Phoenix:20290530T133000
DTEND;TZID=America/Phoenix:20290530T150000
DTSTAMP:20260420T072817
CREATED:20231230T201101Z
LAST-MODIFIED:20231230T201112Z
UID:10007258-1874842200-1874847600@victorylutheran.com
SUMMARY:Women's Bible Study
DESCRIPTION:We gather each Wednesday at 1:30pm to learn and discuss God’s Word. Open to all women.
URL:https://victorylutheran.com/event/womens-bible-study/2029-05-30/
CATEGORIES:Group Time
ATTACH;FMTTYPE=image/jpeg:https://victorylutheran.com/wp-content/uploads/2023/12/Bible-with-flower.jpg
END:VEVENT
BEGIN:VEVENT
DTSTART;TZID=America/Phoenix:20290531T100000
DTEND;TZID=America/Phoenix:20290531T110000
DTSTAMP:20260420T072817
CREATED:20230731T045009Z
LAST-MODIFIED:20251010T180919Z
UID:10008058-1874916000-1874919600@victorylutheran.com
SUMMARY:Prayer Group
DESCRIPTION:We are a community dedicated to the power of prayer and supporting one another in our spiritual journeys. Together\, we gather in fellowship to seek God’s guidance\, intercede for the needs of our congregation and beyond. Whether you’re new to faith or a seasoned believer\, our prayer group offers a safe space for heartfelt conversations with God and the opportunity to grow in faith. Join us as we seek God’s presence and experience the transformative power of prayer.
URL:https://victorylutheran.com/event/prayer-group/2029-05-31/
CATEGORIES:Group Time
ATTACH;FMTTYPE=image/png:https://victorylutheran.com/wp-content/uploads/2023/06/prayer-ministry.png
END:VEVENT
BEGIN:VEVENT
DTSTART;TZID=America/Phoenix:20290606T133000
DTEND;TZID=America/Phoenix:20290606T150000
DTSTAMP:20260420T072817
CREATED:20231230T201101Z
LAST-MODIFIED:20231230T201112Z
UID:10007259-1875447000-1875452400@victorylutheran.com
SUMMARY:Women's Bible Study
DESCRIPTION:We gather each Wednesday at 1:30pm to learn and discuss God’s Word. Open to all women.
URL:https://victorylutheran.com/event/womens-bible-study/2029-06-06/
CATEGORIES:Group Time
ATTACH;FMTTYPE=image/jpeg:https://victorylutheran.com/wp-content/uploads/2023/12/Bible-with-flower.jpg
END:VEVENT
BEGIN:VEVENT
DTSTART;TZID=America/Phoenix:20290607T100000
DTEND;TZID=America/Phoenix:20290607T110000
DTSTAMP:20260420T072817
CREATED:20230731T045009Z
LAST-MODIFIED:20251010T180919Z
UID:10009998-1875520800-1875524400@victorylutheran.com
SUMMARY:Prayer Group
DESCRIPTION:We are a community dedicated to the power of prayer and supporting one another in our spiritual journeys. Together\, we gather in fellowship to seek God’s guidance\, intercede for the needs of our congregation and beyond. Whether you’re new to faith or a seasoned believer\, our prayer group offers a safe space for heartfelt conversations with God and the opportunity to grow in faith. Join us as we seek God’s presence and experience the transformative power of prayer.
URL:https://victorylutheran.com/event/prayer-group/2029-06-07/
CATEGORIES:Group Time
ATTACH;FMTTYPE=image/png:https://victorylutheran.com/wp-content/uploads/2023/06/prayer-ministry.png
END:VEVENT
BEGIN:VEVENT
DTSTART;TZID=America/Phoenix:20290613T133000
DTEND;TZID=America/Phoenix:20290613T150000
DTSTAMP:20260420T072817
CREATED:20231230T201101Z
LAST-MODIFIED:20231230T201112Z
UID:10007260-1876051800-1876057200@victorylutheran.com
SUMMARY:Women's Bible Study
DESCRIPTION:We gather each Wednesday at 1:30pm to learn and discuss God’s Word. Open to all women.
URL:https://victorylutheran.com/event/womens-bible-study/2029-06-13/
CATEGORIES:Group Time
ATTACH;FMTTYPE=image/jpeg:https://victorylutheran.com/wp-content/uploads/2023/12/Bible-with-flower.jpg
END:VEVENT
BEGIN:VEVENT
DTSTART;TZID=America/Phoenix:20290614T100000
DTEND;TZID=America/Phoenix:20290614T110000
DTSTAMP:20260420T072817
CREATED:20230731T045009Z
LAST-MODIFIED:20251010T180919Z
UID:10008059-1876125600-1876129200@victorylutheran.com
SUMMARY:Prayer Group
DESCRIPTION:We are a community dedicated to the power of prayer and supporting one another in our spiritual journeys. Together\, we gather in fellowship to seek God’s guidance\, intercede for the needs of our congregation and beyond. Whether you’re new to faith or a seasoned believer\, our prayer group offers a safe space for heartfelt conversations with God and the opportunity to grow in faith. Join us as we seek God’s presence and experience the transformative power of prayer.
URL:https://victorylutheran.com/event/prayer-group/2029-06-14/
CATEGORIES:Group Time
ATTACH;FMTTYPE=image/png:https://victorylutheran.com/wp-content/uploads/2023/06/prayer-ministry.png
END:VEVENT
BEGIN:VEVENT
DTSTART;TZID=America/Phoenix:20290620T133000
DTEND;TZID=America/Phoenix:20290620T150000
DTSTAMP:20260420T072817
CREATED:20231230T201101Z
LAST-MODIFIED:20231230T201112Z
UID:10007261-1876656600-1876662000@victorylutheran.com
SUMMARY:Women's Bible Study
DESCRIPTION:We gather each Wednesday at 1:30pm to learn and discuss God’s Word. Open to all women.
URL:https://victorylutheran.com/event/womens-bible-study/2029-06-20/
CATEGORIES:Group Time
ATTACH;FMTTYPE=image/jpeg:https://victorylutheran.com/wp-content/uploads/2023/12/Bible-with-flower.jpg
END:VEVENT
BEGIN:VEVENT
DTSTART;TZID=America/Phoenix:20290621T100000
DTEND;TZID=America/Phoenix:20290621T110000
DTSTAMP:20260420T072817
CREATED:20230731T045009Z
LAST-MODIFIED:20251010T180919Z
UID:10008060-1876730400-1876734000@victorylutheran.com
SUMMARY:Prayer Group
DESCRIPTION:We are a community dedicated to the power of prayer and supporting one another in our spiritual journeys. Together\, we gather in fellowship to seek God’s guidance\, intercede for the needs of our congregation and beyond. Whether you’re new to faith or a seasoned believer\, our prayer group offers a safe space for heartfelt conversations with God and the opportunity to grow in faith. Join us as we seek God’s presence and experience the transformative power of prayer.
URL:https://victorylutheran.com/event/prayer-group/2029-06-21/
CATEGORIES:Group Time
ATTACH;FMTTYPE=image/png:https://victorylutheran.com/wp-content/uploads/2023/06/prayer-ministry.png
END:VEVENT
BEGIN:VEVENT
DTSTART;TZID=America/Phoenix:20290627T133000
DTEND;TZID=America/Phoenix:20290627T150000
DTSTAMP:20260420T072817
CREATED:20231230T201101Z
LAST-MODIFIED:20231230T201112Z
UID:10007262-1877261400-1877266800@victorylutheran.com
SUMMARY:Women's Bible Study
DESCRIPTION:We gather each Wednesday at 1:30pm to learn and discuss God’s Word. Open to all women.
URL:https://victorylutheran.com/event/womens-bible-study/2029-06-27/
CATEGORIES:Group Time
ATTACH;FMTTYPE=image/jpeg:https://victorylutheran.com/wp-content/uploads/2023/12/Bible-with-flower.jpg
END:VEVENT
BEGIN:VEVENT
DTSTART;TZID=America/Phoenix:20290628T100000
DTEND;TZID=America/Phoenix:20290628T110000
DTSTAMP:20260420T072817
CREATED:20230731T045009Z
LAST-MODIFIED:20251010T180919Z
UID:10008061-1877335200-1877338800@victorylutheran.com
SUMMARY:Prayer Group
DESCRIPTION:We are a community dedicated to the power of prayer and supporting one another in our spiritual journeys. Together\, we gather in fellowship to seek God’s guidance\, intercede for the needs of our congregation and beyond. Whether you’re new to faith or a seasoned believer\, our prayer group offers a safe space for heartfelt conversations with God and the opportunity to grow in faith. Join us as we seek God’s presence and experience the transformative power of prayer.
URL:https://victorylutheran.com/event/prayer-group/2029-06-28/
CATEGORIES:Group Time
ATTACH;FMTTYPE=image/png:https://victorylutheran.com/wp-content/uploads/2023/06/prayer-ministry.png
END:VEVENT
BEGIN:VEVENT
DTSTART;TZID=America/Phoenix:20290704T133000
DTEND;TZID=America/Phoenix:20290704T150000
DTSTAMP:20260420T072817
CREATED:20231230T201101Z
LAST-MODIFIED:20231230T201112Z
UID:10007263-1877866200-1877871600@victorylutheran.com
SUMMARY:Women's Bible Study
DESCRIPTION:We gather each Wednesday at 1:30pm to learn and discuss God’s Word. Open to all women.
URL:https://victorylutheran.com/event/womens-bible-study/2029-07-04/
CATEGORIES:Group Time
ATTACH;FMTTYPE=image/jpeg:https://victorylutheran.com/wp-content/uploads/2023/12/Bible-with-flower.jpg
END:VEVENT
BEGIN:VEVENT
DTSTART;TZID=America/Phoenix:20290705T100000
DTEND;TZID=America/Phoenix:20290705T110000
DTSTAMP:20260420T072817
CREATED:20230731T045009Z
LAST-MODIFIED:20251010T180919Z
UID:10009999-1877940000-1877943600@victorylutheran.com
SUMMARY:Prayer Group
DESCRIPTION:We are a community dedicated to the power of prayer and supporting one another in our spiritual journeys. Together\, we gather in fellowship to seek God’s guidance\, intercede for the needs of our congregation and beyond. Whether you’re new to faith or a seasoned believer\, our prayer group offers a safe space for heartfelt conversations with God and the opportunity to grow in faith. Join us as we seek God’s presence and experience the transformative power of prayer.
URL:https://victorylutheran.com/event/prayer-group/2029-07-05/
CATEGORIES:Group Time
ATTACH;FMTTYPE=image/png:https://victorylutheran.com/wp-content/uploads/2023/06/prayer-ministry.png
END:VEVENT
BEGIN:VEVENT
DTSTART;TZID=America/Phoenix:20290711T133000
DTEND;TZID=America/Phoenix:20290711T150000
DTSTAMP:20260420T072817
CREATED:20231230T201101Z
LAST-MODIFIED:20231230T201112Z
UID:10007264-1878471000-1878476400@victorylutheran.com
SUMMARY:Women's Bible Study
DESCRIPTION:We gather each Wednesday at 1:30pm to learn and discuss God’s Word. Open to all women.
URL:https://victorylutheran.com/event/womens-bible-study/2029-07-11/
CATEGORIES:Group Time
ATTACH;FMTTYPE=image/jpeg:https://victorylutheran.com/wp-content/uploads/2023/12/Bible-with-flower.jpg
END:VEVENT
BEGIN:VEVENT
DTSTART;TZID=America/Phoenix:20290712T100000
DTEND;TZID=America/Phoenix:20290712T110000
DTSTAMP:20260420T072817
CREATED:20230731T045009Z
LAST-MODIFIED:20251010T180919Z
UID:10008062-1878544800-1878548400@victorylutheran.com
SUMMARY:Prayer Group
DESCRIPTION:We are a community dedicated to the power of prayer and supporting one another in our spiritual journeys. Together\, we gather in fellowship to seek God’s guidance\, intercede for the needs of our congregation and beyond. Whether you’re new to faith or a seasoned believer\, our prayer group offers a safe space for heartfelt conversations with God and the opportunity to grow in faith. Join us as we seek God’s presence and experience the transformative power of prayer.
URL:https://victorylutheran.com/event/prayer-group/2029-07-12/
CATEGORIES:Group Time
ATTACH;FMTTYPE=image/png:https://victorylutheran.com/wp-content/uploads/2023/06/prayer-ministry.png
END:VEVENT
BEGIN:VEVENT
DTSTART;TZID=America/Phoenix:20290718T133000
DTEND;TZID=America/Phoenix:20290718T150000
DTSTAMP:20260420T072817
CREATED:20231230T201101Z
LAST-MODIFIED:20231230T201112Z
UID:10007265-1879075800-1879081200@victorylutheran.com
SUMMARY:Women's Bible Study
DESCRIPTION:We gather each Wednesday at 1:30pm to learn and discuss God’s Word. Open to all women.
URL:https://victorylutheran.com/event/womens-bible-study/2029-07-18/
CATEGORIES:Group Time
ATTACH;FMTTYPE=image/jpeg:https://victorylutheran.com/wp-content/uploads/2023/12/Bible-with-flower.jpg
END:VEVENT
BEGIN:VEVENT
DTSTART;TZID=America/Phoenix:20290719T100000
DTEND;TZID=America/Phoenix:20290719T110000
DTSTAMP:20260420T072817
CREATED:20230731T045009Z
LAST-MODIFIED:20251010T180919Z
UID:10008063-1879149600-1879153200@victorylutheran.com
SUMMARY:Prayer Group
DESCRIPTION:We are a community dedicated to the power of prayer and supporting one another in our spiritual journeys. Together\, we gather in fellowship to seek God’s guidance\, intercede for the needs of our congregation and beyond. Whether you’re new to faith or a seasoned believer\, our prayer group offers a safe space for heartfelt conversations with God and the opportunity to grow in faith. Join us as we seek God’s presence and experience the transformative power of prayer.
URL:https://victorylutheran.com/event/prayer-group/2029-07-19/
CATEGORIES:Group Time
ATTACH;FMTTYPE=image/png:https://victorylutheran.com/wp-content/uploads/2023/06/prayer-ministry.png
END:VEVENT
BEGIN:VEVENT
DTSTART;TZID=America/Phoenix:20290725T133000
DTEND;TZID=America/Phoenix:20290725T150000
DTSTAMP:20260420T072817
CREATED:20231230T201101Z
LAST-MODIFIED:20231230T201112Z
UID:10007266-1879680600-1879686000@victorylutheran.com
SUMMARY:Women's Bible Study
DESCRIPTION:We gather each Wednesday at 1:30pm to learn and discuss God’s Word. Open to all women.
URL:https://victorylutheran.com/event/womens-bible-study/2029-07-25/
CATEGORIES:Group Time
ATTACH;FMTTYPE=image/jpeg:https://victorylutheran.com/wp-content/uploads/2023/12/Bible-with-flower.jpg
END:VEVENT
BEGIN:VEVENT
DTSTART;TZID=America/Phoenix:20290726T100000
DTEND;TZID=America/Phoenix:20290726T110000
DTSTAMP:20260420T072817
CREATED:20230731T045009Z
LAST-MODIFIED:20251010T180919Z
UID:10008064-1879754400-1879758000@victorylutheran.com
SUMMARY:Prayer Group
DESCRIPTION:We are a community dedicated to the power of prayer and supporting one another in our spiritual journeys. Together\, we gather in fellowship to seek God’s guidance\, intercede for the needs of our congregation and beyond. Whether you’re new to faith or a seasoned believer\, our prayer group offers a safe space for heartfelt conversations with God and the opportunity to grow in faith. Join us as we seek God’s presence and experience the transformative power of prayer.
URL:https://victorylutheran.com/event/prayer-group/2029-07-26/
CATEGORIES:Group Time
ATTACH;FMTTYPE=image/png:https://victorylutheran.com/wp-content/uploads/2023/06/prayer-ministry.png
END:VEVENT
BEGIN:VEVENT
DTSTART;TZID=America/Phoenix:20290801T133000
DTEND;TZID=America/Phoenix:20290801T150000
DTSTAMP:20260420T072817
CREATED:20231230T201101Z
LAST-MODIFIED:20231230T201112Z
UID:10007267-1880285400-1880290800@victorylutheran.com
SUMMARY:Women's Bible Study
DESCRIPTION:We gather each Wednesday at 1:30pm to learn and discuss God’s Word. Open to all women.
URL:https://victorylutheran.com/event/womens-bible-study/2029-08-01/
CATEGORIES:Group Time
ATTACH;FMTTYPE=image/jpeg:https://victorylutheran.com/wp-content/uploads/2023/12/Bible-with-flower.jpg
END:VEVENT
BEGIN:VEVENT
DTSTART;TZID=America/Phoenix:20290802T100000
DTEND;TZID=America/Phoenix:20290802T110000
DTSTAMP:20260420T072817
CREATED:20230731T045009Z
LAST-MODIFIED:20251010T180919Z
UID:10010000-1880359200-1880362800@victorylutheran.com
SUMMARY:Prayer Group
DESCRIPTION:We are a community dedicated to the power of prayer and supporting one another in our spiritual journeys. Together\, we gather in fellowship to seek God’s guidance\, intercede for the needs of our congregation and beyond. Whether you’re new to faith or a seasoned believer\, our prayer group offers a safe space for heartfelt conversations with God and the opportunity to grow in faith. Join us as we seek God’s presence and experience the transformative power of prayer.
URL:https://victorylutheran.com/event/prayer-group/2029-08-02/
CATEGORIES:Group Time
ATTACH;FMTTYPE=image/png:https://victorylutheran.com/wp-content/uploads/2023/06/prayer-ministry.png
END:VEVENT
BEGIN:VEVENT
DTSTART;TZID=America/Phoenix:20290808T133000
DTEND;TZID=America/Phoenix:20290808T150000
DTSTAMP:20260420T072817
CREATED:20231230T201101Z
LAST-MODIFIED:20231230T201112Z
UID:10007268-1880890200-1880895600@victorylutheran.com
SUMMARY:Women's Bible Study
DESCRIPTION:We gather each Wednesday at 1:30pm to learn and discuss God’s Word. Open to all women.
URL:https://victorylutheran.com/event/womens-bible-study/2029-08-08/
CATEGORIES:Group Time
ATTACH;FMTTYPE=image/jpeg:https://victorylutheran.com/wp-content/uploads/2023/12/Bible-with-flower.jpg
END:VEVENT
BEGIN:VEVENT
DTSTART;TZID=America/Phoenix:20290809T100000
DTEND;TZID=America/Phoenix:20290809T110000
DTSTAMP:20260420T072817
CREATED:20230731T045009Z
LAST-MODIFIED:20251010T180919Z
UID:10008065-1880964000-1880967600@victorylutheran.com
SUMMARY:Prayer Group
DESCRIPTION:We are a community dedicated to the power of prayer and supporting one another in our spiritual journeys. Together\, we gather in fellowship to seek God’s guidance\, intercede for the needs of our congregation and beyond. Whether you’re new to faith or a seasoned believer\, our prayer group offers a safe space for heartfelt conversations with God and the opportunity to grow in faith. Join us as we seek God’s presence and experience the transformative power of prayer.
URL:https://victorylutheran.com/event/prayer-group/2029-08-09/
CATEGORIES:Group Time
ATTACH;FMTTYPE=image/png:https://victorylutheran.com/wp-content/uploads/2023/06/prayer-ministry.png
END:VEVENT
END:VCALENDAR