BEGIN:VCALENDAR
VERSION:2.0
PRODID:-//Victory Lutheran Church - ECPv6.15.11//NONSGML v1.0//EN
CALSCALE:GREGORIAN
METHOD:PUBLISH
X-ORIGINAL-URL:https://victorylutheran.com
X-WR-CALDESC:Events for Victory Lutheran Church
REFRESH-INTERVAL;VALUE=DURATION:PT1H
X-Robots-Tag:noindex
X-PUBLISHED-TTL:PT1H
BEGIN:VTIMEZONE
TZID:America/Phoenix
BEGIN:STANDARD
TZOFFSETFROM:-0700
TZOFFSETTO:-0700
TZNAME:MST
DTSTART:20240101T000000
END:STANDARD
END:VTIMEZONE
BEGIN:VEVENT
DTSTART;TZID=America/Phoenix:20251102T093000
DTEND;TZID=America/Phoenix:20251102T103000
DTSTAMP:20260419T230705
CREATED:20230728T231856Z
LAST-MODIFIED:20230730T162603Z
UID:10002815-1762075800-1762079400@victorylutheran.com
SUMMARY:9:30am Worship
DESCRIPTION:
URL:https://victorylutheran.com/event/930am-worship-2/2025-11-02/
LOCATION:AZ
CATEGORIES:Gather Time
ATTACH;FMTTYPE=image/jpeg:https://victorylutheran.com/wp-content/uploads/2023/07/Inside-Sanctuary.jpg
END:VEVENT
BEGIN:VEVENT
DTSTART;TZID=America/Phoenix:20251102T093000
DTEND;TZID=America/Phoenix:20251102T103000
DTSTAMP:20260419T230705
CREATED:20251010T003424Z
LAST-MODIFIED:20251010T003804Z
UID:10009661-1762075800-1762079400@victorylutheran.com
SUMMARY:Children's Church
DESCRIPTION:
URL:https://victorylutheran.com/event/childrens-church-2/2025-11-02/
LOCATION:AZ
END:VEVENT
BEGIN:VEVENT
DTSTART;TZID=America/Phoenix:20251102T110000
DTEND;TZID=America/Phoenix:20251102T120000
DTSTAMP:20260419T230705
CREATED:20240306T000109Z
LAST-MODIFIED:20240306T000348Z
UID:10005959-1762081200-1762084800@victorylutheran.com
SUMMARY:Contemporary Worship
DESCRIPTION:Launching New  \n\n\n\nCONTEMPORARY WORSHIP SERVICE @ 11:00AMBeginning April 7th\, Victory Lutheran will introduce a Contemporary Worship Service at 11:00am on Sunday mornings. Following Easter\, the 11:00am service will shift from traditional to contemporary music\, led by a praise team under the guidance of Jackie Jewel. \n\n\n\nThis new service has been a long-requested and carefully planned endeavor. While contemporary worship has been a part of Victory for over twenty years\, it hasn’t been present at the Mesa campus for quite some time. \n\n\n\nIt’s important to note that traditional worship remains the cornerstone of Victory’s worship experience. This is our primary focus. We’re not aiming to “blend” traditional and contemporary styles. Our Saturday service at 4:00pm and Sunday services at 8:00am and 9:30am will continue to uphold traditional styles with excellence. The 11:00am Sunday service will adopt a contemporary style\, also delivered with excellence.
URL:https://victorylutheran.com/event/contemporary-worship/2025-11-02/
LOCATION:AZ
CATEGORIES:Gather Time
ATTACH;FMTTYPE=image/jpeg:https://victorylutheran.com/wp-content/uploads/2024/03/Contemporary-Countdown-Next-Sunday.jpeg
END:VEVENT
BEGIN:VEVENT
DTSTART;TZID=America/Phoenix:20251102T110000
DTEND;TZID=America/Phoenix:20251102T120000
DTSTAMP:20260419T230705
CREATED:20250926T025306Z
LAST-MODIFIED:20251205T195711Z
UID:10010589-1762081200-1762084800@victorylutheran.com
SUMMARY:Children's Church
DESCRIPTION:Children’s Church will start Sunday\, October 12 and new this year\, we will have Children’s Church available at both the 9:30 and 11:00 services!. Please remember the Children’s Ministry in your prayers.
URL:https://victorylutheran.com/event/childrens-church/2025-11-02/
LOCATION:AZ
CATEGORIES:Gather Time
ATTACH;FMTTYPE=image/jpeg:https://victorylutheran.com/wp-content/uploads/2025/09/Childrens-Church_Oct.jpg
END:VEVENT
BEGIN:VEVENT
DTSTART;TZID=America/Phoenix:20251103T090000
DTEND;TZID=America/Phoenix:20251103T113000
DTSTAMP:20260419T230705
CREATED:20251010T194254Z
LAST-MODIFIED:20251010T202529Z
UID:10000914-1762160400-1762169400@victorylutheran.com
SUMMARY:Food Pantry
DESCRIPTION:LSS-SW (Lutheran Social Services of the Southwest) 2 Food Pantry locations in Mesa. All that is needed is a photo ID. Note: We offer food only. No financial resources available. \n\n\n\nVictory Lutheran Church Food Pantry5946 E. University Drive\, Mesa\, AZ 85205Mondays & Wednesdays\, 9:00am-11:30am480-654-4539 \n\n\n\nFirst Evangelical Lutheran Church Food Pantry142 N. Date\, Mesa\, AZ 85201Tuesdays & Thursdays\, 9:00am-11:15am(except the 2nd Tuesday of the month)and the evening of the Wednesday AFTER the 2nd Tuesday 5:00-7:00pm
URL:https://victorylutheran.com/event/food-pantry-5/2025-11-03/
LOCATION:Victory Lutheran Church\, 5946 E. University Dr.\, Mesa\, AZ\, 85205\, United States
ATTACH;FMTTYPE=image/jpeg:https://victorylutheran.com/wp-content/uploads/2023/07/Food-Pantry_thumbnail.jpg
END:VEVENT
BEGIN:VEVENT
DTSTART;TZID=America/Phoenix:20251103T100000
DTEND;TZID=America/Phoenix:20251103T110000
DTSTAMP:20260419T230705
CREATED:20250902T221929Z
LAST-MODIFIED:20250902T222003Z
UID:10009627-1762164000-1762167600@victorylutheran.com
SUMMARY:“Joining Jesus On His Mission” Study
DESCRIPTION:“Joining Jesus On His Mission” 5-Week Study begins October 13!Starting Monday\, October 13\, we will begin a new study based on Greg Finke’s book Joining Jesus on His Mission. \n\n\n\nThis study is about learning how to see our everyday lives as places where God is already at work. Instead of adding more “church activities” to our schedules\, Joining Jesus helps us notice the simple opportunities right in front of us—conversations with neighbors\, kindness at work\, time with family and friends—and how Jesus can use those everyday moments to bring His love and grace to others. \n\n\n\nTogether\, we’ll talk about how to live with eyes open for what Jesus is doing\, how to listen to people’s stories\, and how to join Him in small but meaningful ways. It’s practical\, encouraging\, and designed for ordinary Christians who want to grow in living their faith daily. \n\n\n\nTwo sessions will be offered each Monday: 10:00am & 6:00pm. \n\n\n\nLight refreshments will be served. Come and discover what it means to join Jesus right where you already are! \n\n\n\nSIGN UP for 10am Study – CLICK HERE \n\n\n\nSIGN UP for 6pm Study – CLICK HERE
URL:https://victorylutheran.com/event/joining-jesus-on-his-mission-study/2025-11-03/
LOCATION:AZ
CATEGORIES:Group Time
ATTACH;FMTTYPE=image/jpeg:https://victorylutheran.com/wp-content/uploads/2025/09/Joining-Jesus_thumbnail.jpg
END:VEVENT
BEGIN:VEVENT
DTSTART;TZID=America/Phoenix:20251103T123000
DTEND;TZID=America/Phoenix:20251103T143000
DTSTAMP:20260419T230705
CREATED:20250828T034103Z
LAST-MODIFIED:20250828T034324Z
UID:10009613-1762173000-1762180200@victorylutheran.com
SUMMARY:GriefShare
DESCRIPTION:13-week Program (Sept. 8 – Dec.8)\n\n\n\n\n\nMondays\, 12:30-2:30pm  \n\n\n\n\n\nA program for help in your journey through grief after the death of a spouse\, child\, family member or friend. GriefShare is a special 13-week seminar and support group designed to help you rebuild your life after losing a loved one. Our group is led by caring people who have experienced grief and desire to help you through the difficult days ahead. We know it hurts and we want to help. Some of the topics covered include: \n\n\n\n\nIs This Normal? • Why Am I Stuck?\n\n\n\nGrief and Relationships • Guilt & Anger\n\n\n\nWhy has this Happened? • And What Do I Live for Now?\n\n\n\nThe Challenges of Grief • Complicating FactorsVideo presentation and discussion. While it’s ideal for members to attend all 13 sessions\, each weekly session is designed to be “open\,” meaning a person can begin attending at any time. There is comfort\, answers\, and hope in every session! Consider a single session to learn about the program.If you would like more information you can find more info about GriefShare on their website at griefshare.org or you may contact our office at 480-830-5024.
URL:https://victorylutheran.com/event/griefshare-6/2025-11-03/
LOCATION:AZ
CATEGORIES:Group Time
ATTACH;FMTTYPE=image/jpeg:https://victorylutheran.com/wp-content/uploads/2023/07/grief-share-slide.jpg
END:VEVENT
BEGIN:VEVENT
DTSTART;TZID=America/Phoenix:20251103T160000
DTEND;TZID=America/Phoenix:20251103T173000
DTSTAMP:20260419T230705
CREATED:20250703T195237Z
LAST-MODIFIED:20251205T171908Z
UID:10010989-1762185600-1762191000@victorylutheran.com
SUMMARY:Confirmation Class
DESCRIPTION:Our FREE Confirmation program is a three-year in-depth study of the scriptures and Luther’s Small Catechism. This program aims to provide a strong Christian foundation for youth\, emphasizing the sacraments\, commandments\, and foundational Christian beliefs. Classes are held every Monday from 4:00-5:30pm. \n\n\n\nFor more information contact Pastor Renee Bennett at 480-830-5024 xt. 121. \n\n\n\nNOTE: We will not meet December 15\, 22 & 29\, 2025.
URL:https://victorylutheran.com/event/confirmation-class-3/2025-11-03/
LOCATION:AZ
CATEGORIES:Group Time
END:VEVENT
BEGIN:VEVENT
DTSTART;TZID=America/Phoenix:20251103T180000
DTEND;TZID=America/Phoenix:20251103T190000
DTSTAMP:20260419T230705
CREATED:20250902T222106Z
LAST-MODIFIED:20250902T222112Z
UID:10009637-1762192800-1762196400@victorylutheran.com
SUMMARY:“Joining Jesus On His Mission” Study
DESCRIPTION:“Joining Jesus On His Mission” 5-Week Study begins October 13!Starting Monday\, October 13\, we will begin a new study based on Greg Finke’s book Joining Jesus on His Mission. \n\n\n\nThis study is about learning how to see our everyday lives as places where God is already at work. Instead of adding more “church activities” to our schedules\, Joining Jesus helps us notice the simple opportunities right in front of us—conversations with neighbors\, kindness at work\, time with family and friends—and how Jesus can use those everyday moments to bring His love and grace to others. \n\n\n\nTogether\, we’ll talk about how to live with eyes open for what Jesus is doing\, how to listen to people’s stories\, and how to join Him in small but meaningful ways. It’s practical\, encouraging\, and designed for ordinary Christians who want to grow in living their faith daily. \n\n\n\nTwo sessions will be offered each Monday: 10:00am & 6:00pm. \n\n\n\nLight refreshments will be served. Come and discover what it means to join Jesus right where you already are! \n\n\n\nSIGN UP for 10am Study – CLICK HERE \n\n\n\nSIGN UP for 6pm Study – CLICK HERE
URL:https://victorylutheran.com/event/joining-jesus-on-his-mission-study-2/2025-11-03/
LOCATION:AZ
CATEGORIES:Group Time
ATTACH;FMTTYPE=image/jpeg:https://victorylutheran.com/wp-content/uploads/2025/09/Joining-Jesus_thumbnail.jpg
END:VEVENT
BEGIN:VEVENT
DTSTART;TZID=America/Phoenix:20251104T190000
DTEND;TZID=America/Phoenix:20251104T200000
DTSTAMP:20260419T230705
CREATED:20230728T214538Z
LAST-MODIFIED:20230801T172346Z
UID:10001436-1762282800-1762286400@victorylutheran.com
SUMMARY:AA Men's Meeting
DESCRIPTION:The purpose of all meetings is for A.A. members to “share their experience\, strength and hope with each other that they may solve their common problem and help others to recover from alcoholism.”
URL:https://victorylutheran.com/event/aa-mens-meeting/2025-11-04/
LOCATION:AZ
ATTACH;FMTTYPE=image/jpeg:https://victorylutheran.com/wp-content/uploads/2023/07/1.jpg
END:VEVENT
BEGIN:VEVENT
DTSTART;TZID=America/Phoenix:20251105T090000
DTEND;TZID=America/Phoenix:20251105T113000
DTSTAMP:20260419T230705
CREATED:20251010T194254Z
LAST-MODIFIED:20251010T202529Z
UID:10000915-1762333200-1762342200@victorylutheran.com
SUMMARY:Food Pantry
DESCRIPTION:LSS-SW (Lutheran Social Services of the Southwest) 2 Food Pantry locations in Mesa. All that is needed is a photo ID. Note: We offer food only. No financial resources available. \n\n\n\nVictory Lutheran Church Food Pantry5946 E. University Drive\, Mesa\, AZ 85205Mondays & Wednesdays\, 9:00am-11:30am480-654-4539 \n\n\n\nFirst Evangelical Lutheran Church Food Pantry142 N. Date\, Mesa\, AZ 85201Tuesdays & Thursdays\, 9:00am-11:15am(except the 2nd Tuesday of the month)and the evening of the Wednesday AFTER the 2nd Tuesday 5:00-7:00pm
URL:https://victorylutheran.com/event/food-pantry-5/2025-11-05/
LOCATION:Victory Lutheran Church\, 5946 E. University Dr.\, Mesa\, AZ\, 85205\, United States
ATTACH;FMTTYPE=image/jpeg:https://victorylutheran.com/wp-content/uploads/2023/07/Food-Pantry_thumbnail.jpg
END:VEVENT
BEGIN:VEVENT
DTSTART;TZID=America/Phoenix:20251105T100000
DTEND;TZID=America/Phoenix:20251105T110000
DTSTAMP:20260419T230705
CREATED:20250703T194922Z
LAST-MODIFIED:20250703T194936Z
UID:10009081-1762336800-1762340400@victorylutheran.com
SUMMARY:Men's Bible Study
DESCRIPTION:We meet each week in the courtyard Luther Room (C-1). It is a great setting for studying and discussing sermon notes. Communion is observed.
URL:https://victorylutheran.com/event/mens-bible-study-4/2025-11-05/
LOCATION:AZ
CATEGORIES:Life Groups
ATTACH;FMTTYPE=image/jpeg:https://victorylutheran.com/wp-content/uploads/2023/07/Bible-and-coffee.jpg
END:VEVENT
BEGIN:VEVENT
DTSTART;TZID=America/Phoenix:20251105T123000
DTEND;TZID=America/Phoenix:20251105T133000
DTSTAMP:20260419T230705
CREATED:20230728T214657Z
LAST-MODIFIED:20230801T172234Z
UID:10001697-1762345800-1762349400@victorylutheran.com
SUMMARY:Al-Anon Meeting
DESCRIPTION:Al-Anon Family Groups is an important source of help for anyone affected by someone else’s drinking. Al-Anon groups are made up of family members and friends of alcoholics who share their experience\, strength\, and hope with each other.
URL:https://victorylutheran.com/event/al-anon-meeting/2025-11-05/
LOCATION:AZ
ATTACH;FMTTYPE=image/jpeg:https://victorylutheran.com/wp-content/uploads/2023/07/2.jpg
END:VEVENT
BEGIN:VEVENT
DTSTART;TZID=America/Phoenix:20251105T130000
DTEND;TZID=America/Phoenix:20251105T140000
DTSTAMP:20260419T230705
CREATED:20251010T181925Z
LAST-MODIFIED:20251010T181935Z
UID:10010082-1762347600-1762351200@victorylutheran.com
SUMMARY:Bell Choir Rehearsal
DESCRIPTION:
URL:https://victorylutheran.com/event/bell-choir-rehearsal/2025-11-05/
LOCATION:AZ
END:VEVENT
BEGIN:VEVENT
DTSTART;TZID=America/Phoenix:20251105T133000
DTEND;TZID=America/Phoenix:20251105T150000
DTSTAMP:20260419T230705
CREATED:20231230T201101Z
LAST-MODIFIED:20231230T201112Z
UID:10005387-1762349400-1762354800@victorylutheran.com
SUMMARY:Women's Bible Study
DESCRIPTION:We gather each Wednesday at 1:30pm to learn and discuss God’s Word. Open to all women.
URL:https://victorylutheran.com/event/womens-bible-study/2025-11-05/
LOCATION:AZ
CATEGORIES:Group Time
ATTACH;FMTTYPE=image/jpeg:https://victorylutheran.com/wp-content/uploads/2023/12/Bible-with-flower.jpg
END:VEVENT
BEGIN:VEVENT
DTSTART;TZID=America/Phoenix:20251105T183000
DTEND;TZID=America/Phoenix:20251105T200000
DTSTAMP:20260419T230705
CREATED:20251010T181824Z
LAST-MODIFIED:20251204T233327Z
UID:10010057-1762367400-1762372800@victorylutheran.com
SUMMARY:Choir Rehearsal
DESCRIPTION:
URL:https://victorylutheran.com/event/choir-rehearsal/2025-11-05/
LOCATION:AZ
END:VEVENT
BEGIN:VEVENT
DTSTART;TZID=America/Phoenix:20251105T200000
DTEND;TZID=America/Phoenix:20251105T210000
DTSTAMP:20260419T230705
CREATED:20240423T172328Z
LAST-MODIFIED:20240423T172410Z
UID:10006257-1762372800-1762376400@victorylutheran.com
SUMMARY:AA Meeting
DESCRIPTION:The purpose of all meetings is for A.A. members to “share their experience\, strength and hope with each other that they may solve their common problem and help others to recover from alcoholism.”
URL:https://victorylutheran.com/event/aa-meeting/2025-11-05/
LOCATION:AZ
ATTACH;FMTTYPE=image/jpeg:https://victorylutheran.com/wp-content/uploads/2023/07/AA-book-cover.jpg
END:VEVENT
BEGIN:VEVENT
DTSTART;TZID=America/Phoenix:20251106T100000
DTEND;TZID=America/Phoenix:20251106T110000
DTSTAMP:20260419T230705
CREATED:20230731T045009Z
LAST-MODIFIED:20251010T180919Z
UID:10009955-1762423200-1762426800@victorylutheran.com
SUMMARY:Prayer Group
DESCRIPTION:We are a community dedicated to the power of prayer and supporting one another in our spiritual journeys. Together\, we gather in fellowship to seek God’s guidance\, intercede for the needs of our congregation and beyond. Whether you’re new to faith or a seasoned believer\, our prayer group offers a safe space for heartfelt conversations with God and the opportunity to grow in faith. Join us as we seek God’s presence and experience the transformative power of prayer.
URL:https://victorylutheran.com/event/prayer-group/2025-11-06/
LOCATION:AZ
CATEGORIES:Group Time
ATTACH;FMTTYPE=image/png:https://victorylutheran.com/wp-content/uploads/2023/06/prayer-ministry.png
END:VEVENT
BEGIN:VEVENT
DTSTART;TZID=America/Phoenix:20251106T110000
DTEND;TZID=America/Phoenix:20251106T120000
DTSTAMP:20260419T230705
CREATED:20231230T203115Z
LAST-MODIFIED:20231230T203133Z
UID:10005574-1762426800-1762430400@victorylutheran.com
SUMMARY:Stephen Ministry
DESCRIPTION:Stephen Ministry equips lay people to provide confidential one-to-one Christian care to individuals in our congregation and community who are experiencing a difficult time in life\, such as grief\, divorce\, job loss\, chronic or terminal illness\, or relocation. \n\n\n\nStephen Ministers are trained by their congregation’s Stephen Leaders using resources from Stephen Ministries St. Louis. The training they receive in the congregation equips them to provide high-quality care to people who are hurting. \n\n\n\nCare receivers are individuals in the congregation or community who are going through a crisis or life difficulty. Potential care receivers first meet with a pastor or Stephen Leader\, who assesses their needs for care and matches them with a Stephen Minister.  \n\n\n\nAfter being matched with a person experiencing a life crisis\, the Stephen Minister meets with that person on a weekly basis for about an hour to listen\, care\, encourage\, and provide emotional and spiritual support. The caring relationship lasts as long as the need for care exists. \n\n\n\n“Bear one another’s burdens\, and in this way you will fulfill the law of Christ.” (Galatians 6:2\, NRSV) \n\n\n\nstephenministries.org
URL:https://victorylutheran.com/event/stephen-ministry/2025-11-06/
LOCATION:AZ
ATTACH;FMTTYPE=image/jpeg:https://victorylutheran.com/wp-content/uploads/2023/12/Stephen-Ministry-image.jpg
END:VEVENT
BEGIN:VEVENT
DTSTART;TZID=America/Phoenix:20251106T110000
DTEND;TZID=America/Phoenix:20251106T120000
DTSTAMP:20260419T230705
CREATED:20240830T031623Z
LAST-MODIFIED:20240830T031625Z
UID:10007599-1762426800-1762430400@victorylutheran.com
SUMMARY:Al-Anon Meeting
DESCRIPTION:Al-Anon Family Groups is an important source of help for anyone affected by someone else’s drinking. Al-Anon groups are made up of family members and friends of alcoholics who share their experience\, strength\, and hope with each other.
URL:https://victorylutheran.com/event/al-anon-meeting-2/2025-11-06/
LOCATION:AZ
ATTACH;FMTTYPE=image/jpeg:https://victorylutheran.com/wp-content/uploads/2023/07/2.jpg
END:VEVENT
BEGIN:VEVENT
DTSTART;TZID=America/Phoenix:20251107T000000
DTEND;TZID=America/Phoenix:20251107T235959
DTSTAMP:20260419T230705
CREATED:20250403T225014Z
LAST-MODIFIED:20250703T195838Z
UID:10009342-1762473600-1762559999@victorylutheran.com
SUMMARY:OFFICE CLOSED
DESCRIPTION:
URL:https://victorylutheran.com/event/office-closed-4th-of-july-holiday-2/2025-11-07/
LOCATION:AZ
END:VEVENT
BEGIN:VEVENT
DTSTART;TZID=America/Phoenix:20251107T193000
DTEND;TZID=America/Phoenix:20251107T213000
DTSTAMP:20260419T230705
CREATED:20251010T010710Z
LAST-MODIFIED:20251010T010717Z
UID:10009924-1762543800-1762551000@victorylutheran.com
SUMMARY:S.A.F.E. Singles Event - The Beach Boys Tribute
DESCRIPTION:The Beach Boys Tribute (Off Site – Bus)Friday November 7\, 7:30 pm (Bus leaves at 6:30)\, Hale Center Concerts\, 50 W Page\, Gilbert“Let’s go surfin’ now!” Catch the wave of fun at this tribute to the Beach Boys\, featuring hits like Good Vibrations\, Surfin’ USA\, and California Girls. Sing along\, feel the beach vibes\, and relive the timeless music that made the Beach Boys icons of a generation!Tickets $65 (with bus) or $60 without bus). Sign up and pay by Monday October 20.
URL:https://victorylutheran.com/event/s-a-f-e-singles-event-the-beach-boys-tribute/
LOCATION:AZ
END:VEVENT
BEGIN:VEVENT
DTSTART;TZID=America/Phoenix:20251108T080000
DTEND;TZID=America/Phoenix:20251108T090000
DTSTAMP:20260419T230705
CREATED:20230728T214917Z
LAST-MODIFIED:20230728T220149Z
UID:10001960-1762588800-1762592400@victorylutheran.com
SUMMARY:Men's Bible Study
DESCRIPTION:We meet each week in the courtyard Fireside Room. Our study sessions are focused on exploring the Scriptures\, discussing their relevance to our daily lives\, and encouraging one another in our spiritual journeys. 
URL:https://victorylutheran.com/event/mens-bible-study/2025-11-08/
LOCATION:AZ
CATEGORIES:Life Groups
ATTACH;FMTTYPE=image/jpeg:https://victorylutheran.com/wp-content/uploads/2023/07/Bible-in-hands-e1749767525203.jpg
END:VEVENT
BEGIN:VEVENT
DTSTART;TZID=America/Phoenix:20251108T160000
DTEND;TZID=America/Phoenix:20251108T170000
DTSTAMP:20260419T230705
CREATED:20230728T231824Z
LAST-MODIFIED:20230730T162125Z
UID:10003081-1762617600-1762621200@victorylutheran.com
SUMMARY:4pm Worship
DESCRIPTION:
URL:https://victorylutheran.com/event/4pm-worship-2/2025-11-08/
LOCATION:AZ
CATEGORIES:Gather Time
ATTACH;FMTTYPE=image/jpeg:https://victorylutheran.com/wp-content/uploads/2023/07/Drone-Inside-Church-Frame-scaled.jpg
END:VEVENT
BEGIN:VEVENT
DTSTART;TZID=America/Phoenix:20251109T080000
DTEND;TZID=America/Phoenix:20251109T090000
DTSTAMP:20260419T230705
CREATED:20230728T223634Z
LAST-MODIFIED:20231009T154408Z
UID:10002551-1762675200-1762678800@victorylutheran.com
SUMMARY:8am Worship & Communion
DESCRIPTION:
URL:https://victorylutheran.com/event/8am-worship/2025-11-09/
LOCATION:AZ
ATTACH;FMTTYPE=image/jpeg:https://victorylutheran.com/wp-content/uploads/2023/07/Inside-Sanctuary.jpg
END:VEVENT
BEGIN:VEVENT
DTSTART;TZID=America/Phoenix:20251109T083000
DTEND;TZID=America/Phoenix:20251109T110000
DTSTAMP:20260419T230705
CREATED:20230728T230208Z
LAST-MODIFIED:20250611T164918Z
UID:10008674-1762677000-1762686000@victorylutheran.com
SUMMARY:8:30-11am Morning Fellowship
DESCRIPTION:
URL:https://victorylutheran.com/event/7-11am-morning-fellowship/2025-11-09/
LOCATION:AZ
ATTACH;FMTTYPE=image/jpeg:https://victorylutheran.com/wp-content/uploads/2023/07/Fellowship.jpg
END:VEVENT
BEGIN:VEVENT
DTSTART;TZID=America/Phoenix:20251109T093000
DTEND;TZID=America/Phoenix:20251109T103000
DTSTAMP:20260419T230705
CREATED:20230728T231856Z
LAST-MODIFIED:20230730T162603Z
UID:10002816-1762680600-1762684200@victorylutheran.com
SUMMARY:9:30am Worship
DESCRIPTION:
URL:https://victorylutheran.com/event/930am-worship-2/2025-11-09/
LOCATION:AZ
CATEGORIES:Gather Time
ATTACH;FMTTYPE=image/jpeg:https://victorylutheran.com/wp-content/uploads/2023/07/Inside-Sanctuary.jpg
END:VEVENT
BEGIN:VEVENT
DTSTART;TZID=America/Phoenix:20251109T093000
DTEND;TZID=America/Phoenix:20251109T103000
DTSTAMP:20260419T230705
CREATED:20251010T003424Z
LAST-MODIFIED:20251010T003804Z
UID:10009662-1762680600-1762684200@victorylutheran.com
SUMMARY:Children's Church
DESCRIPTION:
URL:https://victorylutheran.com/event/childrens-church-2/2025-11-09/
LOCATION:AZ
END:VEVENT
BEGIN:VEVENT
DTSTART;TZID=America/Phoenix:20251109T110000
DTEND;TZID=America/Phoenix:20251109T120000
DTSTAMP:20260419T230705
CREATED:20240306T000109Z
LAST-MODIFIED:20240306T000348Z
UID:10005960-1762686000-1762689600@victorylutheran.com
SUMMARY:Contemporary Worship
DESCRIPTION:Launching New  \n\n\n\nCONTEMPORARY WORSHIP SERVICE @ 11:00AMBeginning April 7th\, Victory Lutheran will introduce a Contemporary Worship Service at 11:00am on Sunday mornings. Following Easter\, the 11:00am service will shift from traditional to contemporary music\, led by a praise team under the guidance of Jackie Jewel. \n\n\n\nThis new service has been a long-requested and carefully planned endeavor. While contemporary worship has been a part of Victory for over twenty years\, it hasn’t been present at the Mesa campus for quite some time. \n\n\n\nIt’s important to note that traditional worship remains the cornerstone of Victory’s worship experience. This is our primary focus. We’re not aiming to “blend” traditional and contemporary styles. Our Saturday service at 4:00pm and Sunday services at 8:00am and 9:30am will continue to uphold traditional styles with excellence. The 11:00am Sunday service will adopt a contemporary style\, also delivered with excellence.
URL:https://victorylutheran.com/event/contemporary-worship/2025-11-09/
LOCATION:AZ
CATEGORIES:Gather Time
ATTACH;FMTTYPE=image/jpeg:https://victorylutheran.com/wp-content/uploads/2024/03/Contemporary-Countdown-Next-Sunday.jpeg
END:VEVENT
BEGIN:VEVENT
DTSTART;TZID=America/Phoenix:20251109T110000
DTEND;TZID=America/Phoenix:20251109T120000
DTSTAMP:20260419T230705
CREATED:20250926T025306Z
LAST-MODIFIED:20251205T195711Z
UID:10010590-1762686000-1762689600@victorylutheran.com
SUMMARY:Children's Church
DESCRIPTION:Children’s Church will start Sunday\, October 12 and new this year\, we will have Children’s Church available at both the 9:30 and 11:00 services!. Please remember the Children’s Ministry in your prayers.
URL:https://victorylutheran.com/event/childrens-church/2025-11-09/
LOCATION:AZ
CATEGORIES:Gather Time
ATTACH;FMTTYPE=image/jpeg:https://victorylutheran.com/wp-content/uploads/2025/09/Childrens-Church_Oct.jpg
END:VEVENT
END:VCALENDAR