BEGIN:VCALENDAR
VERSION:2.0
PRODID:-//Victory Lutheran Church - ECPv6.15.11//NONSGML v1.0//EN
CALSCALE:GREGORIAN
METHOD:PUBLISH
X-WR-CALNAME:Victory Lutheran Church
X-ORIGINAL-URL:https://victorylutheran.com
X-WR-CALDESC:Events for Victory Lutheran Church
REFRESH-INTERVAL;VALUE=DURATION:PT1H
X-Robots-Tag:noindex
X-PUBLISHED-TTL:PT1H
BEGIN:VTIMEZONE
TZID:America/Phoenix
BEGIN:STANDARD
TZOFFSETFROM:-0700
TZOFFSETTO:-0700
TZNAME:MST
DTSTART:20240101T000000
END:STANDARD
END:VTIMEZONE
BEGIN:VEVENT
DTSTART;TZID=America/Phoenix:20251116T123000
DTEND;TZID=America/Phoenix:20251116T133000
DTSTAMP:20260420T053207
CREATED:20230802T222618Z
LAST-MODIFIED:20251024T030303Z
UID:10004885-1763296200-1763299800@victorylutheran.com
SUMMARY:Annual Congregational Meeting
DESCRIPTION:Open to all. Victory’s’ members are especially invited and encouraged to attend the annual congregational meeting. Voting members will elect Church Council representatives.
URL:https://victorylutheran.com/event/annual-congregational-meeting/
LOCATION:AZ
ATTACH;FMTTYPE=image/jpeg:https://victorylutheran.com/wp-content/uploads/2023/08/Annual-Congregational-Meeting-2025.jpg
END:VEVENT
BEGIN:VEVENT
DTSTART;TZID=America/Phoenix:20251117T090000
DTEND;TZID=America/Phoenix:20251117T113000
DTSTAMP:20260420T053207
CREATED:20251010T194254Z
LAST-MODIFIED:20251010T202529Z
UID:10000918-1763370000-1763379000@victorylutheran.com
SUMMARY:Food Pantry
DESCRIPTION:LSS-SW (Lutheran Social Services of the Southwest) 2 Food Pantry locations in Mesa. All that is needed is a photo ID. Note: We offer food only. No financial resources available. \n\n\n\nVictory Lutheran Church Food Pantry5946 E. University Drive\, Mesa\, AZ 85205Mondays & Wednesdays\, 9:00am-11:30am480-654-4539 \n\n\n\nFirst Evangelical Lutheran Church Food Pantry142 N. Date\, Mesa\, AZ 85201Tuesdays & Thursdays\, 9:00am-11:15am(except the 2nd Tuesday of the month)and the evening of the Wednesday AFTER the 2nd Tuesday 5:00-7:00pm
URL:https://victorylutheran.com/event/food-pantry-5/2025-11-17/
LOCATION:Victory Lutheran Church\, 5946 E. University Dr.\, Mesa\, AZ\, 85205\, United States
ATTACH;FMTTYPE=image/jpeg:https://victorylutheran.com/wp-content/uploads/2023/07/Food-Pantry_thumbnail.jpg
END:VEVENT
BEGIN:VEVENT
DTSTART;TZID=America/Phoenix:20251117T123000
DTEND;TZID=America/Phoenix:20251117T143000
DTSTAMP:20260420T053207
CREATED:20250828T034103Z
LAST-MODIFIED:20250828T034324Z
UID:10009615-1763382600-1763389800@victorylutheran.com
SUMMARY:GriefShare
DESCRIPTION:13-week Program (Sept. 8 – Dec.8)\n\n\n\n\n\nMondays\, 12:30-2:30pm  \n\n\n\n\n\nA program for help in your journey through grief after the death of a spouse\, child\, family member or friend. GriefShare is a special 13-week seminar and support group designed to help you rebuild your life after losing a loved one. Our group is led by caring people who have experienced grief and desire to help you through the difficult days ahead. We know it hurts and we want to help. Some of the topics covered include: \n\n\n\n\nIs This Normal? • Why Am I Stuck?\n\n\n\nGrief and Relationships • Guilt & Anger\n\n\n\nWhy has this Happened? • And What Do I Live for Now?\n\n\n\nThe Challenges of Grief • Complicating FactorsVideo presentation and discussion. While it’s ideal for members to attend all 13 sessions\, each weekly session is designed to be “open\,” meaning a person can begin attending at any time. There is comfort\, answers\, and hope in every session! Consider a single session to learn about the program.If you would like more information you can find more info about GriefShare on their website at griefshare.org or you may contact our office at 480-830-5024.
URL:https://victorylutheran.com/event/griefshare-6/2025-11-17/
LOCATION:AZ
CATEGORIES:Group Time
ATTACH;FMTTYPE=image/jpeg:https://victorylutheran.com/wp-content/uploads/2023/07/grief-share-slide.jpg
END:VEVENT
BEGIN:VEVENT
DTSTART;TZID=America/Phoenix:20251117T160000
DTEND;TZID=America/Phoenix:20251117T173000
DTSTAMP:20260420T053207
CREATED:20250703T195237Z
LAST-MODIFIED:20251205T171908Z
UID:10010991-1763395200-1763400600@victorylutheran.com
SUMMARY:Confirmation Class
DESCRIPTION:Our FREE Confirmation program is a three-year in-depth study of the scriptures and Luther’s Small Catechism. This program aims to provide a strong Christian foundation for youth\, emphasizing the sacraments\, commandments\, and foundational Christian beliefs. Classes are held every Monday from 4:00-5:30pm. \n\n\n\nFor more information contact Pastor Renee Bennett at 480-830-5024 xt. 121. \n\n\n\nNOTE: We will not meet December 15\, 22 & 29\, 2025.
URL:https://victorylutheran.com/event/confirmation-class-3/2025-11-17/
LOCATION:AZ
CATEGORIES:Group Time
END:VEVENT
BEGIN:VEVENT
DTSTART;TZID=America/Phoenix:20251118T190000
DTEND;TZID=America/Phoenix:20251118T200000
DTSTAMP:20260420T053207
CREATED:20230728T214538Z
LAST-MODIFIED:20230801T172346Z
UID:10001438-1763492400-1763496000@victorylutheran.com
SUMMARY:AA Men's Meeting
DESCRIPTION:The purpose of all meetings is for A.A. members to “share their experience\, strength and hope with each other that they may solve their common problem and help others to recover from alcoholism.”
URL:https://victorylutheran.com/event/aa-mens-meeting/2025-11-18/
LOCATION:AZ
ATTACH;FMTTYPE=image/jpeg:https://victorylutheran.com/wp-content/uploads/2023/07/1.jpg
END:VEVENT
BEGIN:VEVENT
DTSTART;TZID=America/Phoenix:20251119T090000
DTEND;TZID=America/Phoenix:20251119T113000
DTSTAMP:20260420T053207
CREATED:20251010T194254Z
LAST-MODIFIED:20251010T202529Z
UID:10000919-1763542800-1763551800@victorylutheran.com
SUMMARY:Food Pantry
DESCRIPTION:LSS-SW (Lutheran Social Services of the Southwest) 2 Food Pantry locations in Mesa. All that is needed is a photo ID. Note: We offer food only. No financial resources available. \n\n\n\nVictory Lutheran Church Food Pantry5946 E. University Drive\, Mesa\, AZ 85205Mondays & Wednesdays\, 9:00am-11:30am480-654-4539 \n\n\n\nFirst Evangelical Lutheran Church Food Pantry142 N. Date\, Mesa\, AZ 85201Tuesdays & Thursdays\, 9:00am-11:15am(except the 2nd Tuesday of the month)and the evening of the Wednesday AFTER the 2nd Tuesday 5:00-7:00pm
URL:https://victorylutheran.com/event/food-pantry-5/2025-11-19/
LOCATION:Victory Lutheran Church\, 5946 E. University Dr.\, Mesa\, AZ\, 85205\, United States
ATTACH;FMTTYPE=image/jpeg:https://victorylutheran.com/wp-content/uploads/2023/07/Food-Pantry_thumbnail.jpg
END:VEVENT
BEGIN:VEVENT
DTSTART;TZID=America/Phoenix:20251119T100000
DTEND;TZID=America/Phoenix:20251119T110000
DTSTAMP:20260420T053207
CREATED:20250703T194922Z
LAST-MODIFIED:20250703T194936Z
UID:10009083-1763546400-1763550000@victorylutheran.com
SUMMARY:Men's Bible Study
DESCRIPTION:We meet each week in the courtyard Luther Room (C-1). It is a great setting for studying and discussing sermon notes. Communion is observed.
URL:https://victorylutheran.com/event/mens-bible-study-4/2025-11-19/
LOCATION:AZ
CATEGORIES:Life Groups
ATTACH;FMTTYPE=image/jpeg:https://victorylutheran.com/wp-content/uploads/2023/07/Bible-and-coffee.jpg
END:VEVENT
BEGIN:VEVENT
DTSTART;TZID=America/Phoenix:20251119T123000
DTEND;TZID=America/Phoenix:20251119T133000
DTSTAMP:20260420T053207
CREATED:20230728T214657Z
LAST-MODIFIED:20230801T172234Z
UID:10001699-1763555400-1763559000@victorylutheran.com
SUMMARY:Al-Anon Meeting
DESCRIPTION:Al-Anon Family Groups is an important source of help for anyone affected by someone else’s drinking. Al-Anon groups are made up of family members and friends of alcoholics who share their experience\, strength\, and hope with each other.
URL:https://victorylutheran.com/event/al-anon-meeting/2025-11-19/
LOCATION:AZ
ATTACH;FMTTYPE=image/jpeg:https://victorylutheran.com/wp-content/uploads/2023/07/2.jpg
END:VEVENT
BEGIN:VEVENT
DTSTART;TZID=America/Phoenix:20251119T130000
DTEND;TZID=America/Phoenix:20251119T140000
DTSTAMP:20260420T053207
CREATED:20251010T181925Z
LAST-MODIFIED:20251010T181935Z
UID:10010084-1763557200-1763560800@victorylutheran.com
SUMMARY:Bell Choir Rehearsal
DESCRIPTION:
URL:https://victorylutheran.com/event/bell-choir-rehearsal/2025-11-19/
LOCATION:AZ
END:VEVENT
BEGIN:VEVENT
DTSTART;TZID=America/Phoenix:20251119T133000
DTEND;TZID=America/Phoenix:20251119T150000
DTSTAMP:20260420T053207
CREATED:20231230T201101Z
LAST-MODIFIED:20231230T201112Z
UID:10005389-1763559000-1763564400@victorylutheran.com
SUMMARY:Women's Bible Study
DESCRIPTION:We gather each Wednesday at 1:30pm to learn and discuss God’s Word. Open to all women.
URL:https://victorylutheran.com/event/womens-bible-study/2025-11-19/
LOCATION:AZ
CATEGORIES:Group Time
ATTACH;FMTTYPE=image/jpeg:https://victorylutheran.com/wp-content/uploads/2023/12/Bible-with-flower.jpg
END:VEVENT
BEGIN:VEVENT
DTSTART;TZID=America/Phoenix:20251119T183000
DTEND;TZID=America/Phoenix:20251119T200000
DTSTAMP:20260420T053207
CREATED:20251010T181824Z
LAST-MODIFIED:20251204T233327Z
UID:10010059-1763577000-1763582400@victorylutheran.com
SUMMARY:Choir Rehearsal
DESCRIPTION:
URL:https://victorylutheran.com/event/choir-rehearsal/2025-11-19/
LOCATION:AZ
END:VEVENT
BEGIN:VEVENT
DTSTART;TZID=America/Phoenix:20251119T200000
DTEND;TZID=America/Phoenix:20251119T210000
DTSTAMP:20260420T053207
CREATED:20240423T172328Z
LAST-MODIFIED:20240423T172410Z
UID:10006259-1763582400-1763586000@victorylutheran.com
SUMMARY:AA Meeting
DESCRIPTION:The purpose of all meetings is for A.A. members to “share their experience\, strength and hope with each other that they may solve their common problem and help others to recover from alcoholism.”
URL:https://victorylutheran.com/event/aa-meeting/2025-11-19/
LOCATION:AZ
ATTACH;FMTTYPE=image/jpeg:https://victorylutheran.com/wp-content/uploads/2023/07/AA-book-cover.jpg
END:VEVENT
BEGIN:VEVENT
DTSTART;TZID=America/Phoenix:20251120T100000
DTEND;TZID=America/Phoenix:20251120T110000
DTSTAMP:20260420T053207
CREATED:20230731T045009Z
LAST-MODIFIED:20251010T180919Z
UID:10004356-1763632800-1763636400@victorylutheran.com
SUMMARY:Prayer Group
DESCRIPTION:We are a community dedicated to the power of prayer and supporting one another in our spiritual journeys. Together\, we gather in fellowship to seek God’s guidance\, intercede for the needs of our congregation and beyond. Whether you’re new to faith or a seasoned believer\, our prayer group offers a safe space for heartfelt conversations with God and the opportunity to grow in faith. Join us as we seek God’s presence and experience the transformative power of prayer.
URL:https://victorylutheran.com/event/prayer-group/2025-11-20/
LOCATION:AZ
CATEGORIES:Group Time
ATTACH;FMTTYPE=image/png:https://victorylutheran.com/wp-content/uploads/2023/06/prayer-ministry.png
END:VEVENT
BEGIN:VEVENT
DTSTART;TZID=America/Phoenix:20251120T110000
DTEND;TZID=America/Phoenix:20251120T120000
DTSTAMP:20260420T053207
CREATED:20231230T203219Z
LAST-MODIFIED:20240115T232331Z
UID:10005694-1763636400-1763640000@victorylutheran.com
SUMMARY:Stephen Ministry
DESCRIPTION:Stephen Ministry equips lay people to provide confidential one-to-one Christian care to individuals in our congregation and community who are experiencing a difficult time in life\, such as grief\, divorce\, job loss\, chronic or terminal illness\, or relocation. \n\n\n\nStephen Ministers are trained by their congregation’s Stephen Leaders using resources from Stephen Ministries St. Louis. The training they receive in the congregation equips them to provide high-quality care to people who are hurting. \n\n\n\nCare receivers are individuals in the congregation or community who are going through a crisis or life difficulty. Potential care receivers first meet with a pastor or Stephen Leader\, who assesses their needs for care and matches them with a Stephen Minister.  \n\n\n\nAfter being matched with a person experiencing a life crisis\, the Stephen Minister meets with that person on a weekly basis for about an hour to listen\, care\, encourage\, and provide emotional and spiritual support. The caring relationship lasts as long as the need for care exists. \n\n\n\n“Bear one another’s burdens\, and in this way you will fulfill the law of Christ.” (Galatians 6:2\, NRSV) \n\n\n\nstephenministries.org
URL:https://victorylutheran.com/event/stephen-ministry-2/2025-11-20/
LOCATION:Victory Lutheran Church\, 5946 E. University Dr.\, Mesa\, AZ\, 85205\, United States
ATTACH;FMTTYPE=image/jpeg:https://victorylutheran.com/wp-content/uploads/2023/12/Stephen-Ministry-image.jpg
END:VEVENT
BEGIN:VEVENT
DTSTART;TZID=America/Phoenix:20251120T110000
DTEND;TZID=America/Phoenix:20251120T120000
DTSTAMP:20260420T053207
CREATED:20240830T031623Z
LAST-MODIFIED:20240830T031625Z
UID:10007601-1763636400-1763640000@victorylutheran.com
SUMMARY:Al-Anon Meeting
DESCRIPTION:Al-Anon Family Groups is an important source of help for anyone affected by someone else’s drinking. Al-Anon groups are made up of family members and friends of alcoholics who share their experience\, strength\, and hope with each other.
URL:https://victorylutheran.com/event/al-anon-meeting-2/2025-11-20/
LOCATION:AZ
ATTACH;FMTTYPE=image/jpeg:https://victorylutheran.com/wp-content/uploads/2023/07/2.jpg
END:VEVENT
BEGIN:VEVENT
DTSTART;TZID=America/Phoenix:20251121T000000
DTEND;TZID=America/Phoenix:20251121T235959
DTSTAMP:20260420T053207
CREATED:20250403T225014Z
LAST-MODIFIED:20250703T195838Z
UID:10009344-1763683200-1763769599@victorylutheran.com
SUMMARY:OFFICE CLOSED
DESCRIPTION:
URL:https://victorylutheran.com/event/office-closed-4th-of-july-holiday-2/2025-11-21/
LOCATION:AZ
END:VEVENT
BEGIN:VEVENT
DTSTART;TZID=America/Phoenix:20251121T180000
DTEND;TZID=America/Phoenix:20251121T203000
DTSTAMP:20260420T053207
CREATED:20250926T024224Z
LAST-MODIFIED:20250926T024526Z
UID:10009639-1763748000-1763757000@victorylutheran.com
SUMMARY:Orchard Zoolights
DESCRIPTION:Orchard ZoolightsFri\, November 21\, 2025 @ 6:00pmOur favorite night of the year is right around the corner! We can’t wait to share a meal together\, reflect on all that God has done through Victory’s global mission partner Orchard: Africa this year. Enjoy an evening out at the Phoenix Zoo with a barbecue dinner\, a private viewing of Zoolights and an opportunity to make an impact in the lives of families in Southern Africa. Tickets are $50 (includes meal). Bus will leave Victory at 5:30pm.Sign up and pay at the Welcome Desk.Early Bird Rate $50!Deadline: October 26thPhoenix Zoo\, 455 N. Galvin Parkway Phoenix\, AZ 85008
URL:https://victorylutheran.com/event/orchard-zoolights/
LOCATION:AZ
CATEGORIES:Go Time
ATTACH;FMTTYPE=image/jpeg:https://victorylutheran.com/wp-content/uploads/2025/09/orchard-zoolights.jpg
END:VEVENT
BEGIN:VEVENT
DTSTART;TZID=America/Phoenix:20251122T080000
DTEND;TZID=America/Phoenix:20251122T090000
DTSTAMP:20260420T053207
CREATED:20230728T214917Z
LAST-MODIFIED:20230728T220149Z
UID:10001962-1763798400-1763802000@victorylutheran.com
SUMMARY:Men's Bible Study
DESCRIPTION:We meet each week in the courtyard Fireside Room. Our study sessions are focused on exploring the Scriptures\, discussing their relevance to our daily lives\, and encouraging one another in our spiritual journeys. 
URL:https://victorylutheran.com/event/mens-bible-study/2025-11-22/
LOCATION:AZ
CATEGORIES:Life Groups
ATTACH;FMTTYPE=image/jpeg:https://victorylutheran.com/wp-content/uploads/2023/07/Bible-in-hands-e1749767525203.jpg
END:VEVENT
BEGIN:VEVENT
DTSTART;TZID=America/Phoenix:20251122T090000
DTEND;TZID=America/Phoenix:20251122T130000
DTSTAMP:20260420T053207
CREATED:20251010T001110Z
LAST-MODIFIED:20251010T001119Z
UID:10009649-1763802000-1763816400@victorylutheran.com
SUMMARY:KBM Markets
DESCRIPTION:KBM Markets – Victory Parking LotKBM Markets is a Christian organization that sponsors small local businesses through their open-air markets. There are over 40 vendors (and growing!)\, food trucks\, and live music.  KBM Markets will host their 2025/2026 events in Victory’s parking lot on Saturdays (1-2 times per month) from 9am to 1pm. Victory will have a booth advertising our services and ministries. Fall Markets: October 4 & 18\, 9am-1pmHarvest Markets: November 1 & 22\, 9am-1pmThe Christmas Market: December 6\, 9am-1pmWe hope that you will come to check it out!For more information visit:linktr.ee/kbm.markets
URL:https://victorylutheran.com/event/kbm-markets-2/
LOCATION:AZ
CATEGORIES:Social Event
ATTACH;FMTTYPE=image/jpeg:https://victorylutheran.com/wp-content/uploads/2025/10/KBM-Market_NOV-22.jpg
END:VEVENT
BEGIN:VEVENT
DTSTART;TZID=America/Phoenix:20251122T160000
DTEND;TZID=America/Phoenix:20251122T170000
DTSTAMP:20260420T053207
CREATED:20230728T231824Z
LAST-MODIFIED:20230730T162125Z
UID:10003083-1763827200-1763830800@victorylutheran.com
SUMMARY:4pm Worship
DESCRIPTION:
URL:https://victorylutheran.com/event/4pm-worship-2/2025-11-22/
LOCATION:AZ
CATEGORIES:Gather Time
ATTACH;FMTTYPE=image/jpeg:https://victorylutheran.com/wp-content/uploads/2023/07/Drone-Inside-Church-Frame-scaled.jpg
END:VEVENT
BEGIN:VEVENT
DTSTART;TZID=America/Phoenix:20251122T200000
DTEND;TZID=America/Phoenix:20251122T213000
DTSTAMP:20260420T053207
CREATED:20251010T010526Z
LAST-MODIFIED:20251010T010543Z
UID:10009923-1763841600-1763847000@victorylutheran.com
SUMMARY:S.A.F.E. Singles Event - The Voice of Whitney Houston
DESCRIPTION:The Voice of Whitney – A Symphonic Celebration (Off Site – Bus)Saturday November 22\, 8:00 pm (Bus leaves at 7:00 pm)\, Mesa Arts Center\, 1 E Main St\, MesaExperience Whitney Houston’s astounding musical legacy like never before. This new concert tribute features original master recordings of Whitney’s vocals set to new orchestrations of her biggest hits—including “I Wanna Dance with Somebody\,” “Higher Love” and “I Will Always Love You”—accompanied by home movies\, film performances\, and never-before-seen footage. Presented in collaboration with the Estate of Whitney Houston.Sign up and pay $63 (ticket and bus) by Sunday October 19.
URL:https://victorylutheran.com/event/s-a-f-e-singles-event-the-voice-of-whitney-houston/
LOCATION:AZ
END:VEVENT
BEGIN:VEVENT
DTSTART;TZID=America/Phoenix:20251123T080000
DTEND;TZID=America/Phoenix:20251123T090000
DTSTAMP:20260420T053207
CREATED:20230728T223634Z
LAST-MODIFIED:20231009T154408Z
UID:10002553-1763884800-1763888400@victorylutheran.com
SUMMARY:8am Worship & Communion
DESCRIPTION:
URL:https://victorylutheran.com/event/8am-worship/2025-11-23/
LOCATION:AZ
ATTACH;FMTTYPE=image/jpeg:https://victorylutheran.com/wp-content/uploads/2023/07/Inside-Sanctuary.jpg
END:VEVENT
BEGIN:VEVENT
DTSTART;TZID=America/Phoenix:20251123T083000
DTEND;TZID=America/Phoenix:20251123T110000
DTSTAMP:20260420T053207
CREATED:20230728T230208Z
LAST-MODIFIED:20250611T164918Z
UID:10008676-1763886600-1763895600@victorylutheran.com
SUMMARY:8:30-11am Morning Fellowship
DESCRIPTION:
URL:https://victorylutheran.com/event/7-11am-morning-fellowship/2025-11-23/
LOCATION:AZ
ATTACH;FMTTYPE=image/jpeg:https://victorylutheran.com/wp-content/uploads/2023/07/Fellowship.jpg
END:VEVENT
BEGIN:VEVENT
DTSTART;TZID=America/Phoenix:20251123T093000
DTEND;TZID=America/Phoenix:20251123T103000
DTSTAMP:20260420T053207
CREATED:20230728T231856Z
LAST-MODIFIED:20230730T162603Z
UID:10002818-1763890200-1763893800@victorylutheran.com
SUMMARY:9:30am Worship
DESCRIPTION:
URL:https://victorylutheran.com/event/930am-worship-2/2025-11-23/
LOCATION:AZ
CATEGORIES:Gather Time
ATTACH;FMTTYPE=image/jpeg:https://victorylutheran.com/wp-content/uploads/2023/07/Inside-Sanctuary.jpg
END:VEVENT
BEGIN:VEVENT
DTSTART;TZID=America/Phoenix:20251123T093000
DTEND;TZID=America/Phoenix:20251123T103000
DTSTAMP:20260420T053207
CREATED:20251010T003424Z
LAST-MODIFIED:20251010T003804Z
UID:10009664-1763890200-1763893800@victorylutheran.com
SUMMARY:Children's Church
DESCRIPTION:
URL:https://victorylutheran.com/event/childrens-church-2/2025-11-23/
LOCATION:AZ
END:VEVENT
BEGIN:VEVENT
DTSTART;TZID=America/Phoenix:20251123T110000
DTEND;TZID=America/Phoenix:20251123T120000
DTSTAMP:20260420T053207
CREATED:20240306T000109Z
LAST-MODIFIED:20240306T000348Z
UID:10005962-1763895600-1763899200@victorylutheran.com
SUMMARY:Contemporary Worship
DESCRIPTION:Launching New  \n\n\n\nCONTEMPORARY WORSHIP SERVICE @ 11:00AMBeginning April 7th\, Victory Lutheran will introduce a Contemporary Worship Service at 11:00am on Sunday mornings. Following Easter\, the 11:00am service will shift from traditional to contemporary music\, led by a praise team under the guidance of Jackie Jewel. \n\n\n\nThis new service has been a long-requested and carefully planned endeavor. While contemporary worship has been a part of Victory for over twenty years\, it hasn’t been present at the Mesa campus for quite some time. \n\n\n\nIt’s important to note that traditional worship remains the cornerstone of Victory’s worship experience. This is our primary focus. We’re not aiming to “blend” traditional and contemporary styles. Our Saturday service at 4:00pm and Sunday services at 8:00am and 9:30am will continue to uphold traditional styles with excellence. The 11:00am Sunday service will adopt a contemporary style\, also delivered with excellence.
URL:https://victorylutheran.com/event/contemporary-worship/2025-11-23/
LOCATION:AZ
CATEGORIES:Gather Time
ATTACH;FMTTYPE=image/jpeg:https://victorylutheran.com/wp-content/uploads/2024/03/Contemporary-Countdown-Next-Sunday.jpeg
END:VEVENT
BEGIN:VEVENT
DTSTART;TZID=America/Phoenix:20251123T110000
DTEND;TZID=America/Phoenix:20251123T120000
DTSTAMP:20260420T053207
CREATED:20250926T025306Z
LAST-MODIFIED:20251205T195711Z
UID:10010592-1763895600-1763899200@victorylutheran.com
SUMMARY:Children's Church
DESCRIPTION:Children’s Church will start Sunday\, October 12 and new this year\, we will have Children’s Church available at both the 9:30 and 11:00 services!. Please remember the Children’s Ministry in your prayers.
URL:https://victorylutheran.com/event/childrens-church/2025-11-23/
LOCATION:AZ
CATEGORIES:Gather Time
ATTACH;FMTTYPE=image/jpeg:https://victorylutheran.com/wp-content/uploads/2025/09/Childrens-Church_Oct.jpg
END:VEVENT
BEGIN:VEVENT
DTSTART;TZID=America/Phoenix:20251124T090000
DTEND;TZID=America/Phoenix:20251124T113000
DTSTAMP:20260420T053207
CREATED:20251010T194254Z
LAST-MODIFIED:20251010T202529Z
UID:10000920-1763974800-1763983800@victorylutheran.com
SUMMARY:Food Pantry
DESCRIPTION:LSS-SW (Lutheran Social Services of the Southwest) 2 Food Pantry locations in Mesa. All that is needed is a photo ID. Note: We offer food only. No financial resources available. \n\n\n\nVictory Lutheran Church Food Pantry5946 E. University Drive\, Mesa\, AZ 85205Mondays & Wednesdays\, 9:00am-11:30am480-654-4539 \n\n\n\nFirst Evangelical Lutheran Church Food Pantry142 N. Date\, Mesa\, AZ 85201Tuesdays & Thursdays\, 9:00am-11:15am(except the 2nd Tuesday of the month)and the evening of the Wednesday AFTER the 2nd Tuesday 5:00-7:00pm
URL:https://victorylutheran.com/event/food-pantry-5/2025-11-24/
LOCATION:Victory Lutheran Church\, 5946 E. University Dr.\, Mesa\, AZ\, 85205\, United States
ATTACH;FMTTYPE=image/jpeg:https://victorylutheran.com/wp-content/uploads/2023/07/Food-Pantry_thumbnail.jpg
END:VEVENT
BEGIN:VEVENT
DTSTART;TZID=America/Phoenix:20251124T123000
DTEND;TZID=America/Phoenix:20251124T143000
DTSTAMP:20260420T053207
CREATED:20230802T212032Z
LAST-MODIFIED:20251010T204215Z
UID:10010425-1763987400-1763994600@victorylutheran.com
SUMMARY:GriefShare: Surviving the Holidays
DESCRIPTION:Special 1-Day Seminar\n\n\n\n\n\n\n\nWondering how you will survive the weeks surrounding Thanksgiving and Christmas? Are you dreading these holidays\, knowing that everything has changed and that happy memories from past years can’t be recreated? \n\n\n\nOur Surviving the Holidays seminar is especially for people who are grieving a loved one’s death. You will learn: \n\n\n\n\nHow to deal with the many emotions you’ll face during the holidays\n\n\n\nWhat to do about traditions and other coming changes\n\n\n\nHelpful tips for surviving social events\n\n\n\nHow to discover hope for your future
URL:https://victorylutheran.com/event/griefshare-surviving-the-holidays/2025-11-24/
LOCATION:AZ
CATEGORIES:Group Time
ATTACH;FMTTYPE=image/jpeg:https://victorylutheran.com/wp-content/uploads/2023/08/Surviving-the-Holidays_NOV-24.jpg
END:VEVENT
BEGIN:VEVENT
DTSTART;TZID=America/Phoenix:20251124T160000
DTEND;TZID=America/Phoenix:20251124T173000
DTSTAMP:20260420T053207
CREATED:20250703T195237Z
LAST-MODIFIED:20251205T171908Z
UID:10010992-1764000000-1764005400@victorylutheran.com
SUMMARY:Confirmation Class
DESCRIPTION:Our FREE Confirmation program is a three-year in-depth study of the scriptures and Luther’s Small Catechism. This program aims to provide a strong Christian foundation for youth\, emphasizing the sacraments\, commandments\, and foundational Christian beliefs. Classes are held every Monday from 4:00-5:30pm. \n\n\n\nFor more information contact Pastor Renee Bennett at 480-830-5024 xt. 121. \n\n\n\nNOTE: We will not meet December 15\, 22 & 29\, 2025.
URL:https://victorylutheran.com/event/confirmation-class-3/2025-11-24/
LOCATION:AZ
CATEGORIES:Group Time
END:VEVENT
END:VCALENDAR