BEGIN:VCALENDAR
VERSION:2.0
PRODID:-//Victory Lutheran Church - ECPv6.15.11//NONSGML v1.0//EN
CALSCALE:GREGORIAN
METHOD:PUBLISH
X-WR-CALNAME:Victory Lutheran Church
X-ORIGINAL-URL:https://victorylutheran.com
X-WR-CALDESC:Events for Victory Lutheran Church
REFRESH-INTERVAL;VALUE=DURATION:PT1H
X-Robots-Tag:noindex
X-PUBLISHED-TTL:PT1H
BEGIN:VTIMEZONE
TZID:America/Phoenix
BEGIN:STANDARD
TZOFFSETFROM:-0700
TZOFFSETTO:-0700
TZNAME:MST
DTSTART:20250101T000000
END:STANDARD
END:VTIMEZONE
BEGIN:VEVENT
DTSTART;TZID=America/Phoenix:20260429T133000
DTEND;TZID=America/Phoenix:20260429T150000
DTSTAMP:20260424T195737
CREATED:20231230T201101Z
LAST-MODIFIED:20231230T201112Z
UID:10005412-1777469400-1777474800@victorylutheran.com
SUMMARY:Women's Bible Study
DESCRIPTION:We gather each Wednesday at 1:30pm to learn and discuss God’s Word. Open to all women.
URL:https://victorylutheran.com/event/womens-bible-study/2026-04-29/
CATEGORIES:Group Time
ATTACH;FMTTYPE=image/jpeg:https://victorylutheran.com/wp-content/uploads/2023/12/Bible-with-flower.jpg
END:VEVENT
BEGIN:VEVENT
DTSTART;TZID=America/Phoenix:20260506T133000
DTEND;TZID=America/Phoenix:20260506T150000
DTSTAMP:20260424T195737
CREATED:20231230T201101Z
LAST-MODIFIED:20231230T201112Z
UID:10005413-1778074200-1778079600@victorylutheran.com
SUMMARY:Women's Bible Study
DESCRIPTION:We gather each Wednesday at 1:30pm to learn and discuss God’s Word. Open to all women.
URL:https://victorylutheran.com/event/womens-bible-study/2026-05-06/
CATEGORIES:Group Time
ATTACH;FMTTYPE=image/jpeg:https://victorylutheran.com/wp-content/uploads/2023/12/Bible-with-flower.jpg
END:VEVENT
BEGIN:VEVENT
DTSTART;TZID=America/Phoenix:20260513T133000
DTEND;TZID=America/Phoenix:20260513T150000
DTSTAMP:20260424T195737
CREATED:20231230T201101Z
LAST-MODIFIED:20231230T201112Z
UID:10005414-1778679000-1778684400@victorylutheran.com
SUMMARY:Women's Bible Study
DESCRIPTION:We gather each Wednesday at 1:30pm to learn and discuss God’s Word. Open to all women.
URL:https://victorylutheran.com/event/womens-bible-study/2026-05-13/
CATEGORIES:Group Time
ATTACH;FMTTYPE=image/jpeg:https://victorylutheran.com/wp-content/uploads/2023/12/Bible-with-flower.jpg
END:VEVENT
BEGIN:VEVENT
DTSTART;TZID=America/Phoenix:20260520T133000
DTEND;TZID=America/Phoenix:20260520T150000
DTSTAMP:20260424T195737
CREATED:20231230T201101Z
LAST-MODIFIED:20231230T201112Z
UID:10005415-1779283800-1779289200@victorylutheran.com
SUMMARY:Women's Bible Study
DESCRIPTION:We gather each Wednesday at 1:30pm to learn and discuss God’s Word. Open to all women.
URL:https://victorylutheran.com/event/womens-bible-study/2026-05-20/
CATEGORIES:Group Time
ATTACH;FMTTYPE=image/jpeg:https://victorylutheran.com/wp-content/uploads/2023/12/Bible-with-flower.jpg
END:VEVENT
BEGIN:VEVENT
DTSTART;TZID=America/Phoenix:20260527T133000
DTEND;TZID=America/Phoenix:20260527T150000
DTSTAMP:20260424T195737
CREATED:20231230T201101Z
LAST-MODIFIED:20231230T201112Z
UID:10005416-1779888600-1779894000@victorylutheran.com
SUMMARY:Women's Bible Study
DESCRIPTION:We gather each Wednesday at 1:30pm to learn and discuss God’s Word. Open to all women.
URL:https://victorylutheran.com/event/womens-bible-study/2026-05-27/
CATEGORIES:Group Time
ATTACH;FMTTYPE=image/jpeg:https://victorylutheran.com/wp-content/uploads/2023/12/Bible-with-flower.jpg
END:VEVENT
BEGIN:VEVENT
DTSTART;TZID=America/Phoenix:20260603T133000
DTEND;TZID=America/Phoenix:20260603T150000
DTSTAMP:20260424T195737
CREATED:20231230T201101Z
LAST-MODIFIED:20231230T201112Z
UID:10005417-1780493400-1780498800@victorylutheran.com
SUMMARY:Women's Bible Study
DESCRIPTION:We gather each Wednesday at 1:30pm to learn and discuss God’s Word. Open to all women.
URL:https://victorylutheran.com/event/womens-bible-study/2026-06-03/
CATEGORIES:Group Time
ATTACH;FMTTYPE=image/jpeg:https://victorylutheran.com/wp-content/uploads/2023/12/Bible-with-flower.jpg
END:VEVENT
BEGIN:VEVENT
DTSTART;TZID=America/Phoenix:20260610T133000
DTEND;TZID=America/Phoenix:20260610T150000
DTSTAMP:20260424T195737
CREATED:20231230T201101Z
LAST-MODIFIED:20231230T201112Z
UID:10005418-1781098200-1781103600@victorylutheran.com
SUMMARY:Women's Bible Study
DESCRIPTION:We gather each Wednesday at 1:30pm to learn and discuss God’s Word. Open to all women.
URL:https://victorylutheran.com/event/womens-bible-study/2026-06-10/
CATEGORIES:Group Time
ATTACH;FMTTYPE=image/jpeg:https://victorylutheran.com/wp-content/uploads/2023/12/Bible-with-flower.jpg
END:VEVENT
BEGIN:VEVENT
DTSTART;TZID=America/Phoenix:20260617T133000
DTEND;TZID=America/Phoenix:20260617T150000
DTSTAMP:20260424T195737
CREATED:20231230T201101Z
LAST-MODIFIED:20231230T201112Z
UID:10005419-1781703000-1781708400@victorylutheran.com
SUMMARY:Women's Bible Study
DESCRIPTION:We gather each Wednesday at 1:30pm to learn and discuss God’s Word. Open to all women.
URL:https://victorylutheran.com/event/womens-bible-study/2026-06-17/
CATEGORIES:Group Time
ATTACH;FMTTYPE=image/jpeg:https://victorylutheran.com/wp-content/uploads/2023/12/Bible-with-flower.jpg
END:VEVENT
BEGIN:VEVENT
DTSTART;TZID=America/Phoenix:20260624T133000
DTEND;TZID=America/Phoenix:20260624T150000
DTSTAMP:20260424T195737
CREATED:20231230T201101Z
LAST-MODIFIED:20231230T201112Z
UID:10005420-1782307800-1782313200@victorylutheran.com
SUMMARY:Women's Bible Study
DESCRIPTION:We gather each Wednesday at 1:30pm to learn and discuss God’s Word. Open to all women.
URL:https://victorylutheran.com/event/womens-bible-study/2026-06-24/
CATEGORIES:Group Time
ATTACH;FMTTYPE=image/jpeg:https://victorylutheran.com/wp-content/uploads/2023/12/Bible-with-flower.jpg
END:VEVENT
BEGIN:VEVENT
DTSTART;TZID=America/Phoenix:20260701T133000
DTEND;TZID=America/Phoenix:20260701T150000
DTSTAMP:20260424T195737
CREATED:20231230T201101Z
LAST-MODIFIED:20231230T201112Z
UID:10005421-1782912600-1782918000@victorylutheran.com
SUMMARY:Women's Bible Study
DESCRIPTION:We gather each Wednesday at 1:30pm to learn and discuss God’s Word. Open to all women.
URL:https://victorylutheran.com/event/womens-bible-study/2026-07-01/
CATEGORIES:Group Time
ATTACH;FMTTYPE=image/jpeg:https://victorylutheran.com/wp-content/uploads/2023/12/Bible-with-flower.jpg
END:VEVENT
BEGIN:VEVENT
DTSTART;TZID=America/Phoenix:20260708T133000
DTEND;TZID=America/Phoenix:20260708T150000
DTSTAMP:20260424T195737
CREATED:20231230T201101Z
LAST-MODIFIED:20231230T201112Z
UID:10005422-1783517400-1783522800@victorylutheran.com
SUMMARY:Women's Bible Study
DESCRIPTION:We gather each Wednesday at 1:30pm to learn and discuss God’s Word. Open to all women.
URL:https://victorylutheran.com/event/womens-bible-study/2026-07-08/
CATEGORIES:Group Time
ATTACH;FMTTYPE=image/jpeg:https://victorylutheran.com/wp-content/uploads/2023/12/Bible-with-flower.jpg
END:VEVENT
BEGIN:VEVENT
DTSTART;TZID=America/Phoenix:20260715T133000
DTEND;TZID=America/Phoenix:20260715T150000
DTSTAMP:20260424T195737
CREATED:20231230T201101Z
LAST-MODIFIED:20231230T201112Z
UID:10005423-1784122200-1784127600@victorylutheran.com
SUMMARY:Women's Bible Study
DESCRIPTION:We gather each Wednesday at 1:30pm to learn and discuss God’s Word. Open to all women.
URL:https://victorylutheran.com/event/womens-bible-study/2026-07-15/
CATEGORIES:Group Time
ATTACH;FMTTYPE=image/jpeg:https://victorylutheran.com/wp-content/uploads/2023/12/Bible-with-flower.jpg
END:VEVENT
BEGIN:VEVENT
DTSTART;TZID=America/Phoenix:20260722T133000
DTEND;TZID=America/Phoenix:20260722T150000
DTSTAMP:20260424T195737
CREATED:20231230T201101Z
LAST-MODIFIED:20231230T201112Z
UID:10005424-1784727000-1784732400@victorylutheran.com
SUMMARY:Women's Bible Study
DESCRIPTION:We gather each Wednesday at 1:30pm to learn and discuss God’s Word. Open to all women.
URL:https://victorylutheran.com/event/womens-bible-study/2026-07-22/
CATEGORIES:Group Time
ATTACH;FMTTYPE=image/jpeg:https://victorylutheran.com/wp-content/uploads/2023/12/Bible-with-flower.jpg
END:VEVENT
BEGIN:VEVENT
DTSTART;TZID=America/Phoenix:20260729T133000
DTEND;TZID=America/Phoenix:20260729T150000
DTSTAMP:20260424T195737
CREATED:20231230T201101Z
LAST-MODIFIED:20231230T201112Z
UID:10005425-1785331800-1785337200@victorylutheran.com
SUMMARY:Women's Bible Study
DESCRIPTION:We gather each Wednesday at 1:30pm to learn and discuss God’s Word. Open to all women.
URL:https://victorylutheran.com/event/womens-bible-study/2026-07-29/
CATEGORIES:Group Time
ATTACH;FMTTYPE=image/jpeg:https://victorylutheran.com/wp-content/uploads/2023/12/Bible-with-flower.jpg
END:VEVENT
BEGIN:VEVENT
DTSTART;TZID=America/Phoenix:20260805T133000
DTEND;TZID=America/Phoenix:20260805T150000
DTSTAMP:20260424T195737
CREATED:20231230T201101Z
LAST-MODIFIED:20231230T201112Z
UID:10005426-1785936600-1785942000@victorylutheran.com
SUMMARY:Women's Bible Study
DESCRIPTION:We gather each Wednesday at 1:30pm to learn and discuss God’s Word. Open to all women.
URL:https://victorylutheran.com/event/womens-bible-study/2026-08-05/
CATEGORIES:Group Time
ATTACH;FMTTYPE=image/jpeg:https://victorylutheran.com/wp-content/uploads/2023/12/Bible-with-flower.jpg
END:VEVENT
BEGIN:VEVENT
DTSTART;TZID=America/Phoenix:20260812T133000
DTEND;TZID=America/Phoenix:20260812T150000
DTSTAMP:20260424T195737
CREATED:20231230T201101Z
LAST-MODIFIED:20231230T201112Z
UID:10005427-1786541400-1786546800@victorylutheran.com
SUMMARY:Women's Bible Study
DESCRIPTION:We gather each Wednesday at 1:30pm to learn and discuss God’s Word. Open to all women.
URL:https://victorylutheran.com/event/womens-bible-study/2026-08-12/
CATEGORIES:Group Time
ATTACH;FMTTYPE=image/jpeg:https://victorylutheran.com/wp-content/uploads/2023/12/Bible-with-flower.jpg
END:VEVENT
BEGIN:VEVENT
DTSTART;TZID=America/Phoenix:20260819T133000
DTEND;TZID=America/Phoenix:20260819T150000
DTSTAMP:20260424T195737
CREATED:20231230T201101Z
LAST-MODIFIED:20231230T201112Z
UID:10005428-1787146200-1787151600@victorylutheran.com
SUMMARY:Women's Bible Study
DESCRIPTION:We gather each Wednesday at 1:30pm to learn and discuss God’s Word. Open to all women.
URL:https://victorylutheran.com/event/womens-bible-study/2026-08-19/
CATEGORIES:Group Time
ATTACH;FMTTYPE=image/jpeg:https://victorylutheran.com/wp-content/uploads/2023/12/Bible-with-flower.jpg
END:VEVENT
BEGIN:VEVENT
DTSTART;TZID=America/Phoenix:20260826T133000
DTEND;TZID=America/Phoenix:20260826T150000
DTSTAMP:20260424T195737
CREATED:20231230T201101Z
LAST-MODIFIED:20231230T201112Z
UID:10005429-1787751000-1787756400@victorylutheran.com
SUMMARY:Women's Bible Study
DESCRIPTION:We gather each Wednesday at 1:30pm to learn and discuss God’s Word. Open to all women.
URL:https://victorylutheran.com/event/womens-bible-study/2026-08-26/
CATEGORIES:Group Time
ATTACH;FMTTYPE=image/jpeg:https://victorylutheran.com/wp-content/uploads/2023/12/Bible-with-flower.jpg
END:VEVENT
BEGIN:VEVENT
DTSTART;TZID=America/Phoenix:20260902T133000
DTEND;TZID=America/Phoenix:20260902T150000
DTSTAMP:20260424T195737
CREATED:20231230T201101Z
LAST-MODIFIED:20231230T201112Z
UID:10005430-1788355800-1788361200@victorylutheran.com
SUMMARY:Women's Bible Study
DESCRIPTION:We gather each Wednesday at 1:30pm to learn and discuss God’s Word. Open to all women.
URL:https://victorylutheran.com/event/womens-bible-study/2026-09-02/
CATEGORIES:Group Time
ATTACH;FMTTYPE=image/jpeg:https://victorylutheran.com/wp-content/uploads/2023/12/Bible-with-flower.jpg
END:VEVENT
BEGIN:VEVENT
DTSTART;TZID=America/Phoenix:20260909T133000
DTEND;TZID=America/Phoenix:20260909T150000
DTSTAMP:20260424T195737
CREATED:20231230T201101Z
LAST-MODIFIED:20231230T201112Z
UID:10005431-1788960600-1788966000@victorylutheran.com
SUMMARY:Women's Bible Study
DESCRIPTION:We gather each Wednesday at 1:30pm to learn and discuss God’s Word. Open to all women.
URL:https://victorylutheran.com/event/womens-bible-study/2026-09-09/
CATEGORIES:Group Time
ATTACH;FMTTYPE=image/jpeg:https://victorylutheran.com/wp-content/uploads/2023/12/Bible-with-flower.jpg
END:VEVENT
BEGIN:VEVENT
DTSTART;TZID=America/Phoenix:20260916T133000
DTEND;TZID=America/Phoenix:20260916T150000
DTSTAMP:20260424T195737
CREATED:20231230T201101Z
LAST-MODIFIED:20231230T201112Z
UID:10005432-1789565400-1789570800@victorylutheran.com
SUMMARY:Women's Bible Study
DESCRIPTION:We gather each Wednesday at 1:30pm to learn and discuss God’s Word. Open to all women.
URL:https://victorylutheran.com/event/womens-bible-study/2026-09-16/
CATEGORIES:Group Time
ATTACH;FMTTYPE=image/jpeg:https://victorylutheran.com/wp-content/uploads/2023/12/Bible-with-flower.jpg
END:VEVENT
BEGIN:VEVENT
DTSTART;TZID=America/Phoenix:20260923T133000
DTEND;TZID=America/Phoenix:20260923T150000
DTSTAMP:20260424T195737
CREATED:20231230T201101Z
LAST-MODIFIED:20231230T201112Z
UID:10005433-1790170200-1790175600@victorylutheran.com
SUMMARY:Women's Bible Study
DESCRIPTION:We gather each Wednesday at 1:30pm to learn and discuss God’s Word. Open to all women.
URL:https://victorylutheran.com/event/womens-bible-study/2026-09-23/
CATEGORIES:Group Time
ATTACH;FMTTYPE=image/jpeg:https://victorylutheran.com/wp-content/uploads/2023/12/Bible-with-flower.jpg
END:VEVENT
BEGIN:VEVENT
DTSTART;TZID=America/Phoenix:20260930T133000
DTEND;TZID=America/Phoenix:20260930T150000
DTSTAMP:20260424T195737
CREATED:20231230T201101Z
LAST-MODIFIED:20231230T201112Z
UID:10005434-1790775000-1790780400@victorylutheran.com
SUMMARY:Women's Bible Study
DESCRIPTION:We gather each Wednesday at 1:30pm to learn and discuss God’s Word. Open to all women.
URL:https://victorylutheran.com/event/womens-bible-study/2026-09-30/
CATEGORIES:Group Time
ATTACH;FMTTYPE=image/jpeg:https://victorylutheran.com/wp-content/uploads/2023/12/Bible-with-flower.jpg
END:VEVENT
BEGIN:VEVENT
DTSTART;TZID=America/Phoenix:20261007T133000
DTEND;TZID=America/Phoenix:20261007T150000
DTSTAMP:20260424T195737
CREATED:20231230T201101Z
LAST-MODIFIED:20231230T201112Z
UID:10005435-1791379800-1791385200@victorylutheran.com
SUMMARY:Women's Bible Study
DESCRIPTION:We gather each Wednesday at 1:30pm to learn and discuss God’s Word. Open to all women.
URL:https://victorylutheran.com/event/womens-bible-study/2026-10-07/
CATEGORIES:Group Time
ATTACH;FMTTYPE=image/jpeg:https://victorylutheran.com/wp-content/uploads/2023/12/Bible-with-flower.jpg
END:VEVENT
BEGIN:VEVENT
DTSTART;TZID=America/Phoenix:20261014T133000
DTEND;TZID=America/Phoenix:20261014T150000
DTSTAMP:20260424T195737
CREATED:20231230T201101Z
LAST-MODIFIED:20231230T201112Z
UID:10005436-1791984600-1791990000@victorylutheran.com
SUMMARY:Women's Bible Study
DESCRIPTION:We gather each Wednesday at 1:30pm to learn and discuss God’s Word. Open to all women.
URL:https://victorylutheran.com/event/womens-bible-study/2026-10-14/
CATEGORIES:Group Time
ATTACH;FMTTYPE=image/jpeg:https://victorylutheran.com/wp-content/uploads/2023/12/Bible-with-flower.jpg
END:VEVENT
BEGIN:VEVENT
DTSTART;TZID=America/Phoenix:20261021T133000
DTEND;TZID=America/Phoenix:20261021T150000
DTSTAMP:20260424T195737
CREATED:20231230T201101Z
LAST-MODIFIED:20231230T201112Z
UID:10005437-1792589400-1792594800@victorylutheran.com
SUMMARY:Women's Bible Study
DESCRIPTION:We gather each Wednesday at 1:30pm to learn and discuss God’s Word. Open to all women.
URL:https://victorylutheran.com/event/womens-bible-study/2026-10-21/
CATEGORIES:Group Time
ATTACH;FMTTYPE=image/jpeg:https://victorylutheran.com/wp-content/uploads/2023/12/Bible-with-flower.jpg
END:VEVENT
BEGIN:VEVENT
DTSTART;TZID=America/Phoenix:20261028T133000
DTEND;TZID=America/Phoenix:20261028T150000
DTSTAMP:20260424T195737
CREATED:20231230T201101Z
LAST-MODIFIED:20231230T201112Z
UID:10005438-1793194200-1793199600@victorylutheran.com
SUMMARY:Women's Bible Study
DESCRIPTION:We gather each Wednesday at 1:30pm to learn and discuss God’s Word. Open to all women.
URL:https://victorylutheran.com/event/womens-bible-study/2026-10-28/
CATEGORIES:Group Time
ATTACH;FMTTYPE=image/jpeg:https://victorylutheran.com/wp-content/uploads/2023/12/Bible-with-flower.jpg
END:VEVENT
BEGIN:VEVENT
DTSTART;TZID=America/Phoenix:20261104T133000
DTEND;TZID=America/Phoenix:20261104T150000
DTSTAMP:20260424T195737
CREATED:20231230T201101Z
LAST-MODIFIED:20231230T201112Z
UID:10005439-1793799000-1793804400@victorylutheran.com
SUMMARY:Women's Bible Study
DESCRIPTION:We gather each Wednesday at 1:30pm to learn and discuss God’s Word. Open to all women.
URL:https://victorylutheran.com/event/womens-bible-study/2026-11-04/
CATEGORIES:Group Time
ATTACH;FMTTYPE=image/jpeg:https://victorylutheran.com/wp-content/uploads/2023/12/Bible-with-flower.jpg
END:VEVENT
BEGIN:VEVENT
DTSTART;TZID=America/Phoenix:20261111T133000
DTEND;TZID=America/Phoenix:20261111T150000
DTSTAMP:20260424T195737
CREATED:20231230T201101Z
LAST-MODIFIED:20231230T201112Z
UID:10005440-1794403800-1794409200@victorylutheran.com
SUMMARY:Women's Bible Study
DESCRIPTION:We gather each Wednesday at 1:30pm to learn and discuss God’s Word. Open to all women.
URL:https://victorylutheran.com/event/womens-bible-study/2026-11-11/
CATEGORIES:Group Time
ATTACH;FMTTYPE=image/jpeg:https://victorylutheran.com/wp-content/uploads/2023/12/Bible-with-flower.jpg
END:VEVENT
BEGIN:VEVENT
DTSTART;TZID=America/Phoenix:20261118T133000
DTEND;TZID=America/Phoenix:20261118T150000
DTSTAMP:20260424T195737
CREATED:20231230T201101Z
LAST-MODIFIED:20231230T201112Z
UID:10005441-1795008600-1795014000@victorylutheran.com
SUMMARY:Women's Bible Study
DESCRIPTION:We gather each Wednesday at 1:30pm to learn and discuss God’s Word. Open to all women.
URL:https://victorylutheran.com/event/womens-bible-study/2026-11-18/
CATEGORIES:Group Time
ATTACH;FMTTYPE=image/jpeg:https://victorylutheran.com/wp-content/uploads/2023/12/Bible-with-flower.jpg
END:VEVENT
END:VCALENDAR