BEGIN:VCALENDAR
VERSION:2.0
PRODID:-//Victory Lutheran Church - ECPv6.15.11//NONSGML v1.0//EN
CALSCALE:GREGORIAN
METHOD:PUBLISH
X-WR-CALNAME:Victory Lutheran Church
X-ORIGINAL-URL:https://victorylutheran.com
X-WR-CALDESC:Events for Victory Lutheran Church
REFRESH-INTERVAL;VALUE=DURATION:PT1H
X-Robots-Tag:noindex
X-PUBLISHED-TTL:PT1H
BEGIN:VTIMEZONE
TZID:America/Phoenix
BEGIN:STANDARD
TZOFFSETFROM:-0700
TZOFFSETTO:-0700
TZNAME:MST
DTSTART:20250101T000000
END:STANDARD
END:VTIMEZONE
BEGIN:VEVENT
DTSTART;TZID=America/Phoenix:20260519T183000
DTEND;TZID=America/Phoenix:20260519T203000
DTSTAMP:20260425T152413
CREATED:20251205T170343Z
LAST-MODIFIED:20251205T170420Z
UID:10010928-1779215400-1779222600@victorylutheran.com
SUMMARY:Small Group - "The Seekers"
DESCRIPTION:Led by Mike Menke & Judy BaileyIn-Depth Bible Study (Co-ed)When: 6:30-8:30pm\, 1st & 3rd Tuesday of the monthWhere: Victory\, Room B7Year-Round
URL:https://victorylutheran.com/event/small-group-the-seekers-2/2026-05-19/
END:VEVENT
BEGIN:VEVENT
DTSTART;TZID=America/Phoenix:20260616T183000
DTEND;TZID=America/Phoenix:20260616T203000
DTSTAMP:20260425T152413
CREATED:20251205T170343Z
LAST-MODIFIED:20251205T170420Z
UID:10010929-1781634600-1781641800@victorylutheran.com
SUMMARY:Small Group - "The Seekers"
DESCRIPTION:Led by Mike Menke & Judy BaileyIn-Depth Bible Study (Co-ed)When: 6:30-8:30pm\, 1st & 3rd Tuesday of the monthWhere: Victory\, Room B7Year-Round
URL:https://victorylutheran.com/event/small-group-the-seekers-2/2026-06-16/
END:VEVENT
BEGIN:VEVENT
DTSTART;TZID=America/Phoenix:20260721T183000
DTEND;TZID=America/Phoenix:20260721T203000
DTSTAMP:20260425T152413
CREATED:20251205T170343Z
LAST-MODIFIED:20251205T170420Z
UID:10010930-1784658600-1784665800@victorylutheran.com
SUMMARY:Small Group - "The Seekers"
DESCRIPTION:Led by Mike Menke & Judy BaileyIn-Depth Bible Study (Co-ed)When: 6:30-8:30pm\, 1st & 3rd Tuesday of the monthWhere: Victory\, Room B7Year-Round
URL:https://victorylutheran.com/event/small-group-the-seekers-2/2026-07-21/
END:VEVENT
BEGIN:VEVENT
DTSTART;TZID=America/Phoenix:20260818T183000
DTEND;TZID=America/Phoenix:20260818T203000
DTSTAMP:20260425T152413
CREATED:20251205T170343Z
LAST-MODIFIED:20251205T170420Z
UID:10010931-1787077800-1787085000@victorylutheran.com
SUMMARY:Small Group - "The Seekers"
DESCRIPTION:Led by Mike Menke & Judy BaileyIn-Depth Bible Study (Co-ed)When: 6:30-8:30pm\, 1st & 3rd Tuesday of the monthWhere: Victory\, Room B7Year-Round
URL:https://victorylutheran.com/event/small-group-the-seekers-2/2026-08-18/
END:VEVENT
BEGIN:VEVENT
DTSTART;TZID=America/Phoenix:20260915T183000
DTEND;TZID=America/Phoenix:20260915T203000
DTSTAMP:20260425T152413
CREATED:20251205T170343Z
LAST-MODIFIED:20251205T170420Z
UID:10010932-1789497000-1789504200@victorylutheran.com
SUMMARY:Small Group - "The Seekers"
DESCRIPTION:Led by Mike Menke & Judy BaileyIn-Depth Bible Study (Co-ed)When: 6:30-8:30pm\, 1st & 3rd Tuesday of the monthWhere: Victory\, Room B7Year-Round
URL:https://victorylutheran.com/event/small-group-the-seekers-2/2026-09-15/
END:VEVENT
BEGIN:VEVENT
DTSTART;TZID=America/Phoenix:20261020T183000
DTEND;TZID=America/Phoenix:20261020T203000
DTSTAMP:20260425T152413
CREATED:20251205T170343Z
LAST-MODIFIED:20251205T170420Z
UID:10010933-1792521000-1792528200@victorylutheran.com
SUMMARY:Small Group - "The Seekers"
DESCRIPTION:Led by Mike Menke & Judy BaileyIn-Depth Bible Study (Co-ed)When: 6:30-8:30pm\, 1st & 3rd Tuesday of the monthWhere: Victory\, Room B7Year-Round
URL:https://victorylutheran.com/event/small-group-the-seekers-2/2026-10-20/
END:VEVENT
BEGIN:VEVENT
DTSTART;TZID=America/Phoenix:20261117T183000
DTEND;TZID=America/Phoenix:20261117T203000
DTSTAMP:20260425T152413
CREATED:20251205T170343Z
LAST-MODIFIED:20251205T170420Z
UID:10010934-1794940200-1794947400@victorylutheran.com
SUMMARY:Small Group - "The Seekers"
DESCRIPTION:Led by Mike Menke & Judy BaileyIn-Depth Bible Study (Co-ed)When: 6:30-8:30pm\, 1st & 3rd Tuesday of the monthWhere: Victory\, Room B7Year-Round
URL:https://victorylutheran.com/event/small-group-the-seekers-2/2026-11-17/
END:VEVENT
BEGIN:VEVENT
DTSTART;TZID=America/Phoenix:20261215T183000
DTEND;TZID=America/Phoenix:20261215T203000
DTSTAMP:20260425T152413
CREATED:20251205T170343Z
LAST-MODIFIED:20251205T170420Z
UID:10010935-1797359400-1797366600@victorylutheran.com
SUMMARY:Small Group - "The Seekers"
DESCRIPTION:Led by Mike Menke & Judy BaileyIn-Depth Bible Study (Co-ed)When: 6:30-8:30pm\, 1st & 3rd Tuesday of the monthWhere: Victory\, Room B7Year-Round
URL:https://victorylutheran.com/event/small-group-the-seekers-2/2026-12-15/
END:VEVENT
BEGIN:VEVENT
DTSTART;TZID=America/Phoenix:20270119T183000
DTEND;TZID=America/Phoenix:20270119T203000
DTSTAMP:20260425T152413
CREATED:20251205T170343Z
LAST-MODIFIED:20251205T170420Z
UID:10010936-1800383400-1800390600@victorylutheran.com
SUMMARY:Small Group - "The Seekers"
DESCRIPTION:Led by Mike Menke & Judy BaileyIn-Depth Bible Study (Co-ed)When: 6:30-8:30pm\, 1st & 3rd Tuesday of the monthWhere: Victory\, Room B7Year-Round
URL:https://victorylutheran.com/event/small-group-the-seekers-2/2027-01-19/
END:VEVENT
BEGIN:VEVENT
DTSTART;TZID=America/Phoenix:20270216T183000
DTEND;TZID=America/Phoenix:20270216T203000
DTSTAMP:20260425T152413
CREATED:20251205T170343Z
LAST-MODIFIED:20251205T170420Z
UID:10010937-1802802600-1802809800@victorylutheran.com
SUMMARY:Small Group - "The Seekers"
DESCRIPTION:Led by Mike Menke & Judy BaileyIn-Depth Bible Study (Co-ed)When: 6:30-8:30pm\, 1st & 3rd Tuesday of the monthWhere: Victory\, Room B7Year-Round
URL:https://victorylutheran.com/event/small-group-the-seekers-2/2027-02-16/
END:VEVENT
BEGIN:VEVENT
DTSTART;TZID=America/Phoenix:20270316T183000
DTEND;TZID=America/Phoenix:20270316T203000
DTSTAMP:20260425T152413
CREATED:20251205T170343Z
LAST-MODIFIED:20251205T170420Z
UID:10010938-1805221800-1805229000@victorylutheran.com
SUMMARY:Small Group - "The Seekers"
DESCRIPTION:Led by Mike Menke & Judy BaileyIn-Depth Bible Study (Co-ed)When: 6:30-8:30pm\, 1st & 3rd Tuesday of the monthWhere: Victory\, Room B7Year-Round
URL:https://victorylutheran.com/event/small-group-the-seekers-2/2027-03-16/
END:VEVENT
BEGIN:VEVENT
DTSTART;TZID=America/Phoenix:20270420T183000
DTEND;TZID=America/Phoenix:20270420T203000
DTSTAMP:20260425T152413
CREATED:20251205T170343Z
LAST-MODIFIED:20251205T170420Z
UID:10010939-1808245800-1808253000@victorylutheran.com
SUMMARY:Small Group - "The Seekers"
DESCRIPTION:Led by Mike Menke & Judy BaileyIn-Depth Bible Study (Co-ed)When: 6:30-8:30pm\, 1st & 3rd Tuesday of the monthWhere: Victory\, Room B7Year-Round
URL:https://victorylutheran.com/event/small-group-the-seekers-2/2027-04-20/
END:VEVENT
BEGIN:VEVENT
DTSTART;TZID=America/Phoenix:20270518T183000
DTEND;TZID=America/Phoenix:20270518T203000
DTSTAMP:20260425T152413
CREATED:20251205T170343Z
LAST-MODIFIED:20251205T170420Z
UID:10010940-1810665000-1810672200@victorylutheran.com
SUMMARY:Small Group - "The Seekers"
DESCRIPTION:Led by Mike Menke & Judy BaileyIn-Depth Bible Study (Co-ed)When: 6:30-8:30pm\, 1st & 3rd Tuesday of the monthWhere: Victory\, Room B7Year-Round
URL:https://victorylutheran.com/event/small-group-the-seekers-2/2027-05-18/
END:VEVENT
BEGIN:VEVENT
DTSTART;TZID=America/Phoenix:20270615T183000
DTEND;TZID=America/Phoenix:20270615T203000
DTSTAMP:20260425T152413
CREATED:20251205T170343Z
LAST-MODIFIED:20251205T170420Z
UID:10010941-1813084200-1813091400@victorylutheran.com
SUMMARY:Small Group - "The Seekers"
DESCRIPTION:Led by Mike Menke & Judy BaileyIn-Depth Bible Study (Co-ed)When: 6:30-8:30pm\, 1st & 3rd Tuesday of the monthWhere: Victory\, Room B7Year-Round
URL:https://victorylutheran.com/event/small-group-the-seekers-2/2027-06-15/
END:VEVENT
BEGIN:VEVENT
DTSTART;TZID=America/Phoenix:20270720T183000
DTEND;TZID=America/Phoenix:20270720T203000
DTSTAMP:20260425T152413
CREATED:20251205T170343Z
LAST-MODIFIED:20251205T170420Z
UID:10010942-1816108200-1816115400@victorylutheran.com
SUMMARY:Small Group - "The Seekers"
DESCRIPTION:Led by Mike Menke & Judy BaileyIn-Depth Bible Study (Co-ed)When: 6:30-8:30pm\, 1st & 3rd Tuesday of the monthWhere: Victory\, Room B7Year-Round
URL:https://victorylutheran.com/event/small-group-the-seekers-2/2027-07-20/
END:VEVENT
BEGIN:VEVENT
DTSTART;TZID=America/Phoenix:20270817T183000
DTEND;TZID=America/Phoenix:20270817T203000
DTSTAMP:20260425T152413
CREATED:20251205T170343Z
LAST-MODIFIED:20251205T170420Z
UID:10010943-1818527400-1818534600@victorylutheran.com
SUMMARY:Small Group - "The Seekers"
DESCRIPTION:Led by Mike Menke & Judy BaileyIn-Depth Bible Study (Co-ed)When: 6:30-8:30pm\, 1st & 3rd Tuesday of the monthWhere: Victory\, Room B7Year-Round
URL:https://victorylutheran.com/event/small-group-the-seekers-2/2027-08-17/
END:VEVENT
BEGIN:VEVENT
DTSTART;TZID=America/Phoenix:20270921T183000
DTEND;TZID=America/Phoenix:20270921T203000
DTSTAMP:20260425T152413
CREATED:20251205T170343Z
LAST-MODIFIED:20251205T170420Z
UID:10010944-1821551400-1821558600@victorylutheran.com
SUMMARY:Small Group - "The Seekers"
DESCRIPTION:Led by Mike Menke & Judy BaileyIn-Depth Bible Study (Co-ed)When: 6:30-8:30pm\, 1st & 3rd Tuesday of the monthWhere: Victory\, Room B7Year-Round
URL:https://victorylutheran.com/event/small-group-the-seekers-2/2027-09-21/
END:VEVENT
BEGIN:VEVENT
DTSTART;TZID=America/Phoenix:20271019T183000
DTEND;TZID=America/Phoenix:20271019T203000
DTSTAMP:20260425T152413
CREATED:20251205T170343Z
LAST-MODIFIED:20251205T170420Z
UID:10010945-1823970600-1823977800@victorylutheran.com
SUMMARY:Small Group - "The Seekers"
DESCRIPTION:Led by Mike Menke & Judy BaileyIn-Depth Bible Study (Co-ed)When: 6:30-8:30pm\, 1st & 3rd Tuesday of the monthWhere: Victory\, Room B7Year-Round
URL:https://victorylutheran.com/event/small-group-the-seekers-2/2027-10-19/
END:VEVENT
BEGIN:VEVENT
DTSTART;TZID=America/Phoenix:20271116T183000
DTEND;TZID=America/Phoenix:20271116T203000
DTSTAMP:20260425T152413
CREATED:20251205T170343Z
LAST-MODIFIED:20251205T170420Z
UID:10010946-1826389800-1826397000@victorylutheran.com
SUMMARY:Small Group - "The Seekers"
DESCRIPTION:Led by Mike Menke & Judy BaileyIn-Depth Bible Study (Co-ed)When: 6:30-8:30pm\, 1st & 3rd Tuesday of the monthWhere: Victory\, Room B7Year-Round
URL:https://victorylutheran.com/event/small-group-the-seekers-2/2027-11-16/
END:VEVENT
BEGIN:VEVENT
DTSTART;TZID=America/Phoenix:20271221T183000
DTEND;TZID=America/Phoenix:20271221T203000
DTSTAMP:20260425T152413
CREATED:20251205T170343Z
LAST-MODIFIED:20251205T170420Z
UID:10010947-1829413800-1829421000@victorylutheran.com
SUMMARY:Small Group - "The Seekers"
DESCRIPTION:Led by Mike Menke & Judy BaileyIn-Depth Bible Study (Co-ed)When: 6:30-8:30pm\, 1st & 3rd Tuesday of the monthWhere: Victory\, Room B7Year-Round
URL:https://victorylutheran.com/event/small-group-the-seekers-2/2027-12-21/
END:VEVENT
BEGIN:VEVENT
DTSTART;TZID=America/Phoenix:20280118T183000
DTEND;TZID=America/Phoenix:20280118T203000
DTSTAMP:20260425T152413
CREATED:20251205T170343Z
LAST-MODIFIED:20251205T170420Z
UID:10010948-1831833000-1831840200@victorylutheran.com
SUMMARY:Small Group - "The Seekers"
DESCRIPTION:Led by Mike Menke & Judy BaileyIn-Depth Bible Study (Co-ed)When: 6:30-8:30pm\, 1st & 3rd Tuesday of the monthWhere: Victory\, Room B7Year-Round
URL:https://victorylutheran.com/event/small-group-the-seekers-2/2028-01-18/
END:VEVENT
BEGIN:VEVENT
DTSTART;TZID=America/Phoenix:20280215T183000
DTEND;TZID=America/Phoenix:20280215T203000
DTSTAMP:20260425T152413
CREATED:20251205T170343Z
LAST-MODIFIED:20251205T170420Z
UID:10010949-1834252200-1834259400@victorylutheran.com
SUMMARY:Small Group - "The Seekers"
DESCRIPTION:Led by Mike Menke & Judy BaileyIn-Depth Bible Study (Co-ed)When: 6:30-8:30pm\, 1st & 3rd Tuesday of the monthWhere: Victory\, Room B7Year-Round
URL:https://victorylutheran.com/event/small-group-the-seekers-2/2028-02-15/
END:VEVENT
BEGIN:VEVENT
DTSTART;TZID=America/Phoenix:20280321T183000
DTEND;TZID=America/Phoenix:20280321T203000
DTSTAMP:20260425T152413
CREATED:20251205T170343Z
LAST-MODIFIED:20251205T170420Z
UID:10010950-1837276200-1837283400@victorylutheran.com
SUMMARY:Small Group - "The Seekers"
DESCRIPTION:Led by Mike Menke & Judy BaileyIn-Depth Bible Study (Co-ed)When: 6:30-8:30pm\, 1st & 3rd Tuesday of the monthWhere: Victory\, Room B7Year-Round
URL:https://victorylutheran.com/event/small-group-the-seekers-2/2028-03-21/
END:VEVENT
BEGIN:VEVENT
DTSTART;TZID=America/Phoenix:20280418T183000
DTEND;TZID=America/Phoenix:20280418T203000
DTSTAMP:20260425T152413
CREATED:20251205T170343Z
LAST-MODIFIED:20251205T170420Z
UID:10010951-1839695400-1839702600@victorylutheran.com
SUMMARY:Small Group - "The Seekers"
DESCRIPTION:Led by Mike Menke & Judy BaileyIn-Depth Bible Study (Co-ed)When: 6:30-8:30pm\, 1st & 3rd Tuesday of the monthWhere: Victory\, Room B7Year-Round
URL:https://victorylutheran.com/event/small-group-the-seekers-2/2028-04-18/
END:VEVENT
BEGIN:VEVENT
DTSTART;TZID=America/Phoenix:20280516T183000
DTEND;TZID=America/Phoenix:20280516T203000
DTSTAMP:20260425T152413
CREATED:20251205T170343Z
LAST-MODIFIED:20251205T170420Z
UID:10010952-1842114600-1842121800@victorylutheran.com
SUMMARY:Small Group - "The Seekers"
DESCRIPTION:Led by Mike Menke & Judy BaileyIn-Depth Bible Study (Co-ed)When: 6:30-8:30pm\, 1st & 3rd Tuesday of the monthWhere: Victory\, Room B7Year-Round
URL:https://victorylutheran.com/event/small-group-the-seekers-2/2028-05-16/
END:VEVENT
BEGIN:VEVENT
DTSTART;TZID=America/Phoenix:20280620T183000
DTEND;TZID=America/Phoenix:20280620T203000
DTSTAMP:20260425T152413
CREATED:20251205T170343Z
LAST-MODIFIED:20251205T170420Z
UID:10010953-1845138600-1845145800@victorylutheran.com
SUMMARY:Small Group - "The Seekers"
DESCRIPTION:Led by Mike Menke & Judy BaileyIn-Depth Bible Study (Co-ed)When: 6:30-8:30pm\, 1st & 3rd Tuesday of the monthWhere: Victory\, Room B7Year-Round
URL:https://victorylutheran.com/event/small-group-the-seekers-2/2028-06-20/
END:VEVENT
BEGIN:VEVENT
DTSTART;TZID=America/Phoenix:20280718T183000
DTEND;TZID=America/Phoenix:20280718T203000
DTSTAMP:20260425T152413
CREATED:20251205T170343Z
LAST-MODIFIED:20251205T170420Z
UID:10010954-1847557800-1847565000@victorylutheran.com
SUMMARY:Small Group - "The Seekers"
DESCRIPTION:Led by Mike Menke & Judy BaileyIn-Depth Bible Study (Co-ed)When: 6:30-8:30pm\, 1st & 3rd Tuesday of the monthWhere: Victory\, Room B7Year-Round
URL:https://victorylutheran.com/event/small-group-the-seekers-2/2028-07-18/
END:VEVENT
BEGIN:VEVENT
DTSTART;TZID=America/Phoenix:20280815T183000
DTEND;TZID=America/Phoenix:20280815T203000
DTSTAMP:20260425T152413
CREATED:20251205T170343Z
LAST-MODIFIED:20251205T170420Z
UID:10010955-1849977000-1849984200@victorylutheran.com
SUMMARY:Small Group - "The Seekers"
DESCRIPTION:Led by Mike Menke & Judy BaileyIn-Depth Bible Study (Co-ed)When: 6:30-8:30pm\, 1st & 3rd Tuesday of the monthWhere: Victory\, Room B7Year-Round
URL:https://victorylutheran.com/event/small-group-the-seekers-2/2028-08-15/
END:VEVENT
BEGIN:VEVENT
DTSTART;TZID=America/Phoenix:20280919T183000
DTEND;TZID=America/Phoenix:20280919T203000
DTSTAMP:20260425T152413
CREATED:20251205T170343Z
LAST-MODIFIED:20251205T170420Z
UID:10010956-1853001000-1853008200@victorylutheran.com
SUMMARY:Small Group - "The Seekers"
DESCRIPTION:Led by Mike Menke & Judy BaileyIn-Depth Bible Study (Co-ed)When: 6:30-8:30pm\, 1st & 3rd Tuesday of the monthWhere: Victory\, Room B7Year-Round
URL:https://victorylutheran.com/event/small-group-the-seekers-2/2028-09-19/
END:VEVENT
BEGIN:VEVENT
DTSTART;TZID=America/Phoenix:20281017T183000
DTEND;TZID=America/Phoenix:20281017T203000
DTSTAMP:20260425T152413
CREATED:20251205T170343Z
LAST-MODIFIED:20251205T170420Z
UID:10010957-1855420200-1855427400@victorylutheran.com
SUMMARY:Small Group - "The Seekers"
DESCRIPTION:Led by Mike Menke & Judy BaileyIn-Depth Bible Study (Co-ed)When: 6:30-8:30pm\, 1st & 3rd Tuesday of the monthWhere: Victory\, Room B7Year-Round
URL:https://victorylutheran.com/event/small-group-the-seekers-2/2028-10-17/
END:VEVENT
END:VCALENDAR