BEGIN:VCALENDAR
VERSION:2.0
PRODID:-//Victory Lutheran Church - ECPv6.15.11//NONSGML v1.0//EN
CALSCALE:GREGORIAN
METHOD:PUBLISH
X-WR-CALNAME:Victory Lutheran Church
X-ORIGINAL-URL:https://victorylutheran.com
X-WR-CALDESC:Events for Victory Lutheran Church
REFRESH-INTERVAL;VALUE=DURATION:PT1H
X-Robots-Tag:noindex
X-PUBLISHED-TTL:PT1H
BEGIN:VTIMEZONE
TZID:America/Phoenix
BEGIN:STANDARD
TZOFFSETFROM:-0700
TZOFFSETTO:-0700
TZNAME:MST
DTSTART:20250101T000000
END:STANDARD
END:VTIMEZONE
BEGIN:VEVENT
DTSTART;TZID=America/Phoenix:20260430T100000
DTEND;TZID=America/Phoenix:20260430T110000
DTSTAMP:20260424T195736
CREATED:20230731T045009Z
LAST-MODIFIED:20251010T180919Z
UID:10004379-1777543200-1777546800@victorylutheran.com
SUMMARY:Prayer Group
DESCRIPTION:We are a community dedicated to the power of prayer and supporting one another in our spiritual journeys. Together\, we gather in fellowship to seek God’s guidance\, intercede for the needs of our congregation and beyond. Whether you’re new to faith or a seasoned believer\, our prayer group offers a safe space for heartfelt conversations with God and the opportunity to grow in faith. Join us as we seek God’s presence and experience the transformative power of prayer.
URL:https://victorylutheran.com/event/prayer-group/2026-04-30/
CATEGORIES:Group Time
ATTACH;FMTTYPE=image/png:https://victorylutheran.com/wp-content/uploads/2023/06/prayer-ministry.png
END:VEVENT
BEGIN:VEVENT
DTSTART;TZID=America/Phoenix:20260507T100000
DTEND;TZID=America/Phoenix:20260507T110000
DTSTAMP:20260424T195736
CREATED:20230731T045009Z
LAST-MODIFIED:20251010T180919Z
UID:10009961-1778148000-1778151600@victorylutheran.com
SUMMARY:Prayer Group
DESCRIPTION:We are a community dedicated to the power of prayer and supporting one another in our spiritual journeys. Together\, we gather in fellowship to seek God’s guidance\, intercede for the needs of our congregation and beyond. Whether you’re new to faith or a seasoned believer\, our prayer group offers a safe space for heartfelt conversations with God and the opportunity to grow in faith. Join us as we seek God’s presence and experience the transformative power of prayer.
URL:https://victorylutheran.com/event/prayer-group/2026-05-07/
CATEGORIES:Group Time
ATTACH;FMTTYPE=image/png:https://victorylutheran.com/wp-content/uploads/2023/06/prayer-ministry.png
END:VEVENT
BEGIN:VEVENT
DTSTART;TZID=America/Phoenix:20260514T100000
DTEND;TZID=America/Phoenix:20260514T110000
DTSTAMP:20260424T195736
CREATED:20230731T045009Z
LAST-MODIFIED:20251010T180919Z
UID:10004381-1778752800-1778756400@victorylutheran.com
SUMMARY:Prayer Group
DESCRIPTION:We are a community dedicated to the power of prayer and supporting one another in our spiritual journeys. Together\, we gather in fellowship to seek God’s guidance\, intercede for the needs of our congregation and beyond. Whether you’re new to faith or a seasoned believer\, our prayer group offers a safe space for heartfelt conversations with God and the opportunity to grow in faith. Join us as we seek God’s presence and experience the transformative power of prayer.
URL:https://victorylutheran.com/event/prayer-group/2026-05-14/
CATEGORIES:Group Time
ATTACH;FMTTYPE=image/png:https://victorylutheran.com/wp-content/uploads/2023/06/prayer-ministry.png
END:VEVENT
BEGIN:VEVENT
DTSTART;TZID=America/Phoenix:20260521T100000
DTEND;TZID=America/Phoenix:20260521T110000
DTSTAMP:20260424T195736
CREATED:20230731T045009Z
LAST-MODIFIED:20251010T180919Z
UID:10004382-1779357600-1779361200@victorylutheran.com
SUMMARY:Prayer Group
DESCRIPTION:We are a community dedicated to the power of prayer and supporting one another in our spiritual journeys. Together\, we gather in fellowship to seek God’s guidance\, intercede for the needs of our congregation and beyond. Whether you’re new to faith or a seasoned believer\, our prayer group offers a safe space for heartfelt conversations with God and the opportunity to grow in faith. Join us as we seek God’s presence and experience the transformative power of prayer.
URL:https://victorylutheran.com/event/prayer-group/2026-05-21/
CATEGORIES:Group Time
ATTACH;FMTTYPE=image/png:https://victorylutheran.com/wp-content/uploads/2023/06/prayer-ministry.png
END:VEVENT
BEGIN:VEVENT
DTSTART;TZID=America/Phoenix:20260528T100000
DTEND;TZID=America/Phoenix:20260528T110000
DTSTAMP:20260424T195736
CREATED:20230731T045009Z
LAST-MODIFIED:20251010T180919Z
UID:10004383-1779962400-1779966000@victorylutheran.com
SUMMARY:Prayer Group
DESCRIPTION:We are a community dedicated to the power of prayer and supporting one another in our spiritual journeys. Together\, we gather in fellowship to seek God’s guidance\, intercede for the needs of our congregation and beyond. Whether you’re new to faith or a seasoned believer\, our prayer group offers a safe space for heartfelt conversations with God and the opportunity to grow in faith. Join us as we seek God’s presence and experience the transformative power of prayer.
URL:https://victorylutheran.com/event/prayer-group/2026-05-28/
CATEGORIES:Group Time
ATTACH;FMTTYPE=image/png:https://victorylutheran.com/wp-content/uploads/2023/06/prayer-ministry.png
END:VEVENT
BEGIN:VEVENT
DTSTART;TZID=America/Phoenix:20260604T100000
DTEND;TZID=America/Phoenix:20260604T110000
DTSTAMP:20260424T195736
CREATED:20230731T045009Z
LAST-MODIFIED:20251010T180919Z
UID:10009962-1780567200-1780570800@victorylutheran.com
SUMMARY:Prayer Group
DESCRIPTION:We are a community dedicated to the power of prayer and supporting one another in our spiritual journeys. Together\, we gather in fellowship to seek God’s guidance\, intercede for the needs of our congregation and beyond. Whether you’re new to faith or a seasoned believer\, our prayer group offers a safe space for heartfelt conversations with God and the opportunity to grow in faith. Join us as we seek God’s presence and experience the transformative power of prayer.
URL:https://victorylutheran.com/event/prayer-group/2026-06-04/
CATEGORIES:Group Time
ATTACH;FMTTYPE=image/png:https://victorylutheran.com/wp-content/uploads/2023/06/prayer-ministry.png
END:VEVENT
BEGIN:VEVENT
DTSTART;TZID=America/Phoenix:20260611T100000
DTEND;TZID=America/Phoenix:20260611T110000
DTSTAMP:20260424T195736
CREATED:20230731T045009Z
LAST-MODIFIED:20251010T180919Z
UID:10004385-1781172000-1781175600@victorylutheran.com
SUMMARY:Prayer Group
DESCRIPTION:We are a community dedicated to the power of prayer and supporting one another in our spiritual journeys. Together\, we gather in fellowship to seek God’s guidance\, intercede for the needs of our congregation and beyond. Whether you’re new to faith or a seasoned believer\, our prayer group offers a safe space for heartfelt conversations with God and the opportunity to grow in faith. Join us as we seek God’s presence and experience the transformative power of prayer.
URL:https://victorylutheran.com/event/prayer-group/2026-06-11/
CATEGORIES:Group Time
ATTACH;FMTTYPE=image/png:https://victorylutheran.com/wp-content/uploads/2023/06/prayer-ministry.png
END:VEVENT
BEGIN:VEVENT
DTSTART;TZID=America/Phoenix:20260618T100000
DTEND;TZID=America/Phoenix:20260618T110000
DTSTAMP:20260424T195736
CREATED:20230731T045009Z
LAST-MODIFIED:20251010T180919Z
UID:10004386-1781776800-1781780400@victorylutheran.com
SUMMARY:Prayer Group
DESCRIPTION:We are a community dedicated to the power of prayer and supporting one another in our spiritual journeys. Together\, we gather in fellowship to seek God’s guidance\, intercede for the needs of our congregation and beyond. Whether you’re new to faith or a seasoned believer\, our prayer group offers a safe space for heartfelt conversations with God and the opportunity to grow in faith. Join us as we seek God’s presence and experience the transformative power of prayer.
URL:https://victorylutheran.com/event/prayer-group/2026-06-18/
CATEGORIES:Group Time
ATTACH;FMTTYPE=image/png:https://victorylutheran.com/wp-content/uploads/2023/06/prayer-ministry.png
END:VEVENT
BEGIN:VEVENT
DTSTART;TZID=America/Phoenix:20260625T100000
DTEND;TZID=America/Phoenix:20260625T110000
DTSTAMP:20260424T195736
CREATED:20230731T045009Z
LAST-MODIFIED:20251010T180919Z
UID:10004387-1782381600-1782385200@victorylutheran.com
SUMMARY:Prayer Group
DESCRIPTION:We are a community dedicated to the power of prayer and supporting one another in our spiritual journeys. Together\, we gather in fellowship to seek God’s guidance\, intercede for the needs of our congregation and beyond. Whether you’re new to faith or a seasoned believer\, our prayer group offers a safe space for heartfelt conversations with God and the opportunity to grow in faith. Join us as we seek God’s presence and experience the transformative power of prayer.
URL:https://victorylutheran.com/event/prayer-group/2026-06-25/
CATEGORIES:Group Time
ATTACH;FMTTYPE=image/png:https://victorylutheran.com/wp-content/uploads/2023/06/prayer-ministry.png
END:VEVENT
BEGIN:VEVENT
DTSTART;TZID=America/Phoenix:20260702T100000
DTEND;TZID=America/Phoenix:20260702T110000
DTSTAMP:20260424T195736
CREATED:20230731T045009Z
LAST-MODIFIED:20251010T180919Z
UID:10009963-1782986400-1782990000@victorylutheran.com
SUMMARY:Prayer Group
DESCRIPTION:We are a community dedicated to the power of prayer and supporting one another in our spiritual journeys. Together\, we gather in fellowship to seek God’s guidance\, intercede for the needs of our congregation and beyond. Whether you’re new to faith or a seasoned believer\, our prayer group offers a safe space for heartfelt conversations with God and the opportunity to grow in faith. Join us as we seek God’s presence and experience the transformative power of prayer.
URL:https://victorylutheran.com/event/prayer-group/2026-07-02/
CATEGORIES:Group Time
ATTACH;FMTTYPE=image/png:https://victorylutheran.com/wp-content/uploads/2023/06/prayer-ministry.png
END:VEVENT
BEGIN:VEVENT
DTSTART;TZID=America/Phoenix:20260709T100000
DTEND;TZID=America/Phoenix:20260709T110000
DTSTAMP:20260424T195736
CREATED:20230731T045009Z
LAST-MODIFIED:20251010T180919Z
UID:10004389-1783591200-1783594800@victorylutheran.com
SUMMARY:Prayer Group
DESCRIPTION:We are a community dedicated to the power of prayer and supporting one another in our spiritual journeys. Together\, we gather in fellowship to seek God’s guidance\, intercede for the needs of our congregation and beyond. Whether you’re new to faith or a seasoned believer\, our prayer group offers a safe space for heartfelt conversations with God and the opportunity to grow in faith. Join us as we seek God’s presence and experience the transformative power of prayer.
URL:https://victorylutheran.com/event/prayer-group/2026-07-09/
CATEGORIES:Group Time
ATTACH;FMTTYPE=image/png:https://victorylutheran.com/wp-content/uploads/2023/06/prayer-ministry.png
END:VEVENT
BEGIN:VEVENT
DTSTART;TZID=America/Phoenix:20260716T100000
DTEND;TZID=America/Phoenix:20260716T110000
DTSTAMP:20260424T195736
CREATED:20230731T045009Z
LAST-MODIFIED:20251010T180919Z
UID:10004390-1784196000-1784199600@victorylutheran.com
SUMMARY:Prayer Group
DESCRIPTION:We are a community dedicated to the power of prayer and supporting one another in our spiritual journeys. Together\, we gather in fellowship to seek God’s guidance\, intercede for the needs of our congregation and beyond. Whether you’re new to faith or a seasoned believer\, our prayer group offers a safe space for heartfelt conversations with God and the opportunity to grow in faith. Join us as we seek God’s presence and experience the transformative power of prayer.
URL:https://victorylutheran.com/event/prayer-group/2026-07-16/
CATEGORIES:Group Time
ATTACH;FMTTYPE=image/png:https://victorylutheran.com/wp-content/uploads/2023/06/prayer-ministry.png
END:VEVENT
BEGIN:VEVENT
DTSTART;TZID=America/Phoenix:20260723T100000
DTEND;TZID=America/Phoenix:20260723T110000
DTSTAMP:20260424T195736
CREATED:20230731T045009Z
LAST-MODIFIED:20251010T180919Z
UID:10004391-1784800800-1784804400@victorylutheran.com
SUMMARY:Prayer Group
DESCRIPTION:We are a community dedicated to the power of prayer and supporting one another in our spiritual journeys. Together\, we gather in fellowship to seek God’s guidance\, intercede for the needs of our congregation and beyond. Whether you’re new to faith or a seasoned believer\, our prayer group offers a safe space for heartfelt conversations with God and the opportunity to grow in faith. Join us as we seek God’s presence and experience the transformative power of prayer.
URL:https://victorylutheran.com/event/prayer-group/2026-07-23/
CATEGORIES:Group Time
ATTACH;FMTTYPE=image/png:https://victorylutheran.com/wp-content/uploads/2023/06/prayer-ministry.png
END:VEVENT
BEGIN:VEVENT
DTSTART;TZID=America/Phoenix:20260730T100000
DTEND;TZID=America/Phoenix:20260730T110000
DTSTAMP:20260424T195736
CREATED:20230731T045009Z
LAST-MODIFIED:20251010T180919Z
UID:10004392-1785405600-1785409200@victorylutheran.com
SUMMARY:Prayer Group
DESCRIPTION:We are a community dedicated to the power of prayer and supporting one another in our spiritual journeys. Together\, we gather in fellowship to seek God’s guidance\, intercede for the needs of our congregation and beyond. Whether you’re new to faith or a seasoned believer\, our prayer group offers a safe space for heartfelt conversations with God and the opportunity to grow in faith. Join us as we seek God’s presence and experience the transformative power of prayer.
URL:https://victorylutheran.com/event/prayer-group/2026-07-30/
CATEGORIES:Group Time
ATTACH;FMTTYPE=image/png:https://victorylutheran.com/wp-content/uploads/2023/06/prayer-ministry.png
END:VEVENT
BEGIN:VEVENT
DTSTART;TZID=America/Phoenix:20260806T100000
DTEND;TZID=America/Phoenix:20260806T110000
DTSTAMP:20260424T195736
CREATED:20230731T045009Z
LAST-MODIFIED:20251010T180919Z
UID:10009964-1786010400-1786014000@victorylutheran.com
SUMMARY:Prayer Group
DESCRIPTION:We are a community dedicated to the power of prayer and supporting one another in our spiritual journeys. Together\, we gather in fellowship to seek God’s guidance\, intercede for the needs of our congregation and beyond. Whether you’re new to faith or a seasoned believer\, our prayer group offers a safe space for heartfelt conversations with God and the opportunity to grow in faith. Join us as we seek God’s presence and experience the transformative power of prayer.
URL:https://victorylutheran.com/event/prayer-group/2026-08-06/
CATEGORIES:Group Time
ATTACH;FMTTYPE=image/png:https://victorylutheran.com/wp-content/uploads/2023/06/prayer-ministry.png
END:VEVENT
BEGIN:VEVENT
DTSTART;TZID=America/Phoenix:20260813T100000
DTEND;TZID=America/Phoenix:20260813T110000
DTSTAMP:20260424T195736
CREATED:20230731T045009Z
LAST-MODIFIED:20251010T180919Z
UID:10004394-1786615200-1786618800@victorylutheran.com
SUMMARY:Prayer Group
DESCRIPTION:We are a community dedicated to the power of prayer and supporting one another in our spiritual journeys. Together\, we gather in fellowship to seek God’s guidance\, intercede for the needs of our congregation and beyond. Whether you’re new to faith or a seasoned believer\, our prayer group offers a safe space for heartfelt conversations with God and the opportunity to grow in faith. Join us as we seek God’s presence and experience the transformative power of prayer.
URL:https://victorylutheran.com/event/prayer-group/2026-08-13/
CATEGORIES:Group Time
ATTACH;FMTTYPE=image/png:https://victorylutheran.com/wp-content/uploads/2023/06/prayer-ministry.png
END:VEVENT
BEGIN:VEVENT
DTSTART;TZID=America/Phoenix:20260820T100000
DTEND;TZID=America/Phoenix:20260820T110000
DTSTAMP:20260424T195736
CREATED:20230731T045009Z
LAST-MODIFIED:20251010T180919Z
UID:10004395-1787220000-1787223600@victorylutheran.com
SUMMARY:Prayer Group
DESCRIPTION:We are a community dedicated to the power of prayer and supporting one another in our spiritual journeys. Together\, we gather in fellowship to seek God’s guidance\, intercede for the needs of our congregation and beyond. Whether you’re new to faith or a seasoned believer\, our prayer group offers a safe space for heartfelt conversations with God and the opportunity to grow in faith. Join us as we seek God’s presence and experience the transformative power of prayer.
URL:https://victorylutheran.com/event/prayer-group/2026-08-20/
CATEGORIES:Group Time
ATTACH;FMTTYPE=image/png:https://victorylutheran.com/wp-content/uploads/2023/06/prayer-ministry.png
END:VEVENT
BEGIN:VEVENT
DTSTART;TZID=America/Phoenix:20260827T100000
DTEND;TZID=America/Phoenix:20260827T110000
DTSTAMP:20260424T195736
CREATED:20230731T045009Z
LAST-MODIFIED:20251010T180919Z
UID:10004396-1787824800-1787828400@victorylutheran.com
SUMMARY:Prayer Group
DESCRIPTION:We are a community dedicated to the power of prayer and supporting one another in our spiritual journeys. Together\, we gather in fellowship to seek God’s guidance\, intercede for the needs of our congregation and beyond. Whether you’re new to faith or a seasoned believer\, our prayer group offers a safe space for heartfelt conversations with God and the opportunity to grow in faith. Join us as we seek God’s presence and experience the transformative power of prayer.
URL:https://victorylutheran.com/event/prayer-group/2026-08-27/
CATEGORIES:Group Time
ATTACH;FMTTYPE=image/png:https://victorylutheran.com/wp-content/uploads/2023/06/prayer-ministry.png
END:VEVENT
BEGIN:VEVENT
DTSTART;TZID=America/Phoenix:20260903T100000
DTEND;TZID=America/Phoenix:20260903T110000
DTSTAMP:20260424T195736
CREATED:20230731T045009Z
LAST-MODIFIED:20251010T180919Z
UID:10009965-1788429600-1788433200@victorylutheran.com
SUMMARY:Prayer Group
DESCRIPTION:We are a community dedicated to the power of prayer and supporting one another in our spiritual journeys. Together\, we gather in fellowship to seek God’s guidance\, intercede for the needs of our congregation and beyond. Whether you’re new to faith or a seasoned believer\, our prayer group offers a safe space for heartfelt conversations with God and the opportunity to grow in faith. Join us as we seek God’s presence and experience the transformative power of prayer.
URL:https://victorylutheran.com/event/prayer-group/2026-09-03/
CATEGORIES:Group Time
ATTACH;FMTTYPE=image/png:https://victorylutheran.com/wp-content/uploads/2023/06/prayer-ministry.png
END:VEVENT
BEGIN:VEVENT
DTSTART;TZID=America/Phoenix:20260910T100000
DTEND;TZID=America/Phoenix:20260910T110000
DTSTAMP:20260424T195736
CREATED:20230731T045009Z
LAST-MODIFIED:20251010T180919Z
UID:10004398-1789034400-1789038000@victorylutheran.com
SUMMARY:Prayer Group
DESCRIPTION:We are a community dedicated to the power of prayer and supporting one another in our spiritual journeys. Together\, we gather in fellowship to seek God’s guidance\, intercede for the needs of our congregation and beyond. Whether you’re new to faith or a seasoned believer\, our prayer group offers a safe space for heartfelt conversations with God and the opportunity to grow in faith. Join us as we seek God’s presence and experience the transformative power of prayer.
URL:https://victorylutheran.com/event/prayer-group/2026-09-10/
CATEGORIES:Group Time
ATTACH;FMTTYPE=image/png:https://victorylutheran.com/wp-content/uploads/2023/06/prayer-ministry.png
END:VEVENT
BEGIN:VEVENT
DTSTART;TZID=America/Phoenix:20260917T100000
DTEND;TZID=America/Phoenix:20260917T110000
DTSTAMP:20260424T195736
CREATED:20230731T045009Z
LAST-MODIFIED:20251010T180919Z
UID:10004399-1789639200-1789642800@victorylutheran.com
SUMMARY:Prayer Group
DESCRIPTION:We are a community dedicated to the power of prayer and supporting one another in our spiritual journeys. Together\, we gather in fellowship to seek God’s guidance\, intercede for the needs of our congregation and beyond. Whether you’re new to faith or a seasoned believer\, our prayer group offers a safe space for heartfelt conversations with God and the opportunity to grow in faith. Join us as we seek God’s presence and experience the transformative power of prayer.
URL:https://victorylutheran.com/event/prayer-group/2026-09-17/
CATEGORIES:Group Time
ATTACH;FMTTYPE=image/png:https://victorylutheran.com/wp-content/uploads/2023/06/prayer-ministry.png
END:VEVENT
BEGIN:VEVENT
DTSTART;TZID=America/Phoenix:20260924T100000
DTEND;TZID=America/Phoenix:20260924T110000
DTSTAMP:20260424T195736
CREATED:20230731T045009Z
LAST-MODIFIED:20251010T180919Z
UID:10004400-1790244000-1790247600@victorylutheran.com
SUMMARY:Prayer Group
DESCRIPTION:We are a community dedicated to the power of prayer and supporting one another in our spiritual journeys. Together\, we gather in fellowship to seek God’s guidance\, intercede for the needs of our congregation and beyond. Whether you’re new to faith or a seasoned believer\, our prayer group offers a safe space for heartfelt conversations with God and the opportunity to grow in faith. Join us as we seek God’s presence and experience the transformative power of prayer.
URL:https://victorylutheran.com/event/prayer-group/2026-09-24/
CATEGORIES:Group Time
ATTACH;FMTTYPE=image/png:https://victorylutheran.com/wp-content/uploads/2023/06/prayer-ministry.png
END:VEVENT
BEGIN:VEVENT
DTSTART;TZID=America/Phoenix:20261001T100000
DTEND;TZID=America/Phoenix:20261001T110000
DTSTAMP:20260424T195736
CREATED:20230731T045009Z
LAST-MODIFIED:20251010T180919Z
UID:10009966-1790848800-1790852400@victorylutheran.com
SUMMARY:Prayer Group
DESCRIPTION:We are a community dedicated to the power of prayer and supporting one another in our spiritual journeys. Together\, we gather in fellowship to seek God’s guidance\, intercede for the needs of our congregation and beyond. Whether you’re new to faith or a seasoned believer\, our prayer group offers a safe space for heartfelt conversations with God and the opportunity to grow in faith. Join us as we seek God’s presence and experience the transformative power of prayer.
URL:https://victorylutheran.com/event/prayer-group/2026-10-01/
CATEGORIES:Group Time
ATTACH;FMTTYPE=image/png:https://victorylutheran.com/wp-content/uploads/2023/06/prayer-ministry.png
END:VEVENT
BEGIN:VEVENT
DTSTART;TZID=America/Phoenix:20261008T100000
DTEND;TZID=America/Phoenix:20261008T110000
DTSTAMP:20260424T195736
CREATED:20230731T045009Z
LAST-MODIFIED:20251010T180919Z
UID:10004402-1791453600-1791457200@victorylutheran.com
SUMMARY:Prayer Group
DESCRIPTION:We are a community dedicated to the power of prayer and supporting one another in our spiritual journeys. Together\, we gather in fellowship to seek God’s guidance\, intercede for the needs of our congregation and beyond. Whether you’re new to faith or a seasoned believer\, our prayer group offers a safe space for heartfelt conversations with God and the opportunity to grow in faith. Join us as we seek God’s presence and experience the transformative power of prayer.
URL:https://victorylutheran.com/event/prayer-group/2026-10-08/
CATEGORIES:Group Time
ATTACH;FMTTYPE=image/png:https://victorylutheran.com/wp-content/uploads/2023/06/prayer-ministry.png
END:VEVENT
BEGIN:VEVENT
DTSTART;TZID=America/Phoenix:20261015T100000
DTEND;TZID=America/Phoenix:20261015T110000
DTSTAMP:20260424T195736
CREATED:20230731T045009Z
LAST-MODIFIED:20251010T180919Z
UID:10004403-1792058400-1792062000@victorylutheran.com
SUMMARY:Prayer Group
DESCRIPTION:We are a community dedicated to the power of prayer and supporting one another in our spiritual journeys. Together\, we gather in fellowship to seek God’s guidance\, intercede for the needs of our congregation and beyond. Whether you’re new to faith or a seasoned believer\, our prayer group offers a safe space for heartfelt conversations with God and the opportunity to grow in faith. Join us as we seek God’s presence and experience the transformative power of prayer.
URL:https://victorylutheran.com/event/prayer-group/2026-10-15/
CATEGORIES:Group Time
ATTACH;FMTTYPE=image/png:https://victorylutheran.com/wp-content/uploads/2023/06/prayer-ministry.png
END:VEVENT
BEGIN:VEVENT
DTSTART;TZID=America/Phoenix:20261022T100000
DTEND;TZID=America/Phoenix:20261022T110000
DTSTAMP:20260424T195736
CREATED:20230731T045009Z
LAST-MODIFIED:20251010T180919Z
UID:10004404-1792663200-1792666800@victorylutheran.com
SUMMARY:Prayer Group
DESCRIPTION:We are a community dedicated to the power of prayer and supporting one another in our spiritual journeys. Together\, we gather in fellowship to seek God’s guidance\, intercede for the needs of our congregation and beyond. Whether you’re new to faith or a seasoned believer\, our prayer group offers a safe space for heartfelt conversations with God and the opportunity to grow in faith. Join us as we seek God’s presence and experience the transformative power of prayer.
URL:https://victorylutheran.com/event/prayer-group/2026-10-22/
CATEGORIES:Group Time
ATTACH;FMTTYPE=image/png:https://victorylutheran.com/wp-content/uploads/2023/06/prayer-ministry.png
END:VEVENT
BEGIN:VEVENT
DTSTART;TZID=America/Phoenix:20261029T100000
DTEND;TZID=America/Phoenix:20261029T110000
DTSTAMP:20260424T195736
CREATED:20230731T045009Z
LAST-MODIFIED:20251010T180919Z
UID:10004405-1793268000-1793271600@victorylutheran.com
SUMMARY:Prayer Group
DESCRIPTION:We are a community dedicated to the power of prayer and supporting one another in our spiritual journeys. Together\, we gather in fellowship to seek God’s guidance\, intercede for the needs of our congregation and beyond. Whether you’re new to faith or a seasoned believer\, our prayer group offers a safe space for heartfelt conversations with God and the opportunity to grow in faith. Join us as we seek God’s presence and experience the transformative power of prayer.
URL:https://victorylutheran.com/event/prayer-group/2026-10-29/
CATEGORIES:Group Time
ATTACH;FMTTYPE=image/png:https://victorylutheran.com/wp-content/uploads/2023/06/prayer-ministry.png
END:VEVENT
BEGIN:VEVENT
DTSTART;TZID=America/Phoenix:20261105T100000
DTEND;TZID=America/Phoenix:20261105T110000
DTSTAMP:20260424T195736
CREATED:20230731T045009Z
LAST-MODIFIED:20251010T180919Z
UID:10009967-1793872800-1793876400@victorylutheran.com
SUMMARY:Prayer Group
DESCRIPTION:We are a community dedicated to the power of prayer and supporting one another in our spiritual journeys. Together\, we gather in fellowship to seek God’s guidance\, intercede for the needs of our congregation and beyond. Whether you’re new to faith or a seasoned believer\, our prayer group offers a safe space for heartfelt conversations with God and the opportunity to grow in faith. Join us as we seek God’s presence and experience the transformative power of prayer.
URL:https://victorylutheran.com/event/prayer-group/2026-11-05/
CATEGORIES:Group Time
ATTACH;FMTTYPE=image/png:https://victorylutheran.com/wp-content/uploads/2023/06/prayer-ministry.png
END:VEVENT
BEGIN:VEVENT
DTSTART;TZID=America/Phoenix:20261112T100000
DTEND;TZID=America/Phoenix:20261112T110000
DTSTAMP:20260424T195736
CREATED:20230731T045009Z
LAST-MODIFIED:20251010T180919Z
UID:10004407-1794477600-1794481200@victorylutheran.com
SUMMARY:Prayer Group
DESCRIPTION:We are a community dedicated to the power of prayer and supporting one another in our spiritual journeys. Together\, we gather in fellowship to seek God’s guidance\, intercede for the needs of our congregation and beyond. Whether you’re new to faith or a seasoned believer\, our prayer group offers a safe space for heartfelt conversations with God and the opportunity to grow in faith. Join us as we seek God’s presence and experience the transformative power of prayer.
URL:https://victorylutheran.com/event/prayer-group/2026-11-12/
CATEGORIES:Group Time
ATTACH;FMTTYPE=image/png:https://victorylutheran.com/wp-content/uploads/2023/06/prayer-ministry.png
END:VEVENT
BEGIN:VEVENT
DTSTART;TZID=America/Phoenix:20261119T100000
DTEND;TZID=America/Phoenix:20261119T110000
DTSTAMP:20260424T195736
CREATED:20230731T045009Z
LAST-MODIFIED:20251010T180919Z
UID:10004408-1795082400-1795086000@victorylutheran.com
SUMMARY:Prayer Group
DESCRIPTION:We are a community dedicated to the power of prayer and supporting one another in our spiritual journeys. Together\, we gather in fellowship to seek God’s guidance\, intercede for the needs of our congregation and beyond. Whether you’re new to faith or a seasoned believer\, our prayer group offers a safe space for heartfelt conversations with God and the opportunity to grow in faith. Join us as we seek God’s presence and experience the transformative power of prayer.
URL:https://victorylutheran.com/event/prayer-group/2026-11-19/
CATEGORIES:Group Time
ATTACH;FMTTYPE=image/png:https://victorylutheran.com/wp-content/uploads/2023/06/prayer-ministry.png
END:VEVENT
END:VCALENDAR