BEGIN:VCALENDAR
VERSION:2.0
PRODID:-//Victory Lutheran Church - ECPv6.15.11//NONSGML v1.0//EN
CALSCALE:GREGORIAN
METHOD:PUBLISH
X-ORIGINAL-URL:https://victorylutheran.com
X-WR-CALDESC:Events for Victory Lutheran Church
REFRESH-INTERVAL;VALUE=DURATION:PT1H
X-Robots-Tag:noindex
X-PUBLISHED-TTL:PT1H
BEGIN:VTIMEZONE
TZID:America/Phoenix
BEGIN:STANDARD
TZOFFSETFROM:-0700
TZOFFSETTO:-0700
TZNAME:MST
DTSTART:20250101T000000
END:STANDARD
END:VTIMEZONE
BEGIN:VEVENT
DTSTART;TZID=America/Phoenix:20260429T200000
DTEND;TZID=America/Phoenix:20260429T210000
DTSTAMP:20260425T085627
CREATED:20240423T172328Z
LAST-MODIFIED:20240423T172410Z
UID:10006282-1777492800-1777496400@victorylutheran.com
SUMMARY:AA Meeting
DESCRIPTION:The purpose of all meetings is for A.A. members to “share their experience\, strength and hope with each other that they may solve their common problem and help others to recover from alcoholism.”
URL:https://victorylutheran.com/event/aa-meeting/2026-04-29/
ATTACH;FMTTYPE=image/jpeg:https://victorylutheran.com/wp-content/uploads/2023/07/AA-book-cover.jpg
END:VEVENT
BEGIN:VEVENT
DTSTART;TZID=America/Phoenix:20260506T200000
DTEND;TZID=America/Phoenix:20260506T210000
DTSTAMP:20260425T085627
CREATED:20240423T172328Z
LAST-MODIFIED:20240423T172410Z
UID:10006283-1778097600-1778101200@victorylutheran.com
SUMMARY:AA Meeting
DESCRIPTION:The purpose of all meetings is for A.A. members to “share their experience\, strength and hope with each other that they may solve their common problem and help others to recover from alcoholism.”
URL:https://victorylutheran.com/event/aa-meeting/2026-05-06/
ATTACH;FMTTYPE=image/jpeg:https://victorylutheran.com/wp-content/uploads/2023/07/AA-book-cover.jpg
END:VEVENT
BEGIN:VEVENT
DTSTART;TZID=America/Phoenix:20260513T200000
DTEND;TZID=America/Phoenix:20260513T210000
DTSTAMP:20260425T085627
CREATED:20240423T172328Z
LAST-MODIFIED:20240423T172410Z
UID:10006284-1778702400-1778706000@victorylutheran.com
SUMMARY:AA Meeting
DESCRIPTION:The purpose of all meetings is for A.A. members to “share their experience\, strength and hope with each other that they may solve their common problem and help others to recover from alcoholism.”
URL:https://victorylutheran.com/event/aa-meeting/2026-05-13/
ATTACH;FMTTYPE=image/jpeg:https://victorylutheran.com/wp-content/uploads/2023/07/AA-book-cover.jpg
END:VEVENT
BEGIN:VEVENT
DTSTART;TZID=America/Phoenix:20260520T200000
DTEND;TZID=America/Phoenix:20260520T210000
DTSTAMP:20260425T085627
CREATED:20240423T172328Z
LAST-MODIFIED:20240423T172410Z
UID:10006285-1779307200-1779310800@victorylutheran.com
SUMMARY:AA Meeting
DESCRIPTION:The purpose of all meetings is for A.A. members to “share their experience\, strength and hope with each other that they may solve their common problem and help others to recover from alcoholism.”
URL:https://victorylutheran.com/event/aa-meeting/2026-05-20/
ATTACH;FMTTYPE=image/jpeg:https://victorylutheran.com/wp-content/uploads/2023/07/AA-book-cover.jpg
END:VEVENT
BEGIN:VEVENT
DTSTART;TZID=America/Phoenix:20260527T200000
DTEND;TZID=America/Phoenix:20260527T210000
DTSTAMP:20260425T085627
CREATED:20240423T172328Z
LAST-MODIFIED:20240423T172410Z
UID:10006286-1779912000-1779915600@victorylutheran.com
SUMMARY:AA Meeting
DESCRIPTION:The purpose of all meetings is for A.A. members to “share their experience\, strength and hope with each other that they may solve their common problem and help others to recover from alcoholism.”
URL:https://victorylutheran.com/event/aa-meeting/2026-05-27/
ATTACH;FMTTYPE=image/jpeg:https://victorylutheran.com/wp-content/uploads/2023/07/AA-book-cover.jpg
END:VEVENT
BEGIN:VEVENT
DTSTART;TZID=America/Phoenix:20260603T200000
DTEND;TZID=America/Phoenix:20260603T210000
DTSTAMP:20260425T085627
CREATED:20240423T172328Z
LAST-MODIFIED:20240423T172410Z
UID:10006287-1780516800-1780520400@victorylutheran.com
SUMMARY:AA Meeting
DESCRIPTION:The purpose of all meetings is for A.A. members to “share their experience\, strength and hope with each other that they may solve their common problem and help others to recover from alcoholism.”
URL:https://victorylutheran.com/event/aa-meeting/2026-06-03/
ATTACH;FMTTYPE=image/jpeg:https://victorylutheran.com/wp-content/uploads/2023/07/AA-book-cover.jpg
END:VEVENT
BEGIN:VEVENT
DTSTART;TZID=America/Phoenix:20260610T200000
DTEND;TZID=America/Phoenix:20260610T210000
DTSTAMP:20260425T085627
CREATED:20240423T172328Z
LAST-MODIFIED:20240423T172410Z
UID:10006288-1781121600-1781125200@victorylutheran.com
SUMMARY:AA Meeting
DESCRIPTION:The purpose of all meetings is for A.A. members to “share their experience\, strength and hope with each other that they may solve their common problem and help others to recover from alcoholism.”
URL:https://victorylutheran.com/event/aa-meeting/2026-06-10/
ATTACH;FMTTYPE=image/jpeg:https://victorylutheran.com/wp-content/uploads/2023/07/AA-book-cover.jpg
END:VEVENT
BEGIN:VEVENT
DTSTART;TZID=America/Phoenix:20260617T200000
DTEND;TZID=America/Phoenix:20260617T210000
DTSTAMP:20260425T085627
CREATED:20240423T172328Z
LAST-MODIFIED:20240423T172410Z
UID:10006289-1781726400-1781730000@victorylutheran.com
SUMMARY:AA Meeting
DESCRIPTION:The purpose of all meetings is for A.A. members to “share their experience\, strength and hope with each other that they may solve their common problem and help others to recover from alcoholism.”
URL:https://victorylutheran.com/event/aa-meeting/2026-06-17/
ATTACH;FMTTYPE=image/jpeg:https://victorylutheran.com/wp-content/uploads/2023/07/AA-book-cover.jpg
END:VEVENT
BEGIN:VEVENT
DTSTART;TZID=America/Phoenix:20260624T200000
DTEND;TZID=America/Phoenix:20260624T210000
DTSTAMP:20260425T085627
CREATED:20240423T172328Z
LAST-MODIFIED:20240423T172410Z
UID:10006290-1782331200-1782334800@victorylutheran.com
SUMMARY:AA Meeting
DESCRIPTION:The purpose of all meetings is for A.A. members to “share their experience\, strength and hope with each other that they may solve their common problem and help others to recover from alcoholism.”
URL:https://victorylutheran.com/event/aa-meeting/2026-06-24/
ATTACH;FMTTYPE=image/jpeg:https://victorylutheran.com/wp-content/uploads/2023/07/AA-book-cover.jpg
END:VEVENT
BEGIN:VEVENT
DTSTART;TZID=America/Phoenix:20260701T200000
DTEND;TZID=America/Phoenix:20260701T210000
DTSTAMP:20260425T085627
CREATED:20240423T172328Z
LAST-MODIFIED:20240423T172410Z
UID:10006291-1782936000-1782939600@victorylutheran.com
SUMMARY:AA Meeting
DESCRIPTION:The purpose of all meetings is for A.A. members to “share their experience\, strength and hope with each other that they may solve their common problem and help others to recover from alcoholism.”
URL:https://victorylutheran.com/event/aa-meeting/2026-07-01/
ATTACH;FMTTYPE=image/jpeg:https://victorylutheran.com/wp-content/uploads/2023/07/AA-book-cover.jpg
END:VEVENT
BEGIN:VEVENT
DTSTART;TZID=America/Phoenix:20260708T200000
DTEND;TZID=America/Phoenix:20260708T210000
DTSTAMP:20260425T085627
CREATED:20240423T172328Z
LAST-MODIFIED:20240423T172410Z
UID:10006292-1783540800-1783544400@victorylutheran.com
SUMMARY:AA Meeting
DESCRIPTION:The purpose of all meetings is for A.A. members to “share their experience\, strength and hope with each other that they may solve their common problem and help others to recover from alcoholism.”
URL:https://victorylutheran.com/event/aa-meeting/2026-07-08/
ATTACH;FMTTYPE=image/jpeg:https://victorylutheran.com/wp-content/uploads/2023/07/AA-book-cover.jpg
END:VEVENT
BEGIN:VEVENT
DTSTART;TZID=America/Phoenix:20260715T200000
DTEND;TZID=America/Phoenix:20260715T210000
DTSTAMP:20260425T085627
CREATED:20240423T172328Z
LAST-MODIFIED:20240423T172410Z
UID:10006293-1784145600-1784149200@victorylutheran.com
SUMMARY:AA Meeting
DESCRIPTION:The purpose of all meetings is for A.A. members to “share their experience\, strength and hope with each other that they may solve their common problem and help others to recover from alcoholism.”
URL:https://victorylutheran.com/event/aa-meeting/2026-07-15/
ATTACH;FMTTYPE=image/jpeg:https://victorylutheran.com/wp-content/uploads/2023/07/AA-book-cover.jpg
END:VEVENT
BEGIN:VEVENT
DTSTART;TZID=America/Phoenix:20260722T200000
DTEND;TZID=America/Phoenix:20260722T210000
DTSTAMP:20260425T085628
CREATED:20240423T172328Z
LAST-MODIFIED:20240423T172410Z
UID:10006294-1784750400-1784754000@victorylutheran.com
SUMMARY:AA Meeting
DESCRIPTION:The purpose of all meetings is for A.A. members to “share their experience\, strength and hope with each other that they may solve their common problem and help others to recover from alcoholism.”
URL:https://victorylutheran.com/event/aa-meeting/2026-07-22/
ATTACH;FMTTYPE=image/jpeg:https://victorylutheran.com/wp-content/uploads/2023/07/AA-book-cover.jpg
END:VEVENT
BEGIN:VEVENT
DTSTART;TZID=America/Phoenix:20260729T200000
DTEND;TZID=America/Phoenix:20260729T210000
DTSTAMP:20260425T085628
CREATED:20240423T172328Z
LAST-MODIFIED:20240423T172410Z
UID:10006295-1785355200-1785358800@victorylutheran.com
SUMMARY:AA Meeting
DESCRIPTION:The purpose of all meetings is for A.A. members to “share their experience\, strength and hope with each other that they may solve their common problem and help others to recover from alcoholism.”
URL:https://victorylutheran.com/event/aa-meeting/2026-07-29/
ATTACH;FMTTYPE=image/jpeg:https://victorylutheran.com/wp-content/uploads/2023/07/AA-book-cover.jpg
END:VEVENT
BEGIN:VEVENT
DTSTART;TZID=America/Phoenix:20260805T200000
DTEND;TZID=America/Phoenix:20260805T210000
DTSTAMP:20260425T085628
CREATED:20240423T172328Z
LAST-MODIFIED:20240423T172410Z
UID:10006296-1785960000-1785963600@victorylutheran.com
SUMMARY:AA Meeting
DESCRIPTION:The purpose of all meetings is for A.A. members to “share their experience\, strength and hope with each other that they may solve their common problem and help others to recover from alcoholism.”
URL:https://victorylutheran.com/event/aa-meeting/2026-08-05/
ATTACH;FMTTYPE=image/jpeg:https://victorylutheran.com/wp-content/uploads/2023/07/AA-book-cover.jpg
END:VEVENT
BEGIN:VEVENT
DTSTART;TZID=America/Phoenix:20260812T200000
DTEND;TZID=America/Phoenix:20260812T210000
DTSTAMP:20260425T085628
CREATED:20240423T172328Z
LAST-MODIFIED:20240423T172410Z
UID:10006297-1786564800-1786568400@victorylutheran.com
SUMMARY:AA Meeting
DESCRIPTION:The purpose of all meetings is for A.A. members to “share their experience\, strength and hope with each other that they may solve their common problem and help others to recover from alcoholism.”
URL:https://victorylutheran.com/event/aa-meeting/2026-08-12/
ATTACH;FMTTYPE=image/jpeg:https://victorylutheran.com/wp-content/uploads/2023/07/AA-book-cover.jpg
END:VEVENT
BEGIN:VEVENT
DTSTART;TZID=America/Phoenix:20260819T200000
DTEND;TZID=America/Phoenix:20260819T210000
DTSTAMP:20260425T085628
CREATED:20240423T172328Z
LAST-MODIFIED:20240423T172410Z
UID:10006298-1787169600-1787173200@victorylutheran.com
SUMMARY:AA Meeting
DESCRIPTION:The purpose of all meetings is for A.A. members to “share their experience\, strength and hope with each other that they may solve their common problem and help others to recover from alcoholism.”
URL:https://victorylutheran.com/event/aa-meeting/2026-08-19/
ATTACH;FMTTYPE=image/jpeg:https://victorylutheran.com/wp-content/uploads/2023/07/AA-book-cover.jpg
END:VEVENT
BEGIN:VEVENT
DTSTART;TZID=America/Phoenix:20260826T200000
DTEND;TZID=America/Phoenix:20260826T210000
DTSTAMP:20260425T085628
CREATED:20240423T172328Z
LAST-MODIFIED:20240423T172410Z
UID:10006299-1787774400-1787778000@victorylutheran.com
SUMMARY:AA Meeting
DESCRIPTION:The purpose of all meetings is for A.A. members to “share their experience\, strength and hope with each other that they may solve their common problem and help others to recover from alcoholism.”
URL:https://victorylutheran.com/event/aa-meeting/2026-08-26/
ATTACH;FMTTYPE=image/jpeg:https://victorylutheran.com/wp-content/uploads/2023/07/AA-book-cover.jpg
END:VEVENT
BEGIN:VEVENT
DTSTART;TZID=America/Phoenix:20260902T200000
DTEND;TZID=America/Phoenix:20260902T210000
DTSTAMP:20260425T085628
CREATED:20240423T172328Z
LAST-MODIFIED:20240423T172410Z
UID:10006300-1788379200-1788382800@victorylutheran.com
SUMMARY:AA Meeting
DESCRIPTION:The purpose of all meetings is for A.A. members to “share their experience\, strength and hope with each other that they may solve their common problem and help others to recover from alcoholism.”
URL:https://victorylutheran.com/event/aa-meeting/2026-09-02/
ATTACH;FMTTYPE=image/jpeg:https://victorylutheran.com/wp-content/uploads/2023/07/AA-book-cover.jpg
END:VEVENT
BEGIN:VEVENT
DTSTART;TZID=America/Phoenix:20260909T200000
DTEND;TZID=America/Phoenix:20260909T210000
DTSTAMP:20260425T085628
CREATED:20240423T172328Z
LAST-MODIFIED:20240423T172410Z
UID:10006301-1788984000-1788987600@victorylutheran.com
SUMMARY:AA Meeting
DESCRIPTION:The purpose of all meetings is for A.A. members to “share their experience\, strength and hope with each other that they may solve their common problem and help others to recover from alcoholism.”
URL:https://victorylutheran.com/event/aa-meeting/2026-09-09/
ATTACH;FMTTYPE=image/jpeg:https://victorylutheran.com/wp-content/uploads/2023/07/AA-book-cover.jpg
END:VEVENT
BEGIN:VEVENT
DTSTART;TZID=America/Phoenix:20260916T200000
DTEND;TZID=America/Phoenix:20260916T210000
DTSTAMP:20260425T085628
CREATED:20240423T172328Z
LAST-MODIFIED:20240423T172410Z
UID:10006302-1789588800-1789592400@victorylutheran.com
SUMMARY:AA Meeting
DESCRIPTION:The purpose of all meetings is for A.A. members to “share their experience\, strength and hope with each other that they may solve their common problem and help others to recover from alcoholism.”
URL:https://victorylutheran.com/event/aa-meeting/2026-09-16/
ATTACH;FMTTYPE=image/jpeg:https://victorylutheran.com/wp-content/uploads/2023/07/AA-book-cover.jpg
END:VEVENT
BEGIN:VEVENT
DTSTART;TZID=America/Phoenix:20260923T200000
DTEND;TZID=America/Phoenix:20260923T210000
DTSTAMP:20260425T085628
CREATED:20240423T172328Z
LAST-MODIFIED:20240423T172410Z
UID:10006303-1790193600-1790197200@victorylutheran.com
SUMMARY:AA Meeting
DESCRIPTION:The purpose of all meetings is for A.A. members to “share their experience\, strength and hope with each other that they may solve their common problem and help others to recover from alcoholism.”
URL:https://victorylutheran.com/event/aa-meeting/2026-09-23/
ATTACH;FMTTYPE=image/jpeg:https://victorylutheran.com/wp-content/uploads/2023/07/AA-book-cover.jpg
END:VEVENT
BEGIN:VEVENT
DTSTART;TZID=America/Phoenix:20260930T200000
DTEND;TZID=America/Phoenix:20260930T210000
DTSTAMP:20260425T085628
CREATED:20240423T172328Z
LAST-MODIFIED:20240423T172410Z
UID:10006304-1790798400-1790802000@victorylutheran.com
SUMMARY:AA Meeting
DESCRIPTION:The purpose of all meetings is for A.A. members to “share their experience\, strength and hope with each other that they may solve their common problem and help others to recover from alcoholism.”
URL:https://victorylutheran.com/event/aa-meeting/2026-09-30/
ATTACH;FMTTYPE=image/jpeg:https://victorylutheran.com/wp-content/uploads/2023/07/AA-book-cover.jpg
END:VEVENT
BEGIN:VEVENT
DTSTART;TZID=America/Phoenix:20261007T200000
DTEND;TZID=America/Phoenix:20261007T210000
DTSTAMP:20260425T085628
CREATED:20240423T172328Z
LAST-MODIFIED:20240423T172410Z
UID:10006305-1791403200-1791406800@victorylutheran.com
SUMMARY:AA Meeting
DESCRIPTION:The purpose of all meetings is for A.A. members to “share their experience\, strength and hope with each other that they may solve their common problem and help others to recover from alcoholism.”
URL:https://victorylutheran.com/event/aa-meeting/2026-10-07/
ATTACH;FMTTYPE=image/jpeg:https://victorylutheran.com/wp-content/uploads/2023/07/AA-book-cover.jpg
END:VEVENT
BEGIN:VEVENT
DTSTART;TZID=America/Phoenix:20261014T200000
DTEND;TZID=America/Phoenix:20261014T210000
DTSTAMP:20260425T085628
CREATED:20240423T172328Z
LAST-MODIFIED:20240423T172410Z
UID:10006306-1792008000-1792011600@victorylutheran.com
SUMMARY:AA Meeting
DESCRIPTION:The purpose of all meetings is for A.A. members to “share their experience\, strength and hope with each other that they may solve their common problem and help others to recover from alcoholism.”
URL:https://victorylutheran.com/event/aa-meeting/2026-10-14/
ATTACH;FMTTYPE=image/jpeg:https://victorylutheran.com/wp-content/uploads/2023/07/AA-book-cover.jpg
END:VEVENT
BEGIN:VEVENT
DTSTART;TZID=America/Phoenix:20261021T200000
DTEND;TZID=America/Phoenix:20261021T210000
DTSTAMP:20260425T085628
CREATED:20240423T172328Z
LAST-MODIFIED:20240423T172410Z
UID:10006307-1792612800-1792616400@victorylutheran.com
SUMMARY:AA Meeting
DESCRIPTION:The purpose of all meetings is for A.A. members to “share their experience\, strength and hope with each other that they may solve their common problem and help others to recover from alcoholism.”
URL:https://victorylutheran.com/event/aa-meeting/2026-10-21/
ATTACH;FMTTYPE=image/jpeg:https://victorylutheran.com/wp-content/uploads/2023/07/AA-book-cover.jpg
END:VEVENT
BEGIN:VEVENT
DTSTART;TZID=America/Phoenix:20261028T200000
DTEND;TZID=America/Phoenix:20261028T210000
DTSTAMP:20260425T085628
CREATED:20240423T172328Z
LAST-MODIFIED:20240423T172410Z
UID:10006308-1793217600-1793221200@victorylutheran.com
SUMMARY:AA Meeting
DESCRIPTION:The purpose of all meetings is for A.A. members to “share their experience\, strength and hope with each other that they may solve their common problem and help others to recover from alcoholism.”
URL:https://victorylutheran.com/event/aa-meeting/2026-10-28/
ATTACH;FMTTYPE=image/jpeg:https://victorylutheran.com/wp-content/uploads/2023/07/AA-book-cover.jpg
END:VEVENT
BEGIN:VEVENT
DTSTART;TZID=America/Phoenix:20261104T200000
DTEND;TZID=America/Phoenix:20261104T210000
DTSTAMP:20260425T085628
CREATED:20240423T172328Z
LAST-MODIFIED:20240423T172410Z
UID:10006309-1793822400-1793826000@victorylutheran.com
SUMMARY:AA Meeting
DESCRIPTION:The purpose of all meetings is for A.A. members to “share their experience\, strength and hope with each other that they may solve their common problem and help others to recover from alcoholism.”
URL:https://victorylutheran.com/event/aa-meeting/2026-11-04/
ATTACH;FMTTYPE=image/jpeg:https://victorylutheran.com/wp-content/uploads/2023/07/AA-book-cover.jpg
END:VEVENT
BEGIN:VEVENT
DTSTART;TZID=America/Phoenix:20261111T200000
DTEND;TZID=America/Phoenix:20261111T210000
DTSTAMP:20260425T085628
CREATED:20240423T172328Z
LAST-MODIFIED:20240423T172410Z
UID:10006310-1794427200-1794430800@victorylutheran.com
SUMMARY:AA Meeting
DESCRIPTION:The purpose of all meetings is for A.A. members to “share their experience\, strength and hope with each other that they may solve their common problem and help others to recover from alcoholism.”
URL:https://victorylutheran.com/event/aa-meeting/2026-11-11/
ATTACH;FMTTYPE=image/jpeg:https://victorylutheran.com/wp-content/uploads/2023/07/AA-book-cover.jpg
END:VEVENT
BEGIN:VEVENT
DTSTART;TZID=America/Phoenix:20261118T200000
DTEND;TZID=America/Phoenix:20261118T210000
DTSTAMP:20260425T085628
CREATED:20240423T172328Z
LAST-MODIFIED:20240423T172410Z
UID:10006311-1795032000-1795035600@victorylutheran.com
SUMMARY:AA Meeting
DESCRIPTION:The purpose of all meetings is for A.A. members to “share their experience\, strength and hope with each other that they may solve their common problem and help others to recover from alcoholism.”
URL:https://victorylutheran.com/event/aa-meeting/2026-11-18/
ATTACH;FMTTYPE=image/jpeg:https://victorylutheran.com/wp-content/uploads/2023/07/AA-book-cover.jpg
END:VEVENT
END:VCALENDAR