BEGIN:VCALENDAR
VERSION:2.0
PRODID:-//Victory Lutheran Church - ECPv6.15.11//NONSGML v1.0//EN
CALSCALE:GREGORIAN
METHOD:PUBLISH
X-ORIGINAL-URL:https://victorylutheran.com
X-WR-CALDESC:Events for Victory Lutheran Church
REFRESH-INTERVAL;VALUE=DURATION:PT1H
X-Robots-Tag:noindex
X-PUBLISHED-TTL:PT1H
BEGIN:VTIMEZONE
TZID:America/Phoenix
BEGIN:STANDARD
TZOFFSETFROM:-0700
TZOFFSETTO:-0700
TZNAME:MST
DTSTART:20250101T000000
END:STANDARD
END:VTIMEZONE
BEGIN:VEVENT
DTSTART;TZID=America/Phoenix:20260427T160000
DTEND;TZID=America/Phoenix:20260427T173000
DTSTAMP:20260424T195834
CREATED:20250703T195237Z
LAST-MODIFIED:20251205T171908Z
UID:10011014-1777305600-1777311000@victorylutheran.com
SUMMARY:Confirmation Class
DESCRIPTION:Our FREE Confirmation program is a three-year in-depth study of the scriptures and Luther’s Small Catechism. This program aims to provide a strong Christian foundation for youth\, emphasizing the sacraments\, commandments\, and foundational Christian beliefs. Classes are held every Monday from 4:00-5:30pm. \n\n\n\nFor more information contact Pastor Renee Bennett at 480-830-5024 xt. 121. \n\n\n\nNOTE: We will not meet December 15\, 22 & 29\, 2025.
URL:https://victorylutheran.com/event/confirmation-class-3/2026-04-27/
CATEGORIES:Group Time
END:VEVENT
BEGIN:VEVENT
DTSTART;TZID=America/Phoenix:20260504T160000
DTEND;TZID=America/Phoenix:20260504T173000
DTSTAMP:20260424T195834
CREATED:20250703T195237Z
LAST-MODIFIED:20251205T171908Z
UID:10011015-1777910400-1777915800@victorylutheran.com
SUMMARY:Confirmation Class
DESCRIPTION:Our FREE Confirmation program is a three-year in-depth study of the scriptures and Luther’s Small Catechism. This program aims to provide a strong Christian foundation for youth\, emphasizing the sacraments\, commandments\, and foundational Christian beliefs. Classes are held every Monday from 4:00-5:30pm. \n\n\n\nFor more information contact Pastor Renee Bennett at 480-830-5024 xt. 121. \n\n\n\nNOTE: We will not meet December 15\, 22 & 29\, 2025.
URL:https://victorylutheran.com/event/confirmation-class-3/2026-05-04/
CATEGORIES:Group Time
END:VEVENT
BEGIN:VEVENT
DTSTART;TZID=America/Phoenix:20260511T160000
DTEND;TZID=America/Phoenix:20260511T173000
DTSTAMP:20260424T195834
CREATED:20250703T195237Z
LAST-MODIFIED:20251205T171908Z
UID:10011016-1778515200-1778520600@victorylutheran.com
SUMMARY:Confirmation Class
DESCRIPTION:Our FREE Confirmation program is a three-year in-depth study of the scriptures and Luther’s Small Catechism. This program aims to provide a strong Christian foundation for youth\, emphasizing the sacraments\, commandments\, and foundational Christian beliefs. Classes are held every Monday from 4:00-5:30pm. \n\n\n\nFor more information contact Pastor Renee Bennett at 480-830-5024 xt. 121. \n\n\n\nNOTE: We will not meet December 15\, 22 & 29\, 2025.
URL:https://victorylutheran.com/event/confirmation-class-3/2026-05-11/
CATEGORIES:Group Time
END:VEVENT
BEGIN:VEVENT
DTSTART;TZID=America/Phoenix:20260518T160000
DTEND;TZID=America/Phoenix:20260518T173000
DTSTAMP:20260424T195834
CREATED:20250703T195237Z
LAST-MODIFIED:20251205T171908Z
UID:10011017-1779120000-1779125400@victorylutheran.com
SUMMARY:Confirmation Class
DESCRIPTION:Our FREE Confirmation program is a three-year in-depth study of the scriptures and Luther’s Small Catechism. This program aims to provide a strong Christian foundation for youth\, emphasizing the sacraments\, commandments\, and foundational Christian beliefs. Classes are held every Monday from 4:00-5:30pm. \n\n\n\nFor more information contact Pastor Renee Bennett at 480-830-5024 xt. 121. \n\n\n\nNOTE: We will not meet December 15\, 22 & 29\, 2025.
URL:https://victorylutheran.com/event/confirmation-class-3/2026-05-18/
CATEGORIES:Group Time
END:VEVENT
BEGIN:VEVENT
DTSTART;TZID=America/Phoenix:20260525T160000
DTEND;TZID=America/Phoenix:20260525T173000
DTSTAMP:20260424T195834
CREATED:20250703T195237Z
LAST-MODIFIED:20251205T171908Z
UID:10011018-1779724800-1779730200@victorylutheran.com
SUMMARY:Confirmation Class
DESCRIPTION:Our FREE Confirmation program is a three-year in-depth study of the scriptures and Luther’s Small Catechism. This program aims to provide a strong Christian foundation for youth\, emphasizing the sacraments\, commandments\, and foundational Christian beliefs. Classes are held every Monday from 4:00-5:30pm. \n\n\n\nFor more information contact Pastor Renee Bennett at 480-830-5024 xt. 121. \n\n\n\nNOTE: We will not meet December 15\, 22 & 29\, 2025.
URL:https://victorylutheran.com/event/confirmation-class-3/2026-05-25/
CATEGORIES:Group Time
END:VEVENT
END:VCALENDAR