BEGIN:VCALENDAR
VERSION:2.0
PRODID:-//Victory Lutheran Church - ECPv6.15.11//NONSGML v1.0//EN
CALSCALE:GREGORIAN
METHOD:PUBLISH
X-ORIGINAL-URL:https://victorylutheran.com
X-WR-CALDESC:Events for Victory Lutheran Church
REFRESH-INTERVAL;VALUE=DURATION:PT1H
X-Robots-Tag:noindex
X-PUBLISHED-TTL:PT1H
BEGIN:VTIMEZONE
TZID:America/Phoenix
BEGIN:STANDARD
TZOFFSETFROM:-0700
TZOFFSETTO:-0700
TZNAME:MST
DTSTART:20250101T000000
END:STANDARD
END:VTIMEZONE
BEGIN:VEVENT
DTSTART;TZID=America/Phoenix:20260430T110000
DTEND;TZID=America/Phoenix:20260430T120000
DTSTAMP:20260425T134543
CREATED:20240830T031623Z
LAST-MODIFIED:20240830T031625Z
UID:10007624-1777546800-1777550400@victorylutheran.com
SUMMARY:Al-Anon Meeting
DESCRIPTION:Al-Anon Family Groups is an important source of help for anyone affected by someone else’s drinking. Al-Anon groups are made up of family members and friends of alcoholics who share their experience\, strength\, and hope with each other.
URL:https://victorylutheran.com/event/al-anon-meeting-2/2026-04-30/
ATTACH;FMTTYPE=image/jpeg:https://victorylutheran.com/wp-content/uploads/2023/07/2.jpg
END:VEVENT
BEGIN:VEVENT
DTSTART;TZID=America/Phoenix:20260507T110000
DTEND;TZID=America/Phoenix:20260507T120000
DTSTAMP:20260425T134543
CREATED:20240830T031623Z
LAST-MODIFIED:20240830T031625Z
UID:10007625-1778151600-1778155200@victorylutheran.com
SUMMARY:Al-Anon Meeting
DESCRIPTION:Al-Anon Family Groups is an important source of help for anyone affected by someone else’s drinking. Al-Anon groups are made up of family members and friends of alcoholics who share their experience\, strength\, and hope with each other.
URL:https://victorylutheran.com/event/al-anon-meeting-2/2026-05-07/
ATTACH;FMTTYPE=image/jpeg:https://victorylutheran.com/wp-content/uploads/2023/07/2.jpg
END:VEVENT
BEGIN:VEVENT
DTSTART;TZID=America/Phoenix:20260514T110000
DTEND;TZID=America/Phoenix:20260514T120000
DTSTAMP:20260425T134543
CREATED:20240830T031623Z
LAST-MODIFIED:20240830T031625Z
UID:10007626-1778756400-1778760000@victorylutheran.com
SUMMARY:Al-Anon Meeting
DESCRIPTION:Al-Anon Family Groups is an important source of help for anyone affected by someone else’s drinking. Al-Anon groups are made up of family members and friends of alcoholics who share their experience\, strength\, and hope with each other.
URL:https://victorylutheran.com/event/al-anon-meeting-2/2026-05-14/
ATTACH;FMTTYPE=image/jpeg:https://victorylutheran.com/wp-content/uploads/2023/07/2.jpg
END:VEVENT
BEGIN:VEVENT
DTSTART;TZID=America/Phoenix:20260521T110000
DTEND;TZID=America/Phoenix:20260521T120000
DTSTAMP:20260425T134543
CREATED:20240830T031623Z
LAST-MODIFIED:20240830T031625Z
UID:10007627-1779361200-1779364800@victorylutheran.com
SUMMARY:Al-Anon Meeting
DESCRIPTION:Al-Anon Family Groups is an important source of help for anyone affected by someone else’s drinking. Al-Anon groups are made up of family members and friends of alcoholics who share their experience\, strength\, and hope with each other.
URL:https://victorylutheran.com/event/al-anon-meeting-2/2026-05-21/
ATTACH;FMTTYPE=image/jpeg:https://victorylutheran.com/wp-content/uploads/2023/07/2.jpg
END:VEVENT
BEGIN:VEVENT
DTSTART;TZID=America/Phoenix:20260528T110000
DTEND;TZID=America/Phoenix:20260528T120000
DTSTAMP:20260425T134543
CREATED:20240830T031623Z
LAST-MODIFIED:20240830T031625Z
UID:10007628-1779966000-1779969600@victorylutheran.com
SUMMARY:Al-Anon Meeting
DESCRIPTION:Al-Anon Family Groups is an important source of help for anyone affected by someone else’s drinking. Al-Anon groups are made up of family members and friends of alcoholics who share their experience\, strength\, and hope with each other.
URL:https://victorylutheran.com/event/al-anon-meeting-2/2026-05-28/
ATTACH;FMTTYPE=image/jpeg:https://victorylutheran.com/wp-content/uploads/2023/07/2.jpg
END:VEVENT
BEGIN:VEVENT
DTSTART;TZID=America/Phoenix:20260604T110000
DTEND;TZID=America/Phoenix:20260604T120000
DTSTAMP:20260425T134543
CREATED:20240830T031623Z
LAST-MODIFIED:20240830T031625Z
UID:10007629-1780570800-1780574400@victorylutheran.com
SUMMARY:Al-Anon Meeting
DESCRIPTION:Al-Anon Family Groups is an important source of help for anyone affected by someone else’s drinking. Al-Anon groups are made up of family members and friends of alcoholics who share their experience\, strength\, and hope with each other.
URL:https://victorylutheran.com/event/al-anon-meeting-2/2026-06-04/
ATTACH;FMTTYPE=image/jpeg:https://victorylutheran.com/wp-content/uploads/2023/07/2.jpg
END:VEVENT
BEGIN:VEVENT
DTSTART;TZID=America/Phoenix:20260611T110000
DTEND;TZID=America/Phoenix:20260611T120000
DTSTAMP:20260425T134543
CREATED:20240830T031623Z
LAST-MODIFIED:20240830T031625Z
UID:10007630-1781175600-1781179200@victorylutheran.com
SUMMARY:Al-Anon Meeting
DESCRIPTION:Al-Anon Family Groups is an important source of help for anyone affected by someone else’s drinking. Al-Anon groups are made up of family members and friends of alcoholics who share their experience\, strength\, and hope with each other.
URL:https://victorylutheran.com/event/al-anon-meeting-2/2026-06-11/
ATTACH;FMTTYPE=image/jpeg:https://victorylutheran.com/wp-content/uploads/2023/07/2.jpg
END:VEVENT
BEGIN:VEVENT
DTSTART;TZID=America/Phoenix:20260618T110000
DTEND;TZID=America/Phoenix:20260618T120000
DTSTAMP:20260425T134543
CREATED:20240830T031623Z
LAST-MODIFIED:20240830T031625Z
UID:10007631-1781780400-1781784000@victorylutheran.com
SUMMARY:Al-Anon Meeting
DESCRIPTION:Al-Anon Family Groups is an important source of help for anyone affected by someone else’s drinking. Al-Anon groups are made up of family members and friends of alcoholics who share their experience\, strength\, and hope with each other.
URL:https://victorylutheran.com/event/al-anon-meeting-2/2026-06-18/
ATTACH;FMTTYPE=image/jpeg:https://victorylutheran.com/wp-content/uploads/2023/07/2.jpg
END:VEVENT
BEGIN:VEVENT
DTSTART;TZID=America/Phoenix:20260625T110000
DTEND;TZID=America/Phoenix:20260625T120000
DTSTAMP:20260425T134543
CREATED:20240830T031623Z
LAST-MODIFIED:20240830T031625Z
UID:10007632-1782385200-1782388800@victorylutheran.com
SUMMARY:Al-Anon Meeting
DESCRIPTION:Al-Anon Family Groups is an important source of help for anyone affected by someone else’s drinking. Al-Anon groups are made up of family members and friends of alcoholics who share their experience\, strength\, and hope with each other.
URL:https://victorylutheran.com/event/al-anon-meeting-2/2026-06-25/
ATTACH;FMTTYPE=image/jpeg:https://victorylutheran.com/wp-content/uploads/2023/07/2.jpg
END:VEVENT
BEGIN:VEVENT
DTSTART;TZID=America/Phoenix:20260702T110000
DTEND;TZID=America/Phoenix:20260702T120000
DTSTAMP:20260425T134543
CREATED:20240830T031623Z
LAST-MODIFIED:20240830T031625Z
UID:10007633-1782990000-1782993600@victorylutheran.com
SUMMARY:Al-Anon Meeting
DESCRIPTION:Al-Anon Family Groups is an important source of help for anyone affected by someone else’s drinking. Al-Anon groups are made up of family members and friends of alcoholics who share their experience\, strength\, and hope with each other.
URL:https://victorylutheran.com/event/al-anon-meeting-2/2026-07-02/
ATTACH;FMTTYPE=image/jpeg:https://victorylutheran.com/wp-content/uploads/2023/07/2.jpg
END:VEVENT
BEGIN:VEVENT
DTSTART;TZID=America/Phoenix:20260709T110000
DTEND;TZID=America/Phoenix:20260709T120000
DTSTAMP:20260425T134543
CREATED:20240830T031623Z
LAST-MODIFIED:20240830T031625Z
UID:10007634-1783594800-1783598400@victorylutheran.com
SUMMARY:Al-Anon Meeting
DESCRIPTION:Al-Anon Family Groups is an important source of help for anyone affected by someone else’s drinking. Al-Anon groups are made up of family members and friends of alcoholics who share their experience\, strength\, and hope with each other.
URL:https://victorylutheran.com/event/al-anon-meeting-2/2026-07-09/
ATTACH;FMTTYPE=image/jpeg:https://victorylutheran.com/wp-content/uploads/2023/07/2.jpg
END:VEVENT
BEGIN:VEVENT
DTSTART;TZID=America/Phoenix:20260716T110000
DTEND;TZID=America/Phoenix:20260716T120000
DTSTAMP:20260425T134543
CREATED:20240830T031623Z
LAST-MODIFIED:20240830T031625Z
UID:10007635-1784199600-1784203200@victorylutheran.com
SUMMARY:Al-Anon Meeting
DESCRIPTION:Al-Anon Family Groups is an important source of help for anyone affected by someone else’s drinking. Al-Anon groups are made up of family members and friends of alcoholics who share their experience\, strength\, and hope with each other.
URL:https://victorylutheran.com/event/al-anon-meeting-2/2026-07-16/
ATTACH;FMTTYPE=image/jpeg:https://victorylutheran.com/wp-content/uploads/2023/07/2.jpg
END:VEVENT
BEGIN:VEVENT
DTSTART;TZID=America/Phoenix:20260723T110000
DTEND;TZID=America/Phoenix:20260723T120000
DTSTAMP:20260425T134543
CREATED:20240830T031623Z
LAST-MODIFIED:20240830T031625Z
UID:10007636-1784804400-1784808000@victorylutheran.com
SUMMARY:Al-Anon Meeting
DESCRIPTION:Al-Anon Family Groups is an important source of help for anyone affected by someone else’s drinking. Al-Anon groups are made up of family members and friends of alcoholics who share their experience\, strength\, and hope with each other.
URL:https://victorylutheran.com/event/al-anon-meeting-2/2026-07-23/
ATTACH;FMTTYPE=image/jpeg:https://victorylutheran.com/wp-content/uploads/2023/07/2.jpg
END:VEVENT
BEGIN:VEVENT
DTSTART;TZID=America/Phoenix:20260730T110000
DTEND;TZID=America/Phoenix:20260730T120000
DTSTAMP:20260425T134543
CREATED:20240830T031623Z
LAST-MODIFIED:20240830T031625Z
UID:10007637-1785409200-1785412800@victorylutheran.com
SUMMARY:Al-Anon Meeting
DESCRIPTION:Al-Anon Family Groups is an important source of help for anyone affected by someone else’s drinking. Al-Anon groups are made up of family members and friends of alcoholics who share their experience\, strength\, and hope with each other.
URL:https://victorylutheran.com/event/al-anon-meeting-2/2026-07-30/
ATTACH;FMTTYPE=image/jpeg:https://victorylutheran.com/wp-content/uploads/2023/07/2.jpg
END:VEVENT
BEGIN:VEVENT
DTSTART;TZID=America/Phoenix:20260806T110000
DTEND;TZID=America/Phoenix:20260806T120000
DTSTAMP:20260425T134543
CREATED:20240830T031623Z
LAST-MODIFIED:20240830T031625Z
UID:10007638-1786014000-1786017600@victorylutheran.com
SUMMARY:Al-Anon Meeting
DESCRIPTION:Al-Anon Family Groups is an important source of help for anyone affected by someone else’s drinking. Al-Anon groups are made up of family members and friends of alcoholics who share their experience\, strength\, and hope with each other.
URL:https://victorylutheran.com/event/al-anon-meeting-2/2026-08-06/
ATTACH;FMTTYPE=image/jpeg:https://victorylutheran.com/wp-content/uploads/2023/07/2.jpg
END:VEVENT
BEGIN:VEVENT
DTSTART;TZID=America/Phoenix:20260813T110000
DTEND;TZID=America/Phoenix:20260813T120000
DTSTAMP:20260425T134543
CREATED:20240830T031623Z
LAST-MODIFIED:20240830T031625Z
UID:10007639-1786618800-1786622400@victorylutheran.com
SUMMARY:Al-Anon Meeting
DESCRIPTION:Al-Anon Family Groups is an important source of help for anyone affected by someone else’s drinking. Al-Anon groups are made up of family members and friends of alcoholics who share their experience\, strength\, and hope with each other.
URL:https://victorylutheran.com/event/al-anon-meeting-2/2026-08-13/
ATTACH;FMTTYPE=image/jpeg:https://victorylutheran.com/wp-content/uploads/2023/07/2.jpg
END:VEVENT
BEGIN:VEVENT
DTSTART;TZID=America/Phoenix:20260820T110000
DTEND;TZID=America/Phoenix:20260820T120000
DTSTAMP:20260425T134543
CREATED:20240830T031623Z
LAST-MODIFIED:20240830T031625Z
UID:10007640-1787223600-1787227200@victorylutheran.com
SUMMARY:Al-Anon Meeting
DESCRIPTION:Al-Anon Family Groups is an important source of help for anyone affected by someone else’s drinking. Al-Anon groups are made up of family members and friends of alcoholics who share their experience\, strength\, and hope with each other.
URL:https://victorylutheran.com/event/al-anon-meeting-2/2026-08-20/
ATTACH;FMTTYPE=image/jpeg:https://victorylutheran.com/wp-content/uploads/2023/07/2.jpg
END:VEVENT
BEGIN:VEVENT
DTSTART;TZID=America/Phoenix:20260827T110000
DTEND;TZID=America/Phoenix:20260827T120000
DTSTAMP:20260425T134543
CREATED:20240830T031623Z
LAST-MODIFIED:20240830T031625Z
UID:10007641-1787828400-1787832000@victorylutheran.com
SUMMARY:Al-Anon Meeting
DESCRIPTION:Al-Anon Family Groups is an important source of help for anyone affected by someone else’s drinking. Al-Anon groups are made up of family members and friends of alcoholics who share their experience\, strength\, and hope with each other.
URL:https://victorylutheran.com/event/al-anon-meeting-2/2026-08-27/
ATTACH;FMTTYPE=image/jpeg:https://victorylutheran.com/wp-content/uploads/2023/07/2.jpg
END:VEVENT
BEGIN:VEVENT
DTSTART;TZID=America/Phoenix:20260903T110000
DTEND;TZID=America/Phoenix:20260903T120000
DTSTAMP:20260425T134543
CREATED:20240830T031623Z
LAST-MODIFIED:20240830T031625Z
UID:10007642-1788433200-1788436800@victorylutheran.com
SUMMARY:Al-Anon Meeting
DESCRIPTION:Al-Anon Family Groups is an important source of help for anyone affected by someone else’s drinking. Al-Anon groups are made up of family members and friends of alcoholics who share their experience\, strength\, and hope with each other.
URL:https://victorylutheran.com/event/al-anon-meeting-2/2026-09-03/
ATTACH;FMTTYPE=image/jpeg:https://victorylutheran.com/wp-content/uploads/2023/07/2.jpg
END:VEVENT
BEGIN:VEVENT
DTSTART;TZID=America/Phoenix:20260910T110000
DTEND;TZID=America/Phoenix:20260910T120000
DTSTAMP:20260425T134543
CREATED:20240830T031623Z
LAST-MODIFIED:20240830T031625Z
UID:10007643-1789038000-1789041600@victorylutheran.com
SUMMARY:Al-Anon Meeting
DESCRIPTION:Al-Anon Family Groups is an important source of help for anyone affected by someone else’s drinking. Al-Anon groups are made up of family members and friends of alcoholics who share their experience\, strength\, and hope with each other.
URL:https://victorylutheran.com/event/al-anon-meeting-2/2026-09-10/
ATTACH;FMTTYPE=image/jpeg:https://victorylutheran.com/wp-content/uploads/2023/07/2.jpg
END:VEVENT
BEGIN:VEVENT
DTSTART;TZID=America/Phoenix:20260917T110000
DTEND;TZID=America/Phoenix:20260917T120000
DTSTAMP:20260425T134543
CREATED:20240830T031623Z
LAST-MODIFIED:20240830T031625Z
UID:10007644-1789642800-1789646400@victorylutheran.com
SUMMARY:Al-Anon Meeting
DESCRIPTION:Al-Anon Family Groups is an important source of help for anyone affected by someone else’s drinking. Al-Anon groups are made up of family members and friends of alcoholics who share their experience\, strength\, and hope with each other.
URL:https://victorylutheran.com/event/al-anon-meeting-2/2026-09-17/
ATTACH;FMTTYPE=image/jpeg:https://victorylutheran.com/wp-content/uploads/2023/07/2.jpg
END:VEVENT
BEGIN:VEVENT
DTSTART;TZID=America/Phoenix:20260924T110000
DTEND;TZID=America/Phoenix:20260924T120000
DTSTAMP:20260425T134543
CREATED:20240830T031623Z
LAST-MODIFIED:20240830T031625Z
UID:10007645-1790247600-1790251200@victorylutheran.com
SUMMARY:Al-Anon Meeting
DESCRIPTION:Al-Anon Family Groups is an important source of help for anyone affected by someone else’s drinking. Al-Anon groups are made up of family members and friends of alcoholics who share their experience\, strength\, and hope with each other.
URL:https://victorylutheran.com/event/al-anon-meeting-2/2026-09-24/
ATTACH;FMTTYPE=image/jpeg:https://victorylutheran.com/wp-content/uploads/2023/07/2.jpg
END:VEVENT
BEGIN:VEVENT
DTSTART;TZID=America/Phoenix:20261001T110000
DTEND;TZID=America/Phoenix:20261001T120000
DTSTAMP:20260425T134543
CREATED:20240830T031623Z
LAST-MODIFIED:20240830T031625Z
UID:10007646-1790852400-1790856000@victorylutheran.com
SUMMARY:Al-Anon Meeting
DESCRIPTION:Al-Anon Family Groups is an important source of help for anyone affected by someone else’s drinking. Al-Anon groups are made up of family members and friends of alcoholics who share their experience\, strength\, and hope with each other.
URL:https://victorylutheran.com/event/al-anon-meeting-2/2026-10-01/
ATTACH;FMTTYPE=image/jpeg:https://victorylutheran.com/wp-content/uploads/2023/07/2.jpg
END:VEVENT
BEGIN:VEVENT
DTSTART;TZID=America/Phoenix:20261008T110000
DTEND;TZID=America/Phoenix:20261008T120000
DTSTAMP:20260425T134543
CREATED:20240830T031623Z
LAST-MODIFIED:20240830T031625Z
UID:10007647-1791457200-1791460800@victorylutheran.com
SUMMARY:Al-Anon Meeting
DESCRIPTION:Al-Anon Family Groups is an important source of help for anyone affected by someone else’s drinking. Al-Anon groups are made up of family members and friends of alcoholics who share their experience\, strength\, and hope with each other.
URL:https://victorylutheran.com/event/al-anon-meeting-2/2026-10-08/
ATTACH;FMTTYPE=image/jpeg:https://victorylutheran.com/wp-content/uploads/2023/07/2.jpg
END:VEVENT
BEGIN:VEVENT
DTSTART;TZID=America/Phoenix:20261015T110000
DTEND;TZID=America/Phoenix:20261015T120000
DTSTAMP:20260425T134543
CREATED:20240830T031623Z
LAST-MODIFIED:20240830T031625Z
UID:10007648-1792062000-1792065600@victorylutheran.com
SUMMARY:Al-Anon Meeting
DESCRIPTION:Al-Anon Family Groups is an important source of help for anyone affected by someone else’s drinking. Al-Anon groups are made up of family members and friends of alcoholics who share their experience\, strength\, and hope with each other.
URL:https://victorylutheran.com/event/al-anon-meeting-2/2026-10-15/
ATTACH;FMTTYPE=image/jpeg:https://victorylutheran.com/wp-content/uploads/2023/07/2.jpg
END:VEVENT
BEGIN:VEVENT
DTSTART;TZID=America/Phoenix:20261022T110000
DTEND;TZID=America/Phoenix:20261022T120000
DTSTAMP:20260425T134543
CREATED:20240830T031623Z
LAST-MODIFIED:20240830T031625Z
UID:10007649-1792666800-1792670400@victorylutheran.com
SUMMARY:Al-Anon Meeting
DESCRIPTION:Al-Anon Family Groups is an important source of help for anyone affected by someone else’s drinking. Al-Anon groups are made up of family members and friends of alcoholics who share their experience\, strength\, and hope with each other.
URL:https://victorylutheran.com/event/al-anon-meeting-2/2026-10-22/
ATTACH;FMTTYPE=image/jpeg:https://victorylutheran.com/wp-content/uploads/2023/07/2.jpg
END:VEVENT
BEGIN:VEVENT
DTSTART;TZID=America/Phoenix:20261029T110000
DTEND;TZID=America/Phoenix:20261029T120000
DTSTAMP:20260425T134543
CREATED:20240830T031623Z
LAST-MODIFIED:20240830T031625Z
UID:10007650-1793271600-1793275200@victorylutheran.com
SUMMARY:Al-Anon Meeting
DESCRIPTION:Al-Anon Family Groups is an important source of help for anyone affected by someone else’s drinking. Al-Anon groups are made up of family members and friends of alcoholics who share their experience\, strength\, and hope with each other.
URL:https://victorylutheran.com/event/al-anon-meeting-2/2026-10-29/
ATTACH;FMTTYPE=image/jpeg:https://victorylutheran.com/wp-content/uploads/2023/07/2.jpg
END:VEVENT
BEGIN:VEVENT
DTSTART;TZID=America/Phoenix:20261105T110000
DTEND;TZID=America/Phoenix:20261105T120000
DTSTAMP:20260425T134543
CREATED:20240830T031623Z
LAST-MODIFIED:20240830T031625Z
UID:10007651-1793876400-1793880000@victorylutheran.com
SUMMARY:Al-Anon Meeting
DESCRIPTION:Al-Anon Family Groups is an important source of help for anyone affected by someone else’s drinking. Al-Anon groups are made up of family members and friends of alcoholics who share their experience\, strength\, and hope with each other.
URL:https://victorylutheran.com/event/al-anon-meeting-2/2026-11-05/
ATTACH;FMTTYPE=image/jpeg:https://victorylutheran.com/wp-content/uploads/2023/07/2.jpg
END:VEVENT
BEGIN:VEVENT
DTSTART;TZID=America/Phoenix:20261112T110000
DTEND;TZID=America/Phoenix:20261112T120000
DTSTAMP:20260425T134543
CREATED:20240830T031623Z
LAST-MODIFIED:20240830T031625Z
UID:10007652-1794481200-1794484800@victorylutheran.com
SUMMARY:Al-Anon Meeting
DESCRIPTION:Al-Anon Family Groups is an important source of help for anyone affected by someone else’s drinking. Al-Anon groups are made up of family members and friends of alcoholics who share their experience\, strength\, and hope with each other.
URL:https://victorylutheran.com/event/al-anon-meeting-2/2026-11-12/
ATTACH;FMTTYPE=image/jpeg:https://victorylutheran.com/wp-content/uploads/2023/07/2.jpg
END:VEVENT
BEGIN:VEVENT
DTSTART;TZID=America/Phoenix:20261119T110000
DTEND;TZID=America/Phoenix:20261119T120000
DTSTAMP:20260425T134543
CREATED:20240830T031623Z
LAST-MODIFIED:20240830T031625Z
UID:10007653-1795086000-1795089600@victorylutheran.com
SUMMARY:Al-Anon Meeting
DESCRIPTION:Al-Anon Family Groups is an important source of help for anyone affected by someone else’s drinking. Al-Anon groups are made up of family members and friends of alcoholics who share their experience\, strength\, and hope with each other.
URL:https://victorylutheran.com/event/al-anon-meeting-2/2026-11-19/
ATTACH;FMTTYPE=image/jpeg:https://victorylutheran.com/wp-content/uploads/2023/07/2.jpg
END:VEVENT
END:VCALENDAR