BEGIN:VCALENDAR
VERSION:2.0
PRODID:-//Victory Lutheran Church - ECPv6.15.11//NONSGML v1.0//EN
CALSCALE:GREGORIAN
METHOD:PUBLISH
X-ORIGINAL-URL:https://victorylutheran.com
X-WR-CALDESC:Events for Victory Lutheran Church
REFRESH-INTERVAL;VALUE=DURATION:PT1H
X-Robots-Tag:noindex
X-PUBLISHED-TTL:PT1H
BEGIN:VTIMEZONE
TZID:America/Phoenix
BEGIN:STANDARD
TZOFFSETFROM:-0700
TZOFFSETTO:-0700
TZNAME:MST
DTSTART:20250101T000000
END:STANDARD
END:VTIMEZONE
BEGIN:VEVENT
DTSTART;TZID=America/Phoenix:20260527T090000
DTEND;TZID=America/Phoenix:20260527T113000
DTSTAMP:20260425T184152
CREATED:20250301T035836Z
LAST-MODIFIED:20250301T035838Z
UID:10007940-1779872400-1779881400@victorylutheran.com
SUMMARY:S.A.F.E. Event - Feed My Starving Children
DESCRIPTION:S.A.F.E. (Singles Activity Fellowship Events)\n\n\n\nFeed My Starving Children  (Off-Site)9:00-11:00am (Bus leaves at 8:00am)*1100 W. Grove Parkway\, Tempe (New location)This monthly mission trip to the Christian ­based\, non-profit organization\, is on the 4th Wednesday of each month. You can stand and package the food\, or sit and label it. Afterwards\, we stop and have lunch. \n\n\n\nRSVP REQUIRED FOR ALL EVENTS. This helps us with planning and seating.
URL:https://victorylutheran.com/event/s-a-f-e-event-feed-my-starving-children-2/2026-05-27/
END:VEVENT
BEGIN:VEVENT
DTSTART;TZID=America/Phoenix:20260624T090000
DTEND;TZID=America/Phoenix:20260624T113000
DTSTAMP:20260425T184152
CREATED:20250301T035836Z
LAST-MODIFIED:20250301T035838Z
UID:10007941-1782291600-1782300600@victorylutheran.com
SUMMARY:S.A.F.E. Event - Feed My Starving Children
DESCRIPTION:S.A.F.E. (Singles Activity Fellowship Events)\n\n\n\nFeed My Starving Children  (Off-Site)9:00-11:00am (Bus leaves at 8:00am)*1100 W. Grove Parkway\, Tempe (New location)This monthly mission trip to the Christian ­based\, non-profit organization\, is on the 4th Wednesday of each month. You can stand and package the food\, or sit and label it. Afterwards\, we stop and have lunch. \n\n\n\nRSVP REQUIRED FOR ALL EVENTS. This helps us with planning and seating.
URL:https://victorylutheran.com/event/s-a-f-e-event-feed-my-starving-children-2/2026-06-24/
END:VEVENT
BEGIN:VEVENT
DTSTART;TZID=America/Phoenix:20260722T090000
DTEND;TZID=America/Phoenix:20260722T113000
DTSTAMP:20260425T184152
CREATED:20250301T035836Z
LAST-MODIFIED:20250301T035838Z
UID:10007942-1784710800-1784719800@victorylutheran.com
SUMMARY:S.A.F.E. Event - Feed My Starving Children
DESCRIPTION:S.A.F.E. (Singles Activity Fellowship Events)\n\n\n\nFeed My Starving Children  (Off-Site)9:00-11:00am (Bus leaves at 8:00am)*1100 W. Grove Parkway\, Tempe (New location)This monthly mission trip to the Christian ­based\, non-profit organization\, is on the 4th Wednesday of each month. You can stand and package the food\, or sit and label it. Afterwards\, we stop and have lunch. \n\n\n\nRSVP REQUIRED FOR ALL EVENTS. This helps us with planning and seating.
URL:https://victorylutheran.com/event/s-a-f-e-event-feed-my-starving-children-2/2026-07-22/
END:VEVENT
BEGIN:VEVENT
DTSTART;TZID=America/Phoenix:20260826T090000
DTEND;TZID=America/Phoenix:20260826T113000
DTSTAMP:20260425T184152
CREATED:20250301T035836Z
LAST-MODIFIED:20250301T035838Z
UID:10007943-1787734800-1787743800@victorylutheran.com
SUMMARY:S.A.F.E. Event - Feed My Starving Children
DESCRIPTION:S.A.F.E. (Singles Activity Fellowship Events)\n\n\n\nFeed My Starving Children  (Off-Site)9:00-11:00am (Bus leaves at 8:00am)*1100 W. Grove Parkway\, Tempe (New location)This monthly mission trip to the Christian ­based\, non-profit organization\, is on the 4th Wednesday of each month. You can stand and package the food\, or sit and label it. Afterwards\, we stop and have lunch. \n\n\n\nRSVP REQUIRED FOR ALL EVENTS. This helps us with planning and seating.
URL:https://victorylutheran.com/event/s-a-f-e-event-feed-my-starving-children-2/2026-08-26/
END:VEVENT
BEGIN:VEVENT
DTSTART;TZID=America/Phoenix:20260923T090000
DTEND;TZID=America/Phoenix:20260923T113000
DTSTAMP:20260425T184152
CREATED:20250301T035836Z
LAST-MODIFIED:20250301T035838Z
UID:10007944-1790154000-1790163000@victorylutheran.com
SUMMARY:S.A.F.E. Event - Feed My Starving Children
DESCRIPTION:S.A.F.E. (Singles Activity Fellowship Events)\n\n\n\nFeed My Starving Children  (Off-Site)9:00-11:00am (Bus leaves at 8:00am)*1100 W. Grove Parkway\, Tempe (New location)This monthly mission trip to the Christian ­based\, non-profit organization\, is on the 4th Wednesday of each month. You can stand and package the food\, or sit and label it. Afterwards\, we stop and have lunch. \n\n\n\nRSVP REQUIRED FOR ALL EVENTS. This helps us with planning and seating.
URL:https://victorylutheran.com/event/s-a-f-e-event-feed-my-starving-children-2/2026-09-23/
END:VEVENT
BEGIN:VEVENT
DTSTART;TZID=America/Phoenix:20261028T090000
DTEND;TZID=America/Phoenix:20261028T113000
DTSTAMP:20260425T184152
CREATED:20250301T035836Z
LAST-MODIFIED:20250301T035838Z
UID:10007945-1793178000-1793187000@victorylutheran.com
SUMMARY:S.A.F.E. Event - Feed My Starving Children
DESCRIPTION:S.A.F.E. (Singles Activity Fellowship Events)\n\n\n\nFeed My Starving Children  (Off-Site)9:00-11:00am (Bus leaves at 8:00am)*1100 W. Grove Parkway\, Tempe (New location)This monthly mission trip to the Christian ­based\, non-profit organization\, is on the 4th Wednesday of each month. You can stand and package the food\, or sit and label it. Afterwards\, we stop and have lunch. \n\n\n\nRSVP REQUIRED FOR ALL EVENTS. This helps us with planning and seating.
URL:https://victorylutheran.com/event/s-a-f-e-event-feed-my-starving-children-2/2026-10-28/
END:VEVENT
BEGIN:VEVENT
DTSTART;TZID=America/Phoenix:20261125T090000
DTEND;TZID=America/Phoenix:20261125T113000
DTSTAMP:20260425T184152
CREATED:20250301T035836Z
LAST-MODIFIED:20250301T035838Z
UID:10007946-1795597200-1795606200@victorylutheran.com
SUMMARY:S.A.F.E. Event - Feed My Starving Children
DESCRIPTION:S.A.F.E. (Singles Activity Fellowship Events)\n\n\n\nFeed My Starving Children  (Off-Site)9:00-11:00am (Bus leaves at 8:00am)*1100 W. Grove Parkway\, Tempe (New location)This monthly mission trip to the Christian ­based\, non-profit organization\, is on the 4th Wednesday of each month. You can stand and package the food\, or sit and label it. Afterwards\, we stop and have lunch. \n\n\n\nRSVP REQUIRED FOR ALL EVENTS. This helps us with planning and seating.
URL:https://victorylutheran.com/event/s-a-f-e-event-feed-my-starving-children-2/2026-11-25/
END:VEVENT
BEGIN:VEVENT
DTSTART;TZID=America/Phoenix:20261223T090000
DTEND;TZID=America/Phoenix:20261223T113000
DTSTAMP:20260425T184152
CREATED:20250301T035836Z
LAST-MODIFIED:20250301T035838Z
UID:10007947-1798016400-1798025400@victorylutheran.com
SUMMARY:S.A.F.E. Event - Feed My Starving Children
DESCRIPTION:S.A.F.E. (Singles Activity Fellowship Events)\n\n\n\nFeed My Starving Children  (Off-Site)9:00-11:00am (Bus leaves at 8:00am)*1100 W. Grove Parkway\, Tempe (New location)This monthly mission trip to the Christian ­based\, non-profit organization\, is on the 4th Wednesday of each month. You can stand and package the food\, or sit and label it. Afterwards\, we stop and have lunch. \n\n\n\nRSVP REQUIRED FOR ALL EVENTS. This helps us with planning and seating.
URL:https://victorylutheran.com/event/s-a-f-e-event-feed-my-starving-children-2/2026-12-23/
END:VEVENT
BEGIN:VEVENT
DTSTART;TZID=America/Phoenix:20270127T090000
DTEND;TZID=America/Phoenix:20270127T113000
DTSTAMP:20260425T184152
CREATED:20250301T035836Z
LAST-MODIFIED:20250301T035838Z
UID:10007948-1801040400-1801049400@victorylutheran.com
SUMMARY:S.A.F.E. Event - Feed My Starving Children
DESCRIPTION:S.A.F.E. (Singles Activity Fellowship Events)\n\n\n\nFeed My Starving Children  (Off-Site)9:00-11:00am (Bus leaves at 8:00am)*1100 W. Grove Parkway\, Tempe (New location)This monthly mission trip to the Christian ­based\, non-profit organization\, is on the 4th Wednesday of each month. You can stand and package the food\, or sit and label it. Afterwards\, we stop and have lunch. \n\n\n\nRSVP REQUIRED FOR ALL EVENTS. This helps us with planning and seating.
URL:https://victorylutheran.com/event/s-a-f-e-event-feed-my-starving-children-2/2027-01-27/
END:VEVENT
BEGIN:VEVENT
DTSTART;TZID=America/Phoenix:20270224T090000
DTEND;TZID=America/Phoenix:20270224T113000
DTSTAMP:20260425T184152
CREATED:20250301T035836Z
LAST-MODIFIED:20250301T035838Z
UID:10007949-1803459600-1803468600@victorylutheran.com
SUMMARY:S.A.F.E. Event - Feed My Starving Children
DESCRIPTION:S.A.F.E. (Singles Activity Fellowship Events)\n\n\n\nFeed My Starving Children  (Off-Site)9:00-11:00am (Bus leaves at 8:00am)*1100 W. Grove Parkway\, Tempe (New location)This monthly mission trip to the Christian ­based\, non-profit organization\, is on the 4th Wednesday of each month. You can stand and package the food\, or sit and label it. Afterwards\, we stop and have lunch. \n\n\n\nRSVP REQUIRED FOR ALL EVENTS. This helps us with planning and seating.
URL:https://victorylutheran.com/event/s-a-f-e-event-feed-my-starving-children-2/2027-02-24/
END:VEVENT
BEGIN:VEVENT
DTSTART;TZID=America/Phoenix:20270324T090000
DTEND;TZID=America/Phoenix:20270324T113000
DTSTAMP:20260425T184152
CREATED:20250301T035836Z
LAST-MODIFIED:20250301T035838Z
UID:10007950-1805878800-1805887800@victorylutheran.com
SUMMARY:S.A.F.E. Event - Feed My Starving Children
DESCRIPTION:S.A.F.E. (Singles Activity Fellowship Events)\n\n\n\nFeed My Starving Children  (Off-Site)9:00-11:00am (Bus leaves at 8:00am)*1100 W. Grove Parkway\, Tempe (New location)This monthly mission trip to the Christian ­based\, non-profit organization\, is on the 4th Wednesday of each month. You can stand and package the food\, or sit and label it. Afterwards\, we stop and have lunch. \n\n\n\nRSVP REQUIRED FOR ALL EVENTS. This helps us with planning and seating.
URL:https://victorylutheran.com/event/s-a-f-e-event-feed-my-starving-children-2/2027-03-24/
END:VEVENT
BEGIN:VEVENT
DTSTART;TZID=America/Phoenix:20270428T090000
DTEND;TZID=America/Phoenix:20270428T113000
DTSTAMP:20260425T184152
CREATED:20250301T035836Z
LAST-MODIFIED:20250301T035838Z
UID:10007951-1808902800-1808911800@victorylutheran.com
SUMMARY:S.A.F.E. Event - Feed My Starving Children
DESCRIPTION:S.A.F.E. (Singles Activity Fellowship Events)\n\n\n\nFeed My Starving Children  (Off-Site)9:00-11:00am (Bus leaves at 8:00am)*1100 W. Grove Parkway\, Tempe (New location)This monthly mission trip to the Christian ­based\, non-profit organization\, is on the 4th Wednesday of each month. You can stand and package the food\, or sit and label it. Afterwards\, we stop and have lunch. \n\n\n\nRSVP REQUIRED FOR ALL EVENTS. This helps us with planning and seating.
URL:https://victorylutheran.com/event/s-a-f-e-event-feed-my-starving-children-2/2027-04-28/
END:VEVENT
BEGIN:VEVENT
DTSTART;TZID=America/Phoenix:20270526T090000
DTEND;TZID=America/Phoenix:20270526T113000
DTSTAMP:20260425T184152
CREATED:20250301T035836Z
LAST-MODIFIED:20250301T035838Z
UID:10007952-1811322000-1811331000@victorylutheran.com
SUMMARY:S.A.F.E. Event - Feed My Starving Children
DESCRIPTION:S.A.F.E. (Singles Activity Fellowship Events)\n\n\n\nFeed My Starving Children  (Off-Site)9:00-11:00am (Bus leaves at 8:00am)*1100 W. Grove Parkway\, Tempe (New location)This monthly mission trip to the Christian ­based\, non-profit organization\, is on the 4th Wednesday of each month. You can stand and package the food\, or sit and label it. Afterwards\, we stop and have lunch. \n\n\n\nRSVP REQUIRED FOR ALL EVENTS. This helps us with planning and seating.
URL:https://victorylutheran.com/event/s-a-f-e-event-feed-my-starving-children-2/2027-05-26/
END:VEVENT
BEGIN:VEVENT
DTSTART;TZID=America/Phoenix:20270623T090000
DTEND;TZID=America/Phoenix:20270623T113000
DTSTAMP:20260425T184152
CREATED:20250301T035836Z
LAST-MODIFIED:20250301T035838Z
UID:10007953-1813741200-1813750200@victorylutheran.com
SUMMARY:S.A.F.E. Event - Feed My Starving Children
DESCRIPTION:S.A.F.E. (Singles Activity Fellowship Events)\n\n\n\nFeed My Starving Children  (Off-Site)9:00-11:00am (Bus leaves at 8:00am)*1100 W. Grove Parkway\, Tempe (New location)This monthly mission trip to the Christian ­based\, non-profit organization\, is on the 4th Wednesday of each month. You can stand and package the food\, or sit and label it. Afterwards\, we stop and have lunch. \n\n\n\nRSVP REQUIRED FOR ALL EVENTS. This helps us with planning and seating.
URL:https://victorylutheran.com/event/s-a-f-e-event-feed-my-starving-children-2/2027-06-23/
END:VEVENT
BEGIN:VEVENT
DTSTART;TZID=America/Phoenix:20270728T090000
DTEND;TZID=America/Phoenix:20270728T113000
DTSTAMP:20260425T184152
CREATED:20250301T035836Z
LAST-MODIFIED:20250301T035838Z
UID:10007954-1816765200-1816774200@victorylutheran.com
SUMMARY:S.A.F.E. Event - Feed My Starving Children
DESCRIPTION:S.A.F.E. (Singles Activity Fellowship Events)\n\n\n\nFeed My Starving Children  (Off-Site)9:00-11:00am (Bus leaves at 8:00am)*1100 W. Grove Parkway\, Tempe (New location)This monthly mission trip to the Christian ­based\, non-profit organization\, is on the 4th Wednesday of each month. You can stand and package the food\, or sit and label it. Afterwards\, we stop and have lunch. \n\n\n\nRSVP REQUIRED FOR ALL EVENTS. This helps us with planning and seating.
URL:https://victorylutheran.com/event/s-a-f-e-event-feed-my-starving-children-2/2027-07-28/
END:VEVENT
BEGIN:VEVENT
DTSTART;TZID=America/Phoenix:20270825T090000
DTEND;TZID=America/Phoenix:20270825T113000
DTSTAMP:20260425T184152
CREATED:20250301T035836Z
LAST-MODIFIED:20250301T035838Z
UID:10007955-1819184400-1819193400@victorylutheran.com
SUMMARY:S.A.F.E. Event - Feed My Starving Children
DESCRIPTION:S.A.F.E. (Singles Activity Fellowship Events)\n\n\n\nFeed My Starving Children  (Off-Site)9:00-11:00am (Bus leaves at 8:00am)*1100 W. Grove Parkway\, Tempe (New location)This monthly mission trip to the Christian ­based\, non-profit organization\, is on the 4th Wednesday of each month. You can stand and package the food\, or sit and label it. Afterwards\, we stop and have lunch. \n\n\n\nRSVP REQUIRED FOR ALL EVENTS. This helps us with planning and seating.
URL:https://victorylutheran.com/event/s-a-f-e-event-feed-my-starving-children-2/2027-08-25/
END:VEVENT
BEGIN:VEVENT
DTSTART;TZID=America/Phoenix:20270922T090000
DTEND;TZID=America/Phoenix:20270922T113000
DTSTAMP:20260425T184152
CREATED:20250301T035836Z
LAST-MODIFIED:20250301T035838Z
UID:10007956-1821603600-1821612600@victorylutheran.com
SUMMARY:S.A.F.E. Event - Feed My Starving Children
DESCRIPTION:S.A.F.E. (Singles Activity Fellowship Events)\n\n\n\nFeed My Starving Children  (Off-Site)9:00-11:00am (Bus leaves at 8:00am)*1100 W. Grove Parkway\, Tempe (New location)This monthly mission trip to the Christian ­based\, non-profit organization\, is on the 4th Wednesday of each month. You can stand and package the food\, or sit and label it. Afterwards\, we stop and have lunch. \n\n\n\nRSVP REQUIRED FOR ALL EVENTS. This helps us with planning and seating.
URL:https://victorylutheran.com/event/s-a-f-e-event-feed-my-starving-children-2/2027-09-22/
END:VEVENT
BEGIN:VEVENT
DTSTART;TZID=America/Phoenix:20271027T090000
DTEND;TZID=America/Phoenix:20271027T113000
DTSTAMP:20260425T184152
CREATED:20250301T035836Z
LAST-MODIFIED:20250301T035838Z
UID:10007957-1824627600-1824636600@victorylutheran.com
SUMMARY:S.A.F.E. Event - Feed My Starving Children
DESCRIPTION:S.A.F.E. (Singles Activity Fellowship Events)\n\n\n\nFeed My Starving Children  (Off-Site)9:00-11:00am (Bus leaves at 8:00am)*1100 W. Grove Parkway\, Tempe (New location)This monthly mission trip to the Christian ­based\, non-profit organization\, is on the 4th Wednesday of each month. You can stand and package the food\, or sit and label it. Afterwards\, we stop and have lunch. \n\n\n\nRSVP REQUIRED FOR ALL EVENTS. This helps us with planning and seating.
URL:https://victorylutheran.com/event/s-a-f-e-event-feed-my-starving-children-2/2027-10-27/
END:VEVENT
BEGIN:VEVENT
DTSTART;TZID=America/Phoenix:20271124T090000
DTEND;TZID=America/Phoenix:20271124T113000
DTSTAMP:20260425T184152
CREATED:20250301T035836Z
LAST-MODIFIED:20250301T035838Z
UID:10007958-1827046800-1827055800@victorylutheran.com
SUMMARY:S.A.F.E. Event - Feed My Starving Children
DESCRIPTION:S.A.F.E. (Singles Activity Fellowship Events)\n\n\n\nFeed My Starving Children  (Off-Site)9:00-11:00am (Bus leaves at 8:00am)*1100 W. Grove Parkway\, Tempe (New location)This monthly mission trip to the Christian ­based\, non-profit organization\, is on the 4th Wednesday of each month. You can stand and package the food\, or sit and label it. Afterwards\, we stop and have lunch. \n\n\n\nRSVP REQUIRED FOR ALL EVENTS. This helps us with planning and seating.
URL:https://victorylutheran.com/event/s-a-f-e-event-feed-my-starving-children-2/2027-11-24/
END:VEVENT
BEGIN:VEVENT
DTSTART;TZID=America/Phoenix:20271222T090000
DTEND;TZID=America/Phoenix:20271222T113000
DTSTAMP:20260425T184152
CREATED:20250301T035836Z
LAST-MODIFIED:20250301T035838Z
UID:10007959-1829466000-1829475000@victorylutheran.com
SUMMARY:S.A.F.E. Event - Feed My Starving Children
DESCRIPTION:S.A.F.E. (Singles Activity Fellowship Events)\n\n\n\nFeed My Starving Children  (Off-Site)9:00-11:00am (Bus leaves at 8:00am)*1100 W. Grove Parkway\, Tempe (New location)This monthly mission trip to the Christian ­based\, non-profit organization\, is on the 4th Wednesday of each month. You can stand and package the food\, or sit and label it. Afterwards\, we stop and have lunch. \n\n\n\nRSVP REQUIRED FOR ALL EVENTS. This helps us with planning and seating.
URL:https://victorylutheran.com/event/s-a-f-e-event-feed-my-starving-children-2/2027-12-22/
END:VEVENT
BEGIN:VEVENT
DTSTART;TZID=America/Phoenix:20280126T090000
DTEND;TZID=America/Phoenix:20280126T113000
DTSTAMP:20260425T184152
CREATED:20250301T035836Z
LAST-MODIFIED:20250301T035838Z
UID:10007960-1832490000-1832499000@victorylutheran.com
SUMMARY:S.A.F.E. Event - Feed My Starving Children
DESCRIPTION:S.A.F.E. (Singles Activity Fellowship Events)\n\n\n\nFeed My Starving Children  (Off-Site)9:00-11:00am (Bus leaves at 8:00am)*1100 W. Grove Parkway\, Tempe (New location)This monthly mission trip to the Christian ­based\, non-profit organization\, is on the 4th Wednesday of each month. You can stand and package the food\, or sit and label it. Afterwards\, we stop and have lunch. \n\n\n\nRSVP REQUIRED FOR ALL EVENTS. This helps us with planning and seating.
URL:https://victorylutheran.com/event/s-a-f-e-event-feed-my-starving-children-2/2028-01-26/
END:VEVENT
BEGIN:VEVENT
DTSTART;TZID=America/Phoenix:20280223T090000
DTEND;TZID=America/Phoenix:20280223T113000
DTSTAMP:20260425T184152
CREATED:20250301T035836Z
LAST-MODIFIED:20250301T035838Z
UID:10007961-1834909200-1834918200@victorylutheran.com
SUMMARY:S.A.F.E. Event - Feed My Starving Children
DESCRIPTION:S.A.F.E. (Singles Activity Fellowship Events)\n\n\n\nFeed My Starving Children  (Off-Site)9:00-11:00am (Bus leaves at 8:00am)*1100 W. Grove Parkway\, Tempe (New location)This monthly mission trip to the Christian ­based\, non-profit organization\, is on the 4th Wednesday of each month. You can stand and package the food\, or sit and label it. Afterwards\, we stop and have lunch. \n\n\n\nRSVP REQUIRED FOR ALL EVENTS. This helps us with planning and seating.
URL:https://victorylutheran.com/event/s-a-f-e-event-feed-my-starving-children-2/2028-02-23/
END:VEVENT
BEGIN:VEVENT
DTSTART;TZID=America/Phoenix:20280322T090000
DTEND;TZID=America/Phoenix:20280322T113000
DTSTAMP:20260425T184152
CREATED:20250301T035836Z
LAST-MODIFIED:20250301T035838Z
UID:10007962-1837328400-1837337400@victorylutheran.com
SUMMARY:S.A.F.E. Event - Feed My Starving Children
DESCRIPTION:S.A.F.E. (Singles Activity Fellowship Events)\n\n\n\nFeed My Starving Children  (Off-Site)9:00-11:00am (Bus leaves at 8:00am)*1100 W. Grove Parkway\, Tempe (New location)This monthly mission trip to the Christian ­based\, non-profit organization\, is on the 4th Wednesday of each month. You can stand and package the food\, or sit and label it. Afterwards\, we stop and have lunch. \n\n\n\nRSVP REQUIRED FOR ALL EVENTS. This helps us with planning and seating.
URL:https://victorylutheran.com/event/s-a-f-e-event-feed-my-starving-children-2/2028-03-22/
END:VEVENT
BEGIN:VEVENT
DTSTART;TZID=America/Phoenix:20280426T090000
DTEND;TZID=America/Phoenix:20280426T113000
DTSTAMP:20260425T184152
CREATED:20250301T035836Z
LAST-MODIFIED:20250301T035838Z
UID:10007963-1840352400-1840361400@victorylutheran.com
SUMMARY:S.A.F.E. Event - Feed My Starving Children
DESCRIPTION:S.A.F.E. (Singles Activity Fellowship Events)\n\n\n\nFeed My Starving Children  (Off-Site)9:00-11:00am (Bus leaves at 8:00am)*1100 W. Grove Parkway\, Tempe (New location)This monthly mission trip to the Christian ­based\, non-profit organization\, is on the 4th Wednesday of each month. You can stand and package the food\, or sit and label it. Afterwards\, we stop and have lunch. \n\n\n\nRSVP REQUIRED FOR ALL EVENTS. This helps us with planning and seating.
URL:https://victorylutheran.com/event/s-a-f-e-event-feed-my-starving-children-2/2028-04-26/
END:VEVENT
BEGIN:VEVENT
DTSTART;TZID=America/Phoenix:20280524T090000
DTEND;TZID=America/Phoenix:20280524T113000
DTSTAMP:20260425T184152
CREATED:20250301T035836Z
LAST-MODIFIED:20250301T035838Z
UID:10007964-1842771600-1842780600@victorylutheran.com
SUMMARY:S.A.F.E. Event - Feed My Starving Children
DESCRIPTION:S.A.F.E. (Singles Activity Fellowship Events)\n\n\n\nFeed My Starving Children  (Off-Site)9:00-11:00am (Bus leaves at 8:00am)*1100 W. Grove Parkway\, Tempe (New location)This monthly mission trip to the Christian ­based\, non-profit organization\, is on the 4th Wednesday of each month. You can stand and package the food\, or sit and label it. Afterwards\, we stop and have lunch. \n\n\n\nRSVP REQUIRED FOR ALL EVENTS. This helps us with planning and seating.
URL:https://victorylutheran.com/event/s-a-f-e-event-feed-my-starving-children-2/2028-05-24/
END:VEVENT
BEGIN:VEVENT
DTSTART;TZID=America/Phoenix:20280628T090000
DTEND;TZID=America/Phoenix:20280628T113000
DTSTAMP:20260425T184152
CREATED:20250301T035836Z
LAST-MODIFIED:20250301T035838Z
UID:10007965-1845795600-1845804600@victorylutheran.com
SUMMARY:S.A.F.E. Event - Feed My Starving Children
DESCRIPTION:S.A.F.E. (Singles Activity Fellowship Events)\n\n\n\nFeed My Starving Children  (Off-Site)9:00-11:00am (Bus leaves at 8:00am)*1100 W. Grove Parkway\, Tempe (New location)This monthly mission trip to the Christian ­based\, non-profit organization\, is on the 4th Wednesday of each month. You can stand and package the food\, or sit and label it. Afterwards\, we stop and have lunch. \n\n\n\nRSVP REQUIRED FOR ALL EVENTS. This helps us with planning and seating.
URL:https://victorylutheran.com/event/s-a-f-e-event-feed-my-starving-children-2/2028-06-28/
END:VEVENT
BEGIN:VEVENT
DTSTART;TZID=America/Phoenix:20280726T090000
DTEND;TZID=America/Phoenix:20280726T113000
DTSTAMP:20260425T184152
CREATED:20250301T035836Z
LAST-MODIFIED:20250301T035838Z
UID:10007966-1848214800-1848223800@victorylutheran.com
SUMMARY:S.A.F.E. Event - Feed My Starving Children
DESCRIPTION:S.A.F.E. (Singles Activity Fellowship Events)\n\n\n\nFeed My Starving Children  (Off-Site)9:00-11:00am (Bus leaves at 8:00am)*1100 W. Grove Parkway\, Tempe (New location)This monthly mission trip to the Christian ­based\, non-profit organization\, is on the 4th Wednesday of each month. You can stand and package the food\, or sit and label it. Afterwards\, we stop and have lunch. \n\n\n\nRSVP REQUIRED FOR ALL EVENTS. This helps us with planning and seating.
URL:https://victorylutheran.com/event/s-a-f-e-event-feed-my-starving-children-2/2028-07-26/
END:VEVENT
BEGIN:VEVENT
DTSTART;TZID=America/Phoenix:20280823T090000
DTEND;TZID=America/Phoenix:20280823T113000
DTSTAMP:20260425T184152
CREATED:20250301T035836Z
LAST-MODIFIED:20250301T035838Z
UID:10007967-1850634000-1850643000@victorylutheran.com
SUMMARY:S.A.F.E. Event - Feed My Starving Children
DESCRIPTION:S.A.F.E. (Singles Activity Fellowship Events)\n\n\n\nFeed My Starving Children  (Off-Site)9:00-11:00am (Bus leaves at 8:00am)*1100 W. Grove Parkway\, Tempe (New location)This monthly mission trip to the Christian ­based\, non-profit organization\, is on the 4th Wednesday of each month. You can stand and package the food\, or sit and label it. Afterwards\, we stop and have lunch. \n\n\n\nRSVP REQUIRED FOR ALL EVENTS. This helps us with planning and seating.
URL:https://victorylutheran.com/event/s-a-f-e-event-feed-my-starving-children-2/2028-08-23/
END:VEVENT
BEGIN:VEVENT
DTSTART;TZID=America/Phoenix:20280927T090000
DTEND;TZID=America/Phoenix:20280927T113000
DTSTAMP:20260425T184152
CREATED:20250301T035836Z
LAST-MODIFIED:20250301T035838Z
UID:10007968-1853658000-1853667000@victorylutheran.com
SUMMARY:S.A.F.E. Event - Feed My Starving Children
DESCRIPTION:S.A.F.E. (Singles Activity Fellowship Events)\n\n\n\nFeed My Starving Children  (Off-Site)9:00-11:00am (Bus leaves at 8:00am)*1100 W. Grove Parkway\, Tempe (New location)This monthly mission trip to the Christian ­based\, non-profit organization\, is on the 4th Wednesday of each month. You can stand and package the food\, or sit and label it. Afterwards\, we stop and have lunch. \n\n\n\nRSVP REQUIRED FOR ALL EVENTS. This helps us with planning and seating.
URL:https://victorylutheran.com/event/s-a-f-e-event-feed-my-starving-children-2/2028-09-27/
END:VEVENT
BEGIN:VEVENT
DTSTART;TZID=America/Phoenix:20281025T090000
DTEND;TZID=America/Phoenix:20281025T113000
DTSTAMP:20260425T184152
CREATED:20250301T035836Z
LAST-MODIFIED:20250301T035838Z
UID:10007969-1856077200-1856086200@victorylutheran.com
SUMMARY:S.A.F.E. Event - Feed My Starving Children
DESCRIPTION:S.A.F.E. (Singles Activity Fellowship Events)\n\n\n\nFeed My Starving Children  (Off-Site)9:00-11:00am (Bus leaves at 8:00am)*1100 W. Grove Parkway\, Tempe (New location)This monthly mission trip to the Christian ­based\, non-profit organization\, is on the 4th Wednesday of each month. You can stand and package the food\, or sit and label it. Afterwards\, we stop and have lunch. \n\n\n\nRSVP REQUIRED FOR ALL EVENTS. This helps us with planning and seating.
URL:https://victorylutheran.com/event/s-a-f-e-event-feed-my-starving-children-2/2028-10-25/
END:VEVENT
END:VCALENDAR