BEGIN:VCALENDAR
VERSION:2.0
PRODID:-//Victory Lutheran Church - ECPv6.15.11//NONSGML v1.0//EN
CALSCALE:GREGORIAN
METHOD:PUBLISH
X-ORIGINAL-URL:https://victorylutheran.com
X-WR-CALDESC:Events for Victory Lutheran Church
REFRESH-INTERVAL;VALUE=DURATION:PT1H
X-Robots-Tag:noindex
X-PUBLISHED-TTL:PT1H
BEGIN:VTIMEZONE
TZID:America/Phoenix
BEGIN:STANDARD
TZOFFSETFROM:-0700
TZOFFSETTO:-0700
TZNAME:MST
DTSTART:20250101T000000
END:STANDARD
END:VTIMEZONE
BEGIN:VEVENT
DTSTART;TZID=America/Phoenix:20260505T183000
DTEND;TZID=America/Phoenix:20260505T203000
DTSTAMP:20260425T165837
CREATED:20251205T170239Z
LAST-MODIFIED:20251205T170241Z
UID:10010867-1778005800-1778013000@victorylutheran.com
SUMMARY:Small Group - "The Seekers"
DESCRIPTION:Led by Mike Menke & Judy BaileyIn-Depth Bible Study (Co-ed)When: 6:30-8:30pm\, 1st & 3rd Tuesday of the monthWhere: Victory\, Room B7Year-Round
URL:https://victorylutheran.com/event/small-group-the-seekers/2026-05-05/
END:VEVENT
BEGIN:VEVENT
DTSTART;TZID=America/Phoenix:20260602T183000
DTEND;TZID=America/Phoenix:20260602T203000
DTSTAMP:20260425T165837
CREATED:20251205T170239Z
LAST-MODIFIED:20251205T170241Z
UID:10010868-1780425000-1780432200@victorylutheran.com
SUMMARY:Small Group - "The Seekers"
DESCRIPTION:Led by Mike Menke & Judy BaileyIn-Depth Bible Study (Co-ed)When: 6:30-8:30pm\, 1st & 3rd Tuesday of the monthWhere: Victory\, Room B7Year-Round
URL:https://victorylutheran.com/event/small-group-the-seekers/2026-06-02/
END:VEVENT
BEGIN:VEVENT
DTSTART;TZID=America/Phoenix:20260707T183000
DTEND;TZID=America/Phoenix:20260707T203000
DTSTAMP:20260425T165837
CREATED:20251205T170239Z
LAST-MODIFIED:20251205T170241Z
UID:10010869-1783449000-1783456200@victorylutheran.com
SUMMARY:Small Group - "The Seekers"
DESCRIPTION:Led by Mike Menke & Judy BaileyIn-Depth Bible Study (Co-ed)When: 6:30-8:30pm\, 1st & 3rd Tuesday of the monthWhere: Victory\, Room B7Year-Round
URL:https://victorylutheran.com/event/small-group-the-seekers/2026-07-07/
END:VEVENT
BEGIN:VEVENT
DTSTART;TZID=America/Phoenix:20260804T183000
DTEND;TZID=America/Phoenix:20260804T203000
DTSTAMP:20260425T165837
CREATED:20251205T170239Z
LAST-MODIFIED:20251205T170241Z
UID:10010870-1785868200-1785875400@victorylutheran.com
SUMMARY:Small Group - "The Seekers"
DESCRIPTION:Led by Mike Menke & Judy BaileyIn-Depth Bible Study (Co-ed)When: 6:30-8:30pm\, 1st & 3rd Tuesday of the monthWhere: Victory\, Room B7Year-Round
URL:https://victorylutheran.com/event/small-group-the-seekers/2026-08-04/
END:VEVENT
BEGIN:VEVENT
DTSTART;TZID=America/Phoenix:20260901T183000
DTEND;TZID=America/Phoenix:20260901T203000
DTSTAMP:20260425T165837
CREATED:20251205T170239Z
LAST-MODIFIED:20251205T170241Z
UID:10010871-1788287400-1788294600@victorylutheran.com
SUMMARY:Small Group - "The Seekers"
DESCRIPTION:Led by Mike Menke & Judy BaileyIn-Depth Bible Study (Co-ed)When: 6:30-8:30pm\, 1st & 3rd Tuesday of the monthWhere: Victory\, Room B7Year-Round
URL:https://victorylutheran.com/event/small-group-the-seekers/2026-09-01/
END:VEVENT
BEGIN:VEVENT
DTSTART;TZID=America/Phoenix:20261006T183000
DTEND;TZID=America/Phoenix:20261006T203000
DTSTAMP:20260425T165837
CREATED:20251205T170239Z
LAST-MODIFIED:20251205T170241Z
UID:10010872-1791311400-1791318600@victorylutheran.com
SUMMARY:Small Group - "The Seekers"
DESCRIPTION:Led by Mike Menke & Judy BaileyIn-Depth Bible Study (Co-ed)When: 6:30-8:30pm\, 1st & 3rd Tuesday of the monthWhere: Victory\, Room B7Year-Round
URL:https://victorylutheran.com/event/small-group-the-seekers/2026-10-06/
END:VEVENT
BEGIN:VEVENT
DTSTART;TZID=America/Phoenix:20261103T183000
DTEND;TZID=America/Phoenix:20261103T203000
DTSTAMP:20260425T165837
CREATED:20251205T170239Z
LAST-MODIFIED:20251205T170241Z
UID:10010873-1793730600-1793737800@victorylutheran.com
SUMMARY:Small Group - "The Seekers"
DESCRIPTION:Led by Mike Menke & Judy BaileyIn-Depth Bible Study (Co-ed)When: 6:30-8:30pm\, 1st & 3rd Tuesday of the monthWhere: Victory\, Room B7Year-Round
URL:https://victorylutheran.com/event/small-group-the-seekers/2026-11-03/
END:VEVENT
BEGIN:VEVENT
DTSTART;TZID=America/Phoenix:20261201T183000
DTEND;TZID=America/Phoenix:20261201T203000
DTSTAMP:20260425T165837
CREATED:20251205T170239Z
LAST-MODIFIED:20251205T170241Z
UID:10010874-1796149800-1796157000@victorylutheran.com
SUMMARY:Small Group - "The Seekers"
DESCRIPTION:Led by Mike Menke & Judy BaileyIn-Depth Bible Study (Co-ed)When: 6:30-8:30pm\, 1st & 3rd Tuesday of the monthWhere: Victory\, Room B7Year-Round
URL:https://victorylutheran.com/event/small-group-the-seekers/2026-12-01/
END:VEVENT
BEGIN:VEVENT
DTSTART;TZID=America/Phoenix:20270105T183000
DTEND;TZID=America/Phoenix:20270105T203000
DTSTAMP:20260425T165837
CREATED:20251205T170239Z
LAST-MODIFIED:20251205T170241Z
UID:10010875-1799173800-1799181000@victorylutheran.com
SUMMARY:Small Group - "The Seekers"
DESCRIPTION:Led by Mike Menke & Judy BaileyIn-Depth Bible Study (Co-ed)When: 6:30-8:30pm\, 1st & 3rd Tuesday of the monthWhere: Victory\, Room B7Year-Round
URL:https://victorylutheran.com/event/small-group-the-seekers/2027-01-05/
END:VEVENT
BEGIN:VEVENT
DTSTART;TZID=America/Phoenix:20270202T183000
DTEND;TZID=America/Phoenix:20270202T203000
DTSTAMP:20260425T165837
CREATED:20251205T170239Z
LAST-MODIFIED:20251205T170241Z
UID:10010876-1801593000-1801600200@victorylutheran.com
SUMMARY:Small Group - "The Seekers"
DESCRIPTION:Led by Mike Menke & Judy BaileyIn-Depth Bible Study (Co-ed)When: 6:30-8:30pm\, 1st & 3rd Tuesday of the monthWhere: Victory\, Room B7Year-Round
URL:https://victorylutheran.com/event/small-group-the-seekers/2027-02-02/
END:VEVENT
BEGIN:VEVENT
DTSTART;TZID=America/Phoenix:20270302T183000
DTEND;TZID=America/Phoenix:20270302T203000
DTSTAMP:20260425T165837
CREATED:20251205T170239Z
LAST-MODIFIED:20251205T170241Z
UID:10010877-1804012200-1804019400@victorylutheran.com
SUMMARY:Small Group - "The Seekers"
DESCRIPTION:Led by Mike Menke & Judy BaileyIn-Depth Bible Study (Co-ed)When: 6:30-8:30pm\, 1st & 3rd Tuesday of the monthWhere: Victory\, Room B7Year-Round
URL:https://victorylutheran.com/event/small-group-the-seekers/2027-03-02/
END:VEVENT
BEGIN:VEVENT
DTSTART;TZID=America/Phoenix:20270406T183000
DTEND;TZID=America/Phoenix:20270406T203000
DTSTAMP:20260425T165837
CREATED:20251205T170239Z
LAST-MODIFIED:20251205T170241Z
UID:10010878-1807036200-1807043400@victorylutheran.com
SUMMARY:Small Group - "The Seekers"
DESCRIPTION:Led by Mike Menke & Judy BaileyIn-Depth Bible Study (Co-ed)When: 6:30-8:30pm\, 1st & 3rd Tuesday of the monthWhere: Victory\, Room B7Year-Round
URL:https://victorylutheran.com/event/small-group-the-seekers/2027-04-06/
END:VEVENT
BEGIN:VEVENT
DTSTART;TZID=America/Phoenix:20270504T183000
DTEND;TZID=America/Phoenix:20270504T203000
DTSTAMP:20260425T165837
CREATED:20251205T170239Z
LAST-MODIFIED:20251205T170241Z
UID:10010879-1809455400-1809462600@victorylutheran.com
SUMMARY:Small Group - "The Seekers"
DESCRIPTION:Led by Mike Menke & Judy BaileyIn-Depth Bible Study (Co-ed)When: 6:30-8:30pm\, 1st & 3rd Tuesday of the monthWhere: Victory\, Room B7Year-Round
URL:https://victorylutheran.com/event/small-group-the-seekers/2027-05-04/
END:VEVENT
BEGIN:VEVENT
DTSTART;TZID=America/Phoenix:20270601T183000
DTEND;TZID=America/Phoenix:20270601T203000
DTSTAMP:20260425T165837
CREATED:20251205T170239Z
LAST-MODIFIED:20251205T170241Z
UID:10010880-1811874600-1811881800@victorylutheran.com
SUMMARY:Small Group - "The Seekers"
DESCRIPTION:Led by Mike Menke & Judy BaileyIn-Depth Bible Study (Co-ed)When: 6:30-8:30pm\, 1st & 3rd Tuesday of the monthWhere: Victory\, Room B7Year-Round
URL:https://victorylutheran.com/event/small-group-the-seekers/2027-06-01/
END:VEVENT
BEGIN:VEVENT
DTSTART;TZID=America/Phoenix:20270706T183000
DTEND;TZID=America/Phoenix:20270706T203000
DTSTAMP:20260425T165837
CREATED:20251205T170239Z
LAST-MODIFIED:20251205T170241Z
UID:10010881-1814898600-1814905800@victorylutheran.com
SUMMARY:Small Group - "The Seekers"
DESCRIPTION:Led by Mike Menke & Judy BaileyIn-Depth Bible Study (Co-ed)When: 6:30-8:30pm\, 1st & 3rd Tuesday of the monthWhere: Victory\, Room B7Year-Round
URL:https://victorylutheran.com/event/small-group-the-seekers/2027-07-06/
END:VEVENT
BEGIN:VEVENT
DTSTART;TZID=America/Phoenix:20270803T183000
DTEND;TZID=America/Phoenix:20270803T203000
DTSTAMP:20260425T165837
CREATED:20251205T170239Z
LAST-MODIFIED:20251205T170241Z
UID:10010882-1817317800-1817325000@victorylutheran.com
SUMMARY:Small Group - "The Seekers"
DESCRIPTION:Led by Mike Menke & Judy BaileyIn-Depth Bible Study (Co-ed)When: 6:30-8:30pm\, 1st & 3rd Tuesday of the monthWhere: Victory\, Room B7Year-Round
URL:https://victorylutheran.com/event/small-group-the-seekers/2027-08-03/
END:VEVENT
BEGIN:VEVENT
DTSTART;TZID=America/Phoenix:20270907T183000
DTEND;TZID=America/Phoenix:20270907T203000
DTSTAMP:20260425T165837
CREATED:20251205T170239Z
LAST-MODIFIED:20251205T170241Z
UID:10010883-1820341800-1820349000@victorylutheran.com
SUMMARY:Small Group - "The Seekers"
DESCRIPTION:Led by Mike Menke & Judy BaileyIn-Depth Bible Study (Co-ed)When: 6:30-8:30pm\, 1st & 3rd Tuesday of the monthWhere: Victory\, Room B7Year-Round
URL:https://victorylutheran.com/event/small-group-the-seekers/2027-09-07/
END:VEVENT
BEGIN:VEVENT
DTSTART;TZID=America/Phoenix:20271005T183000
DTEND;TZID=America/Phoenix:20271005T203000
DTSTAMP:20260425T165837
CREATED:20251205T170239Z
LAST-MODIFIED:20251205T170241Z
UID:10010884-1822761000-1822768200@victorylutheran.com
SUMMARY:Small Group - "The Seekers"
DESCRIPTION:Led by Mike Menke & Judy BaileyIn-Depth Bible Study (Co-ed)When: 6:30-8:30pm\, 1st & 3rd Tuesday of the monthWhere: Victory\, Room B7Year-Round
URL:https://victorylutheran.com/event/small-group-the-seekers/2027-10-05/
END:VEVENT
BEGIN:VEVENT
DTSTART;TZID=America/Phoenix:20271102T183000
DTEND;TZID=America/Phoenix:20271102T203000
DTSTAMP:20260425T165837
CREATED:20251205T170239Z
LAST-MODIFIED:20251205T170241Z
UID:10010885-1825180200-1825187400@victorylutheran.com
SUMMARY:Small Group - "The Seekers"
DESCRIPTION:Led by Mike Menke & Judy BaileyIn-Depth Bible Study (Co-ed)When: 6:30-8:30pm\, 1st & 3rd Tuesday of the monthWhere: Victory\, Room B7Year-Round
URL:https://victorylutheran.com/event/small-group-the-seekers/2027-11-02/
END:VEVENT
BEGIN:VEVENT
DTSTART;TZID=America/Phoenix:20271207T183000
DTEND;TZID=America/Phoenix:20271207T203000
DTSTAMP:20260425T165837
CREATED:20251205T170239Z
LAST-MODIFIED:20251205T170241Z
UID:10010886-1828204200-1828211400@victorylutheran.com
SUMMARY:Small Group - "The Seekers"
DESCRIPTION:Led by Mike Menke & Judy BaileyIn-Depth Bible Study (Co-ed)When: 6:30-8:30pm\, 1st & 3rd Tuesday of the monthWhere: Victory\, Room B7Year-Round
URL:https://victorylutheran.com/event/small-group-the-seekers/2027-12-07/
END:VEVENT
BEGIN:VEVENT
DTSTART;TZID=America/Phoenix:20280104T183000
DTEND;TZID=America/Phoenix:20280104T203000
DTSTAMP:20260425T165837
CREATED:20251205T170239Z
LAST-MODIFIED:20251205T170241Z
UID:10010887-1830623400-1830630600@victorylutheran.com
SUMMARY:Small Group - "The Seekers"
DESCRIPTION:Led by Mike Menke & Judy BaileyIn-Depth Bible Study (Co-ed)When: 6:30-8:30pm\, 1st & 3rd Tuesday of the monthWhere: Victory\, Room B7Year-Round
URL:https://victorylutheran.com/event/small-group-the-seekers/2028-01-04/
END:VEVENT
BEGIN:VEVENT
DTSTART;TZID=America/Phoenix:20280201T183000
DTEND;TZID=America/Phoenix:20280201T203000
DTSTAMP:20260425T165837
CREATED:20251205T170239Z
LAST-MODIFIED:20251205T170241Z
UID:10010888-1833042600-1833049800@victorylutheran.com
SUMMARY:Small Group - "The Seekers"
DESCRIPTION:Led by Mike Menke & Judy BaileyIn-Depth Bible Study (Co-ed)When: 6:30-8:30pm\, 1st & 3rd Tuesday of the monthWhere: Victory\, Room B7Year-Round
URL:https://victorylutheran.com/event/small-group-the-seekers/2028-02-01/
END:VEVENT
BEGIN:VEVENT
DTSTART;TZID=America/Phoenix:20280307T183000
DTEND;TZID=America/Phoenix:20280307T203000
DTSTAMP:20260425T165837
CREATED:20251205T170239Z
LAST-MODIFIED:20251205T170241Z
UID:10010889-1836066600-1836073800@victorylutheran.com
SUMMARY:Small Group - "The Seekers"
DESCRIPTION:Led by Mike Menke & Judy BaileyIn-Depth Bible Study (Co-ed)When: 6:30-8:30pm\, 1st & 3rd Tuesday of the monthWhere: Victory\, Room B7Year-Round
URL:https://victorylutheran.com/event/small-group-the-seekers/2028-03-07/
END:VEVENT
BEGIN:VEVENT
DTSTART;TZID=America/Phoenix:20280404T183000
DTEND;TZID=America/Phoenix:20280404T203000
DTSTAMP:20260425T165837
CREATED:20251205T170239Z
LAST-MODIFIED:20251205T170241Z
UID:10010890-1838485800-1838493000@victorylutheran.com
SUMMARY:Small Group - "The Seekers"
DESCRIPTION:Led by Mike Menke & Judy BaileyIn-Depth Bible Study (Co-ed)When: 6:30-8:30pm\, 1st & 3rd Tuesday of the monthWhere: Victory\, Room B7Year-Round
URL:https://victorylutheran.com/event/small-group-the-seekers/2028-04-04/
END:VEVENT
BEGIN:VEVENT
DTSTART;TZID=America/Phoenix:20280502T183000
DTEND;TZID=America/Phoenix:20280502T203000
DTSTAMP:20260425T165837
CREATED:20251205T170239Z
LAST-MODIFIED:20251205T170241Z
UID:10010891-1840905000-1840912200@victorylutheran.com
SUMMARY:Small Group - "The Seekers"
DESCRIPTION:Led by Mike Menke & Judy BaileyIn-Depth Bible Study (Co-ed)When: 6:30-8:30pm\, 1st & 3rd Tuesday of the monthWhere: Victory\, Room B7Year-Round
URL:https://victorylutheran.com/event/small-group-the-seekers/2028-05-02/
END:VEVENT
BEGIN:VEVENT
DTSTART;TZID=America/Phoenix:20280606T183000
DTEND;TZID=America/Phoenix:20280606T203000
DTSTAMP:20260425T165837
CREATED:20251205T170239Z
LAST-MODIFIED:20251205T170241Z
UID:10010892-1843929000-1843936200@victorylutheran.com
SUMMARY:Small Group - "The Seekers"
DESCRIPTION:Led by Mike Menke & Judy BaileyIn-Depth Bible Study (Co-ed)When: 6:30-8:30pm\, 1st & 3rd Tuesday of the monthWhere: Victory\, Room B7Year-Round
URL:https://victorylutheran.com/event/small-group-the-seekers/2028-06-06/
END:VEVENT
BEGIN:VEVENT
DTSTART;TZID=America/Phoenix:20280704T183000
DTEND;TZID=America/Phoenix:20280704T203000
DTSTAMP:20260425T165838
CREATED:20251205T170239Z
LAST-MODIFIED:20251205T170241Z
UID:10010893-1846348200-1846355400@victorylutheran.com
SUMMARY:Small Group - "The Seekers"
DESCRIPTION:Led by Mike Menke & Judy BaileyIn-Depth Bible Study (Co-ed)When: 6:30-8:30pm\, 1st & 3rd Tuesday of the monthWhere: Victory\, Room B7Year-Round
URL:https://victorylutheran.com/event/small-group-the-seekers/2028-07-04/
END:VEVENT
BEGIN:VEVENT
DTSTART;TZID=America/Phoenix:20280801T183000
DTEND;TZID=America/Phoenix:20280801T203000
DTSTAMP:20260425T165838
CREATED:20251205T170239Z
LAST-MODIFIED:20251205T170241Z
UID:10010894-1848767400-1848774600@victorylutheran.com
SUMMARY:Small Group - "The Seekers"
DESCRIPTION:Led by Mike Menke & Judy BaileyIn-Depth Bible Study (Co-ed)When: 6:30-8:30pm\, 1st & 3rd Tuesday of the monthWhere: Victory\, Room B7Year-Round
URL:https://victorylutheran.com/event/small-group-the-seekers/2028-08-01/
END:VEVENT
BEGIN:VEVENT
DTSTART;TZID=America/Phoenix:20280905T183000
DTEND;TZID=America/Phoenix:20280905T203000
DTSTAMP:20260425T165838
CREATED:20251205T170239Z
LAST-MODIFIED:20251205T170241Z
UID:10010895-1851791400-1851798600@victorylutheran.com
SUMMARY:Small Group - "The Seekers"
DESCRIPTION:Led by Mike Menke & Judy BaileyIn-Depth Bible Study (Co-ed)When: 6:30-8:30pm\, 1st & 3rd Tuesday of the monthWhere: Victory\, Room B7Year-Round
URL:https://victorylutheran.com/event/small-group-the-seekers/2028-09-05/
END:VEVENT
BEGIN:VEVENT
DTSTART;TZID=America/Phoenix:20281003T183000
DTEND;TZID=America/Phoenix:20281003T203000
DTSTAMP:20260425T165838
CREATED:20251205T170239Z
LAST-MODIFIED:20251205T170241Z
UID:10010896-1854210600-1854217800@victorylutheran.com
SUMMARY:Small Group - "The Seekers"
DESCRIPTION:Led by Mike Menke & Judy BaileyIn-Depth Bible Study (Co-ed)When: 6:30-8:30pm\, 1st & 3rd Tuesday of the monthWhere: Victory\, Room B7Year-Round
URL:https://victorylutheran.com/event/small-group-the-seekers/2028-10-03/
END:VEVENT
END:VCALENDAR