BEGIN:VCALENDAR
VERSION:2.0
PRODID:-//Victory Lutheran Church - ECPv6.15.11//NONSGML v1.0//EN
CALSCALE:GREGORIAN
METHOD:PUBLISH
X-ORIGINAL-URL:https://victorylutheran.com
X-WR-CALDESC:Events for Victory Lutheran Church
REFRESH-INTERVAL;VALUE=DURATION:PT1H
X-Robots-Tag:noindex
X-PUBLISHED-TTL:PT1H
BEGIN:VTIMEZONE
TZID:America/Phoenix
BEGIN:STANDARD
TZOFFSETFROM:-0700
TZOFFSETTO:-0700
TZNAME:MST
DTSTART:20250101T000000
END:STANDARD
END:VTIMEZONE
BEGIN:VEVENT
DTSTART;TZID=America/Phoenix:20260429T123000
DTEND;TZID=America/Phoenix:20260429T133000
DTSTAMP:20260425T102018
CREATED:20230728T214657Z
LAST-MODIFIED:20230801T172234Z
UID:10001722-1777465800-1777469400@victorylutheran.com
SUMMARY:Al-Anon Meeting
DESCRIPTION:Al-Anon Family Groups is an important source of help for anyone affected by someone else’s drinking. Al-Anon groups are made up of family members and friends of alcoholics who share their experience\, strength\, and hope with each other.
URL:https://victorylutheran.com/event/al-anon-meeting/2026-04-29/
ATTACH;FMTTYPE=image/jpeg:https://victorylutheran.com/wp-content/uploads/2023/07/2.jpg
END:VEVENT
BEGIN:VEVENT
DTSTART;TZID=America/Phoenix:20260506T123000
DTEND;TZID=America/Phoenix:20260506T133000
DTSTAMP:20260425T102018
CREATED:20230728T214657Z
LAST-MODIFIED:20230801T172234Z
UID:10001723-1778070600-1778074200@victorylutheran.com
SUMMARY:Al-Anon Meeting
DESCRIPTION:Al-Anon Family Groups is an important source of help for anyone affected by someone else’s drinking. Al-Anon groups are made up of family members and friends of alcoholics who share their experience\, strength\, and hope with each other.
URL:https://victorylutheran.com/event/al-anon-meeting/2026-05-06/
ATTACH;FMTTYPE=image/jpeg:https://victorylutheran.com/wp-content/uploads/2023/07/2.jpg
END:VEVENT
BEGIN:VEVENT
DTSTART;TZID=America/Phoenix:20260513T123000
DTEND;TZID=America/Phoenix:20260513T133000
DTSTAMP:20260425T102018
CREATED:20230728T214657Z
LAST-MODIFIED:20230801T172234Z
UID:10001724-1778675400-1778679000@victorylutheran.com
SUMMARY:Al-Anon Meeting
DESCRIPTION:Al-Anon Family Groups is an important source of help for anyone affected by someone else’s drinking. Al-Anon groups are made up of family members and friends of alcoholics who share their experience\, strength\, and hope with each other.
URL:https://victorylutheran.com/event/al-anon-meeting/2026-05-13/
ATTACH;FMTTYPE=image/jpeg:https://victorylutheran.com/wp-content/uploads/2023/07/2.jpg
END:VEVENT
BEGIN:VEVENT
DTSTART;TZID=America/Phoenix:20260520T123000
DTEND;TZID=America/Phoenix:20260520T133000
DTSTAMP:20260425T102018
CREATED:20230728T214657Z
LAST-MODIFIED:20230801T172234Z
UID:10001725-1779280200-1779283800@victorylutheran.com
SUMMARY:Al-Anon Meeting
DESCRIPTION:Al-Anon Family Groups is an important source of help for anyone affected by someone else’s drinking. Al-Anon groups are made up of family members and friends of alcoholics who share their experience\, strength\, and hope with each other.
URL:https://victorylutheran.com/event/al-anon-meeting/2026-05-20/
ATTACH;FMTTYPE=image/jpeg:https://victorylutheran.com/wp-content/uploads/2023/07/2.jpg
END:VEVENT
BEGIN:VEVENT
DTSTART;TZID=America/Phoenix:20260527T123000
DTEND;TZID=America/Phoenix:20260527T133000
DTSTAMP:20260425T102018
CREATED:20230728T214657Z
LAST-MODIFIED:20230801T172234Z
UID:10001726-1779885000-1779888600@victorylutheran.com
SUMMARY:Al-Anon Meeting
DESCRIPTION:Al-Anon Family Groups is an important source of help for anyone affected by someone else’s drinking. Al-Anon groups are made up of family members and friends of alcoholics who share their experience\, strength\, and hope with each other.
URL:https://victorylutheran.com/event/al-anon-meeting/2026-05-27/
ATTACH;FMTTYPE=image/jpeg:https://victorylutheran.com/wp-content/uploads/2023/07/2.jpg
END:VEVENT
BEGIN:VEVENT
DTSTART;TZID=America/Phoenix:20260603T123000
DTEND;TZID=America/Phoenix:20260603T133000
DTSTAMP:20260425T102018
CREATED:20230728T214657Z
LAST-MODIFIED:20230801T172234Z
UID:10001727-1780489800-1780493400@victorylutheran.com
SUMMARY:Al-Anon Meeting
DESCRIPTION:Al-Anon Family Groups is an important source of help for anyone affected by someone else’s drinking. Al-Anon groups are made up of family members and friends of alcoholics who share their experience\, strength\, and hope with each other.
URL:https://victorylutheran.com/event/al-anon-meeting/2026-06-03/
ATTACH;FMTTYPE=image/jpeg:https://victorylutheran.com/wp-content/uploads/2023/07/2.jpg
END:VEVENT
BEGIN:VEVENT
DTSTART;TZID=America/Phoenix:20260610T123000
DTEND;TZID=America/Phoenix:20260610T133000
DTSTAMP:20260425T102018
CREATED:20230728T214657Z
LAST-MODIFIED:20230801T172234Z
UID:10001728-1781094600-1781098200@victorylutheran.com
SUMMARY:Al-Anon Meeting
DESCRIPTION:Al-Anon Family Groups is an important source of help for anyone affected by someone else’s drinking. Al-Anon groups are made up of family members and friends of alcoholics who share their experience\, strength\, and hope with each other.
URL:https://victorylutheran.com/event/al-anon-meeting/2026-06-10/
ATTACH;FMTTYPE=image/jpeg:https://victorylutheran.com/wp-content/uploads/2023/07/2.jpg
END:VEVENT
BEGIN:VEVENT
DTSTART;TZID=America/Phoenix:20260617T123000
DTEND;TZID=America/Phoenix:20260617T133000
DTSTAMP:20260425T102018
CREATED:20230728T214657Z
LAST-MODIFIED:20230801T172234Z
UID:10001729-1781699400-1781703000@victorylutheran.com
SUMMARY:Al-Anon Meeting
DESCRIPTION:Al-Anon Family Groups is an important source of help for anyone affected by someone else’s drinking. Al-Anon groups are made up of family members and friends of alcoholics who share their experience\, strength\, and hope with each other.
URL:https://victorylutheran.com/event/al-anon-meeting/2026-06-17/
ATTACH;FMTTYPE=image/jpeg:https://victorylutheran.com/wp-content/uploads/2023/07/2.jpg
END:VEVENT
BEGIN:VEVENT
DTSTART;TZID=America/Phoenix:20260624T123000
DTEND;TZID=America/Phoenix:20260624T133000
DTSTAMP:20260425T102018
CREATED:20230728T214657Z
LAST-MODIFIED:20230801T172234Z
UID:10001730-1782304200-1782307800@victorylutheran.com
SUMMARY:Al-Anon Meeting
DESCRIPTION:Al-Anon Family Groups is an important source of help for anyone affected by someone else’s drinking. Al-Anon groups are made up of family members and friends of alcoholics who share their experience\, strength\, and hope with each other.
URL:https://victorylutheran.com/event/al-anon-meeting/2026-06-24/
ATTACH;FMTTYPE=image/jpeg:https://victorylutheran.com/wp-content/uploads/2023/07/2.jpg
END:VEVENT
BEGIN:VEVENT
DTSTART;TZID=America/Phoenix:20260701T123000
DTEND;TZID=America/Phoenix:20260701T133000
DTSTAMP:20260425T102018
CREATED:20230728T214657Z
LAST-MODIFIED:20230801T172234Z
UID:10001731-1782909000-1782912600@victorylutheran.com
SUMMARY:Al-Anon Meeting
DESCRIPTION:Al-Anon Family Groups is an important source of help for anyone affected by someone else’s drinking. Al-Anon groups are made up of family members and friends of alcoholics who share their experience\, strength\, and hope with each other.
URL:https://victorylutheran.com/event/al-anon-meeting/2026-07-01/
ATTACH;FMTTYPE=image/jpeg:https://victorylutheran.com/wp-content/uploads/2023/07/2.jpg
END:VEVENT
BEGIN:VEVENT
DTSTART;TZID=America/Phoenix:20260708T123000
DTEND;TZID=America/Phoenix:20260708T133000
DTSTAMP:20260425T102018
CREATED:20230728T214657Z
LAST-MODIFIED:20230801T172234Z
UID:10001732-1783513800-1783517400@victorylutheran.com
SUMMARY:Al-Anon Meeting
DESCRIPTION:Al-Anon Family Groups is an important source of help for anyone affected by someone else’s drinking. Al-Anon groups are made up of family members and friends of alcoholics who share their experience\, strength\, and hope with each other.
URL:https://victorylutheran.com/event/al-anon-meeting/2026-07-08/
ATTACH;FMTTYPE=image/jpeg:https://victorylutheran.com/wp-content/uploads/2023/07/2.jpg
END:VEVENT
BEGIN:VEVENT
DTSTART;TZID=America/Phoenix:20260715T123000
DTEND;TZID=America/Phoenix:20260715T133000
DTSTAMP:20260425T102018
CREATED:20230728T214657Z
LAST-MODIFIED:20230801T172234Z
UID:10001733-1784118600-1784122200@victorylutheran.com
SUMMARY:Al-Anon Meeting
DESCRIPTION:Al-Anon Family Groups is an important source of help for anyone affected by someone else’s drinking. Al-Anon groups are made up of family members and friends of alcoholics who share their experience\, strength\, and hope with each other.
URL:https://victorylutheran.com/event/al-anon-meeting/2026-07-15/
ATTACH;FMTTYPE=image/jpeg:https://victorylutheran.com/wp-content/uploads/2023/07/2.jpg
END:VEVENT
BEGIN:VEVENT
DTSTART;TZID=America/Phoenix:20260722T123000
DTEND;TZID=America/Phoenix:20260722T133000
DTSTAMP:20260425T102018
CREATED:20230728T214657Z
LAST-MODIFIED:20230801T172234Z
UID:10001734-1784723400-1784727000@victorylutheran.com
SUMMARY:Al-Anon Meeting
DESCRIPTION:Al-Anon Family Groups is an important source of help for anyone affected by someone else’s drinking. Al-Anon groups are made up of family members and friends of alcoholics who share their experience\, strength\, and hope with each other.
URL:https://victorylutheran.com/event/al-anon-meeting/2026-07-22/
ATTACH;FMTTYPE=image/jpeg:https://victorylutheran.com/wp-content/uploads/2023/07/2.jpg
END:VEVENT
BEGIN:VEVENT
DTSTART;TZID=America/Phoenix:20260729T123000
DTEND;TZID=America/Phoenix:20260729T133000
DTSTAMP:20260425T102018
CREATED:20230728T214657Z
LAST-MODIFIED:20230801T172234Z
UID:10001735-1785328200-1785331800@victorylutheran.com
SUMMARY:Al-Anon Meeting
DESCRIPTION:Al-Anon Family Groups is an important source of help for anyone affected by someone else’s drinking. Al-Anon groups are made up of family members and friends of alcoholics who share their experience\, strength\, and hope with each other.
URL:https://victorylutheran.com/event/al-anon-meeting/2026-07-29/
ATTACH;FMTTYPE=image/jpeg:https://victorylutheran.com/wp-content/uploads/2023/07/2.jpg
END:VEVENT
BEGIN:VEVENT
DTSTART;TZID=America/Phoenix:20260805T123000
DTEND;TZID=America/Phoenix:20260805T133000
DTSTAMP:20260425T102018
CREATED:20230728T214657Z
LAST-MODIFIED:20230801T172234Z
UID:10001736-1785933000-1785936600@victorylutheran.com
SUMMARY:Al-Anon Meeting
DESCRIPTION:Al-Anon Family Groups is an important source of help for anyone affected by someone else’s drinking. Al-Anon groups are made up of family members and friends of alcoholics who share their experience\, strength\, and hope with each other.
URL:https://victorylutheran.com/event/al-anon-meeting/2026-08-05/
ATTACH;FMTTYPE=image/jpeg:https://victorylutheran.com/wp-content/uploads/2023/07/2.jpg
END:VEVENT
BEGIN:VEVENT
DTSTART;TZID=America/Phoenix:20260812T123000
DTEND;TZID=America/Phoenix:20260812T133000
DTSTAMP:20260425T102018
CREATED:20230728T214657Z
LAST-MODIFIED:20230801T172234Z
UID:10001737-1786537800-1786541400@victorylutheran.com
SUMMARY:Al-Anon Meeting
DESCRIPTION:Al-Anon Family Groups is an important source of help for anyone affected by someone else’s drinking. Al-Anon groups are made up of family members and friends of alcoholics who share their experience\, strength\, and hope with each other.
URL:https://victorylutheran.com/event/al-anon-meeting/2026-08-12/
ATTACH;FMTTYPE=image/jpeg:https://victorylutheran.com/wp-content/uploads/2023/07/2.jpg
END:VEVENT
BEGIN:VEVENT
DTSTART;TZID=America/Phoenix:20260819T123000
DTEND;TZID=America/Phoenix:20260819T133000
DTSTAMP:20260425T102018
CREATED:20230728T214657Z
LAST-MODIFIED:20230801T172234Z
UID:10001738-1787142600-1787146200@victorylutheran.com
SUMMARY:Al-Anon Meeting
DESCRIPTION:Al-Anon Family Groups is an important source of help for anyone affected by someone else’s drinking. Al-Anon groups are made up of family members and friends of alcoholics who share their experience\, strength\, and hope with each other.
URL:https://victorylutheran.com/event/al-anon-meeting/2026-08-19/
ATTACH;FMTTYPE=image/jpeg:https://victorylutheran.com/wp-content/uploads/2023/07/2.jpg
END:VEVENT
BEGIN:VEVENT
DTSTART;TZID=America/Phoenix:20260826T123000
DTEND;TZID=America/Phoenix:20260826T133000
DTSTAMP:20260425T102018
CREATED:20230728T214657Z
LAST-MODIFIED:20230801T172234Z
UID:10001739-1787747400-1787751000@victorylutheran.com
SUMMARY:Al-Anon Meeting
DESCRIPTION:Al-Anon Family Groups is an important source of help for anyone affected by someone else’s drinking. Al-Anon groups are made up of family members and friends of alcoholics who share their experience\, strength\, and hope with each other.
URL:https://victorylutheran.com/event/al-anon-meeting/2026-08-26/
ATTACH;FMTTYPE=image/jpeg:https://victorylutheran.com/wp-content/uploads/2023/07/2.jpg
END:VEVENT
BEGIN:VEVENT
DTSTART;TZID=America/Phoenix:20260902T123000
DTEND;TZID=America/Phoenix:20260902T133000
DTSTAMP:20260425T102018
CREATED:20230728T214657Z
LAST-MODIFIED:20230801T172234Z
UID:10001740-1788352200-1788355800@victorylutheran.com
SUMMARY:Al-Anon Meeting
DESCRIPTION:Al-Anon Family Groups is an important source of help for anyone affected by someone else’s drinking. Al-Anon groups are made up of family members and friends of alcoholics who share their experience\, strength\, and hope with each other.
URL:https://victorylutheran.com/event/al-anon-meeting/2026-09-02/
ATTACH;FMTTYPE=image/jpeg:https://victorylutheran.com/wp-content/uploads/2023/07/2.jpg
END:VEVENT
BEGIN:VEVENT
DTSTART;TZID=America/Phoenix:20260909T123000
DTEND;TZID=America/Phoenix:20260909T133000
DTSTAMP:20260425T102018
CREATED:20230728T214657Z
LAST-MODIFIED:20230801T172234Z
UID:10001741-1788957000-1788960600@victorylutheran.com
SUMMARY:Al-Anon Meeting
DESCRIPTION:Al-Anon Family Groups is an important source of help for anyone affected by someone else’s drinking. Al-Anon groups are made up of family members and friends of alcoholics who share their experience\, strength\, and hope with each other.
URL:https://victorylutheran.com/event/al-anon-meeting/2026-09-09/
ATTACH;FMTTYPE=image/jpeg:https://victorylutheran.com/wp-content/uploads/2023/07/2.jpg
END:VEVENT
BEGIN:VEVENT
DTSTART;TZID=America/Phoenix:20260916T123000
DTEND;TZID=America/Phoenix:20260916T133000
DTSTAMP:20260425T102018
CREATED:20230728T214657Z
LAST-MODIFIED:20230801T172234Z
UID:10001742-1789561800-1789565400@victorylutheran.com
SUMMARY:Al-Anon Meeting
DESCRIPTION:Al-Anon Family Groups is an important source of help for anyone affected by someone else’s drinking. Al-Anon groups are made up of family members and friends of alcoholics who share their experience\, strength\, and hope with each other.
URL:https://victorylutheran.com/event/al-anon-meeting/2026-09-16/
ATTACH;FMTTYPE=image/jpeg:https://victorylutheran.com/wp-content/uploads/2023/07/2.jpg
END:VEVENT
BEGIN:VEVENT
DTSTART;TZID=America/Phoenix:20260923T123000
DTEND;TZID=America/Phoenix:20260923T133000
DTSTAMP:20260425T102018
CREATED:20230728T214657Z
LAST-MODIFIED:20230801T172234Z
UID:10001743-1790166600-1790170200@victorylutheran.com
SUMMARY:Al-Anon Meeting
DESCRIPTION:Al-Anon Family Groups is an important source of help for anyone affected by someone else’s drinking. Al-Anon groups are made up of family members and friends of alcoholics who share their experience\, strength\, and hope with each other.
URL:https://victorylutheran.com/event/al-anon-meeting/2026-09-23/
ATTACH;FMTTYPE=image/jpeg:https://victorylutheran.com/wp-content/uploads/2023/07/2.jpg
END:VEVENT
BEGIN:VEVENT
DTSTART;TZID=America/Phoenix:20260930T123000
DTEND;TZID=America/Phoenix:20260930T133000
DTSTAMP:20260425T102018
CREATED:20230728T214657Z
LAST-MODIFIED:20230801T172234Z
UID:10001744-1790771400-1790775000@victorylutheran.com
SUMMARY:Al-Anon Meeting
DESCRIPTION:Al-Anon Family Groups is an important source of help for anyone affected by someone else’s drinking. Al-Anon groups are made up of family members and friends of alcoholics who share their experience\, strength\, and hope with each other.
URL:https://victorylutheran.com/event/al-anon-meeting/2026-09-30/
ATTACH;FMTTYPE=image/jpeg:https://victorylutheran.com/wp-content/uploads/2023/07/2.jpg
END:VEVENT
BEGIN:VEVENT
DTSTART;TZID=America/Phoenix:20261007T123000
DTEND;TZID=America/Phoenix:20261007T133000
DTSTAMP:20260425T102018
CREATED:20230728T214657Z
LAST-MODIFIED:20230801T172234Z
UID:10001745-1791376200-1791379800@victorylutheran.com
SUMMARY:Al-Anon Meeting
DESCRIPTION:Al-Anon Family Groups is an important source of help for anyone affected by someone else’s drinking. Al-Anon groups are made up of family members and friends of alcoholics who share their experience\, strength\, and hope with each other.
URL:https://victorylutheran.com/event/al-anon-meeting/2026-10-07/
ATTACH;FMTTYPE=image/jpeg:https://victorylutheran.com/wp-content/uploads/2023/07/2.jpg
END:VEVENT
BEGIN:VEVENT
DTSTART;TZID=America/Phoenix:20261014T123000
DTEND;TZID=America/Phoenix:20261014T133000
DTSTAMP:20260425T102018
CREATED:20230728T214657Z
LAST-MODIFIED:20230801T172234Z
UID:10001746-1791981000-1791984600@victorylutheran.com
SUMMARY:Al-Anon Meeting
DESCRIPTION:Al-Anon Family Groups is an important source of help for anyone affected by someone else’s drinking. Al-Anon groups are made up of family members and friends of alcoholics who share their experience\, strength\, and hope with each other.
URL:https://victorylutheran.com/event/al-anon-meeting/2026-10-14/
ATTACH;FMTTYPE=image/jpeg:https://victorylutheran.com/wp-content/uploads/2023/07/2.jpg
END:VEVENT
BEGIN:VEVENT
DTSTART;TZID=America/Phoenix:20261021T123000
DTEND;TZID=America/Phoenix:20261021T133000
DTSTAMP:20260425T102018
CREATED:20230728T214657Z
LAST-MODIFIED:20230801T172234Z
UID:10001747-1792585800-1792589400@victorylutheran.com
SUMMARY:Al-Anon Meeting
DESCRIPTION:Al-Anon Family Groups is an important source of help for anyone affected by someone else’s drinking. Al-Anon groups are made up of family members and friends of alcoholics who share their experience\, strength\, and hope with each other.
URL:https://victorylutheran.com/event/al-anon-meeting/2026-10-21/
ATTACH;FMTTYPE=image/jpeg:https://victorylutheran.com/wp-content/uploads/2023/07/2.jpg
END:VEVENT
BEGIN:VEVENT
DTSTART;TZID=America/Phoenix:20261028T123000
DTEND;TZID=America/Phoenix:20261028T133000
DTSTAMP:20260425T102018
CREATED:20230728T214657Z
LAST-MODIFIED:20230801T172234Z
UID:10001748-1793190600-1793194200@victorylutheran.com
SUMMARY:Al-Anon Meeting
DESCRIPTION:Al-Anon Family Groups is an important source of help for anyone affected by someone else’s drinking. Al-Anon groups are made up of family members and friends of alcoholics who share their experience\, strength\, and hope with each other.
URL:https://victorylutheran.com/event/al-anon-meeting/2026-10-28/
ATTACH;FMTTYPE=image/jpeg:https://victorylutheran.com/wp-content/uploads/2023/07/2.jpg
END:VEVENT
BEGIN:VEVENT
DTSTART;TZID=America/Phoenix:20261104T123000
DTEND;TZID=America/Phoenix:20261104T133000
DTSTAMP:20260425T102018
CREATED:20230728T214657Z
LAST-MODIFIED:20230801T172234Z
UID:10001749-1793795400-1793799000@victorylutheran.com
SUMMARY:Al-Anon Meeting
DESCRIPTION:Al-Anon Family Groups is an important source of help for anyone affected by someone else’s drinking. Al-Anon groups are made up of family members and friends of alcoholics who share their experience\, strength\, and hope with each other.
URL:https://victorylutheran.com/event/al-anon-meeting/2026-11-04/
ATTACH;FMTTYPE=image/jpeg:https://victorylutheran.com/wp-content/uploads/2023/07/2.jpg
END:VEVENT
BEGIN:VEVENT
DTSTART;TZID=America/Phoenix:20261111T123000
DTEND;TZID=America/Phoenix:20261111T133000
DTSTAMP:20260425T102018
CREATED:20230728T214657Z
LAST-MODIFIED:20230801T172234Z
UID:10001750-1794400200-1794403800@victorylutheran.com
SUMMARY:Al-Anon Meeting
DESCRIPTION:Al-Anon Family Groups is an important source of help for anyone affected by someone else’s drinking. Al-Anon groups are made up of family members and friends of alcoholics who share their experience\, strength\, and hope with each other.
URL:https://victorylutheran.com/event/al-anon-meeting/2026-11-11/
ATTACH;FMTTYPE=image/jpeg:https://victorylutheran.com/wp-content/uploads/2023/07/2.jpg
END:VEVENT
BEGIN:VEVENT
DTSTART;TZID=America/Phoenix:20261118T123000
DTEND;TZID=America/Phoenix:20261118T133000
DTSTAMP:20260425T102018
CREATED:20230728T214657Z
LAST-MODIFIED:20230801T172234Z
UID:10001751-1795005000-1795008600@victorylutheran.com
SUMMARY:Al-Anon Meeting
DESCRIPTION:Al-Anon Family Groups is an important source of help for anyone affected by someone else’s drinking. Al-Anon groups are made up of family members and friends of alcoholics who share their experience\, strength\, and hope with each other.
URL:https://victorylutheran.com/event/al-anon-meeting/2026-11-18/
ATTACH;FMTTYPE=image/jpeg:https://victorylutheran.com/wp-content/uploads/2023/07/2.jpg
END:VEVENT
END:VCALENDAR