BEGIN:VCALENDAR
VERSION:2.0
PRODID:-//Victory Lutheran Church - ECPv6.15.11//NONSGML v1.0//EN
CALSCALE:GREGORIAN
METHOD:PUBLISH
X-ORIGINAL-URL:https://victorylutheran.com
X-WR-CALDESC:Events for Victory Lutheran Church
REFRESH-INTERVAL;VALUE=DURATION:PT1H
X-Robots-Tag:noindex
X-PUBLISHED-TTL:PT1H
BEGIN:VTIMEZONE
TZID:America/Phoenix
BEGIN:STANDARD
TZOFFSETFROM:-0700
TZOFFSETTO:-0700
TZNAME:MST
DTSTART:20250101T000000
END:STANDARD
END:VTIMEZONE
BEGIN:VEVENT
DTSTART;TZID=America/Phoenix:20260426T083000
DTEND;TZID=America/Phoenix:20260426T110000
DTSTAMP:20260425T134543
CREATED:20230728T230208Z
LAST-MODIFIED:20250611T164918Z
UID:10008698-1777192200-1777201200@victorylutheran.com
SUMMARY:8:30-11am Morning Fellowship
DESCRIPTION:
URL:https://victorylutheran.com/event/7-11am-morning-fellowship/2026-04-26/
ATTACH;FMTTYPE=image/jpeg:https://victorylutheran.com/wp-content/uploads/2023/07/Fellowship.jpg
END:VEVENT
BEGIN:VEVENT
DTSTART;TZID=America/Phoenix:20260503T083000
DTEND;TZID=America/Phoenix:20260503T110000
DTSTAMP:20260425T134543
CREATED:20230728T230208Z
LAST-MODIFIED:20250611T164918Z
UID:10008699-1777797000-1777806000@victorylutheran.com
SUMMARY:8:30-11am Morning Fellowship
DESCRIPTION:
URL:https://victorylutheran.com/event/7-11am-morning-fellowship/2026-05-03/
ATTACH;FMTTYPE=image/jpeg:https://victorylutheran.com/wp-content/uploads/2023/07/Fellowship.jpg
END:VEVENT
BEGIN:VEVENT
DTSTART;TZID=America/Phoenix:20260510T083000
DTEND;TZID=America/Phoenix:20260510T110000
DTSTAMP:20260425T134543
CREATED:20230728T230208Z
LAST-MODIFIED:20250611T164918Z
UID:10008700-1778401800-1778410800@victorylutheran.com
SUMMARY:8:30-11am Morning Fellowship
DESCRIPTION:
URL:https://victorylutheran.com/event/7-11am-morning-fellowship/2026-05-10/
ATTACH;FMTTYPE=image/jpeg:https://victorylutheran.com/wp-content/uploads/2023/07/Fellowship.jpg
END:VEVENT
BEGIN:VEVENT
DTSTART;TZID=America/Phoenix:20260517T083000
DTEND;TZID=America/Phoenix:20260517T110000
DTSTAMP:20260425T134543
CREATED:20230728T230208Z
LAST-MODIFIED:20250611T164918Z
UID:10008701-1779006600-1779015600@victorylutheran.com
SUMMARY:8:30-11am Morning Fellowship
DESCRIPTION:
URL:https://victorylutheran.com/event/7-11am-morning-fellowship/2026-05-17/
ATTACH;FMTTYPE=image/jpeg:https://victorylutheran.com/wp-content/uploads/2023/07/Fellowship.jpg
END:VEVENT
BEGIN:VEVENT
DTSTART;TZID=America/Phoenix:20260524T083000
DTEND;TZID=America/Phoenix:20260524T110000
DTSTAMP:20260425T134543
CREATED:20230728T230208Z
LAST-MODIFIED:20250611T164918Z
UID:10008702-1779611400-1779620400@victorylutheran.com
SUMMARY:8:30-11am Morning Fellowship
DESCRIPTION:
URL:https://victorylutheran.com/event/7-11am-morning-fellowship/2026-05-24/
ATTACH;FMTTYPE=image/jpeg:https://victorylutheran.com/wp-content/uploads/2023/07/Fellowship.jpg
END:VEVENT
BEGIN:VEVENT
DTSTART;TZID=America/Phoenix:20260531T083000
DTEND;TZID=America/Phoenix:20260531T110000
DTSTAMP:20260425T134543
CREATED:20230728T230208Z
LAST-MODIFIED:20250611T164918Z
UID:10008703-1780216200-1780225200@victorylutheran.com
SUMMARY:8:30-11am Morning Fellowship
DESCRIPTION:
URL:https://victorylutheran.com/event/7-11am-morning-fellowship/2026-05-31/
ATTACH;FMTTYPE=image/jpeg:https://victorylutheran.com/wp-content/uploads/2023/07/Fellowship.jpg
END:VEVENT
BEGIN:VEVENT
DTSTART;TZID=America/Phoenix:20260607T083000
DTEND;TZID=America/Phoenix:20260607T110000
DTSTAMP:20260425T134543
CREATED:20230728T230208Z
LAST-MODIFIED:20250611T164918Z
UID:10008704-1780821000-1780830000@victorylutheran.com
SUMMARY:8:30-11am Morning Fellowship
DESCRIPTION:
URL:https://victorylutheran.com/event/7-11am-morning-fellowship/2026-06-07/
ATTACH;FMTTYPE=image/jpeg:https://victorylutheran.com/wp-content/uploads/2023/07/Fellowship.jpg
END:VEVENT
BEGIN:VEVENT
DTSTART;TZID=America/Phoenix:20260614T083000
DTEND;TZID=America/Phoenix:20260614T110000
DTSTAMP:20260425T134543
CREATED:20230728T230208Z
LAST-MODIFIED:20250611T164918Z
UID:10008705-1781425800-1781434800@victorylutheran.com
SUMMARY:8:30-11am Morning Fellowship
DESCRIPTION:
URL:https://victorylutheran.com/event/7-11am-morning-fellowship/2026-06-14/
ATTACH;FMTTYPE=image/jpeg:https://victorylutheran.com/wp-content/uploads/2023/07/Fellowship.jpg
END:VEVENT
BEGIN:VEVENT
DTSTART;TZID=America/Phoenix:20260621T083000
DTEND;TZID=America/Phoenix:20260621T110000
DTSTAMP:20260425T134543
CREATED:20230728T230208Z
LAST-MODIFIED:20250611T164918Z
UID:10008706-1782030600-1782039600@victorylutheran.com
SUMMARY:8:30-11am Morning Fellowship
DESCRIPTION:
URL:https://victorylutheran.com/event/7-11am-morning-fellowship/2026-06-21/
ATTACH;FMTTYPE=image/jpeg:https://victorylutheran.com/wp-content/uploads/2023/07/Fellowship.jpg
END:VEVENT
BEGIN:VEVENT
DTSTART;TZID=America/Phoenix:20260628T083000
DTEND;TZID=America/Phoenix:20260628T110000
DTSTAMP:20260425T134543
CREATED:20230728T230208Z
LAST-MODIFIED:20250611T164918Z
UID:10008707-1782635400-1782644400@victorylutheran.com
SUMMARY:8:30-11am Morning Fellowship
DESCRIPTION:
URL:https://victorylutheran.com/event/7-11am-morning-fellowship/2026-06-28/
ATTACH;FMTTYPE=image/jpeg:https://victorylutheran.com/wp-content/uploads/2023/07/Fellowship.jpg
END:VEVENT
BEGIN:VEVENT
DTSTART;TZID=America/Phoenix:20260705T083000
DTEND;TZID=America/Phoenix:20260705T110000
DTSTAMP:20260425T134543
CREATED:20230728T230208Z
LAST-MODIFIED:20250611T164918Z
UID:10008708-1783240200-1783249200@victorylutheran.com
SUMMARY:8:30-11am Morning Fellowship
DESCRIPTION:
URL:https://victorylutheran.com/event/7-11am-morning-fellowship/2026-07-05/
ATTACH;FMTTYPE=image/jpeg:https://victorylutheran.com/wp-content/uploads/2023/07/Fellowship.jpg
END:VEVENT
BEGIN:VEVENT
DTSTART;TZID=America/Phoenix:20260712T083000
DTEND;TZID=America/Phoenix:20260712T110000
DTSTAMP:20260425T134543
CREATED:20230728T230208Z
LAST-MODIFIED:20250611T164918Z
UID:10008709-1783845000-1783854000@victorylutheran.com
SUMMARY:8:30-11am Morning Fellowship
DESCRIPTION:
URL:https://victorylutheran.com/event/7-11am-morning-fellowship/2026-07-12/
ATTACH;FMTTYPE=image/jpeg:https://victorylutheran.com/wp-content/uploads/2023/07/Fellowship.jpg
END:VEVENT
BEGIN:VEVENT
DTSTART;TZID=America/Phoenix:20260719T083000
DTEND;TZID=America/Phoenix:20260719T110000
DTSTAMP:20260425T134543
CREATED:20230728T230208Z
LAST-MODIFIED:20250611T164918Z
UID:10008710-1784449800-1784458800@victorylutheran.com
SUMMARY:8:30-11am Morning Fellowship
DESCRIPTION:
URL:https://victorylutheran.com/event/7-11am-morning-fellowship/2026-07-19/
ATTACH;FMTTYPE=image/jpeg:https://victorylutheran.com/wp-content/uploads/2023/07/Fellowship.jpg
END:VEVENT
BEGIN:VEVENT
DTSTART;TZID=America/Phoenix:20260726T083000
DTEND;TZID=America/Phoenix:20260726T110000
DTSTAMP:20260425T134543
CREATED:20230728T230208Z
LAST-MODIFIED:20250611T164918Z
UID:10008711-1785054600-1785063600@victorylutheran.com
SUMMARY:8:30-11am Morning Fellowship
DESCRIPTION:
URL:https://victorylutheran.com/event/7-11am-morning-fellowship/2026-07-26/
ATTACH;FMTTYPE=image/jpeg:https://victorylutheran.com/wp-content/uploads/2023/07/Fellowship.jpg
END:VEVENT
BEGIN:VEVENT
DTSTART;TZID=America/Phoenix:20260802T083000
DTEND;TZID=America/Phoenix:20260802T110000
DTSTAMP:20260425T134543
CREATED:20230728T230208Z
LAST-MODIFIED:20250611T164918Z
UID:10008712-1785659400-1785668400@victorylutheran.com
SUMMARY:8:30-11am Morning Fellowship
DESCRIPTION:
URL:https://victorylutheran.com/event/7-11am-morning-fellowship/2026-08-02/
ATTACH;FMTTYPE=image/jpeg:https://victorylutheran.com/wp-content/uploads/2023/07/Fellowship.jpg
END:VEVENT
BEGIN:VEVENT
DTSTART;TZID=America/Phoenix:20260809T083000
DTEND;TZID=America/Phoenix:20260809T110000
DTSTAMP:20260425T134543
CREATED:20230728T230208Z
LAST-MODIFIED:20250611T164918Z
UID:10008713-1786264200-1786273200@victorylutheran.com
SUMMARY:8:30-11am Morning Fellowship
DESCRIPTION:
URL:https://victorylutheran.com/event/7-11am-morning-fellowship/2026-08-09/
ATTACH;FMTTYPE=image/jpeg:https://victorylutheran.com/wp-content/uploads/2023/07/Fellowship.jpg
END:VEVENT
BEGIN:VEVENT
DTSTART;TZID=America/Phoenix:20260816T083000
DTEND;TZID=America/Phoenix:20260816T110000
DTSTAMP:20260425T134543
CREATED:20230728T230208Z
LAST-MODIFIED:20250611T164918Z
UID:10008714-1786869000-1786878000@victorylutheran.com
SUMMARY:8:30-11am Morning Fellowship
DESCRIPTION:
URL:https://victorylutheran.com/event/7-11am-morning-fellowship/2026-08-16/
ATTACH;FMTTYPE=image/jpeg:https://victorylutheran.com/wp-content/uploads/2023/07/Fellowship.jpg
END:VEVENT
BEGIN:VEVENT
DTSTART;TZID=America/Phoenix:20260823T083000
DTEND;TZID=America/Phoenix:20260823T110000
DTSTAMP:20260425T134543
CREATED:20230728T230208Z
LAST-MODIFIED:20250611T164918Z
UID:10008715-1787473800-1787482800@victorylutheran.com
SUMMARY:8:30-11am Morning Fellowship
DESCRIPTION:
URL:https://victorylutheran.com/event/7-11am-morning-fellowship/2026-08-23/
ATTACH;FMTTYPE=image/jpeg:https://victorylutheran.com/wp-content/uploads/2023/07/Fellowship.jpg
END:VEVENT
BEGIN:VEVENT
DTSTART;TZID=America/Phoenix:20260830T083000
DTEND;TZID=America/Phoenix:20260830T110000
DTSTAMP:20260425T134543
CREATED:20230728T230208Z
LAST-MODIFIED:20250611T164918Z
UID:10008716-1788078600-1788087600@victorylutheran.com
SUMMARY:8:30-11am Morning Fellowship
DESCRIPTION:
URL:https://victorylutheran.com/event/7-11am-morning-fellowship/2026-08-30/
ATTACH;FMTTYPE=image/jpeg:https://victorylutheran.com/wp-content/uploads/2023/07/Fellowship.jpg
END:VEVENT
BEGIN:VEVENT
DTSTART;TZID=America/Phoenix:20260906T083000
DTEND;TZID=America/Phoenix:20260906T110000
DTSTAMP:20260425T134543
CREATED:20230728T230208Z
LAST-MODIFIED:20250611T164918Z
UID:10008717-1788683400-1788692400@victorylutheran.com
SUMMARY:8:30-11am Morning Fellowship
DESCRIPTION:
URL:https://victorylutheran.com/event/7-11am-morning-fellowship/2026-09-06/
ATTACH;FMTTYPE=image/jpeg:https://victorylutheran.com/wp-content/uploads/2023/07/Fellowship.jpg
END:VEVENT
BEGIN:VEVENT
DTSTART;TZID=America/Phoenix:20260913T083000
DTEND;TZID=America/Phoenix:20260913T110000
DTSTAMP:20260425T134543
CREATED:20230728T230208Z
LAST-MODIFIED:20250611T164918Z
UID:10008718-1789288200-1789297200@victorylutheran.com
SUMMARY:8:30-11am Morning Fellowship
DESCRIPTION:
URL:https://victorylutheran.com/event/7-11am-morning-fellowship/2026-09-13/
ATTACH;FMTTYPE=image/jpeg:https://victorylutheran.com/wp-content/uploads/2023/07/Fellowship.jpg
END:VEVENT
BEGIN:VEVENT
DTSTART;TZID=America/Phoenix:20260920T083000
DTEND;TZID=America/Phoenix:20260920T110000
DTSTAMP:20260425T134543
CREATED:20230728T230208Z
LAST-MODIFIED:20250611T164918Z
UID:10008719-1789893000-1789902000@victorylutheran.com
SUMMARY:8:30-11am Morning Fellowship
DESCRIPTION:
URL:https://victorylutheran.com/event/7-11am-morning-fellowship/2026-09-20/
ATTACH;FMTTYPE=image/jpeg:https://victorylutheran.com/wp-content/uploads/2023/07/Fellowship.jpg
END:VEVENT
BEGIN:VEVENT
DTSTART;TZID=America/Phoenix:20260927T083000
DTEND;TZID=America/Phoenix:20260927T110000
DTSTAMP:20260425T134543
CREATED:20230728T230208Z
LAST-MODIFIED:20250611T164918Z
UID:10008720-1790497800-1790506800@victorylutheran.com
SUMMARY:8:30-11am Morning Fellowship
DESCRIPTION:
URL:https://victorylutheran.com/event/7-11am-morning-fellowship/2026-09-27/
ATTACH;FMTTYPE=image/jpeg:https://victorylutheran.com/wp-content/uploads/2023/07/Fellowship.jpg
END:VEVENT
BEGIN:VEVENT
DTSTART;TZID=America/Phoenix:20261004T083000
DTEND;TZID=America/Phoenix:20261004T110000
DTSTAMP:20260425T134543
CREATED:20230728T230208Z
LAST-MODIFIED:20250611T164918Z
UID:10008721-1791102600-1791111600@victorylutheran.com
SUMMARY:8:30-11am Morning Fellowship
DESCRIPTION:
URL:https://victorylutheran.com/event/7-11am-morning-fellowship/2026-10-04/
ATTACH;FMTTYPE=image/jpeg:https://victorylutheran.com/wp-content/uploads/2023/07/Fellowship.jpg
END:VEVENT
BEGIN:VEVENT
DTSTART;TZID=America/Phoenix:20261011T083000
DTEND;TZID=America/Phoenix:20261011T110000
DTSTAMP:20260425T134543
CREATED:20230728T230208Z
LAST-MODIFIED:20250611T164918Z
UID:10008722-1791707400-1791716400@victorylutheran.com
SUMMARY:8:30-11am Morning Fellowship
DESCRIPTION:
URL:https://victorylutheran.com/event/7-11am-morning-fellowship/2026-10-11/
ATTACH;FMTTYPE=image/jpeg:https://victorylutheran.com/wp-content/uploads/2023/07/Fellowship.jpg
END:VEVENT
BEGIN:VEVENT
DTSTART;TZID=America/Phoenix:20261018T083000
DTEND;TZID=America/Phoenix:20261018T110000
DTSTAMP:20260425T134543
CREATED:20230728T230208Z
LAST-MODIFIED:20250611T164918Z
UID:10008723-1792312200-1792321200@victorylutheran.com
SUMMARY:8:30-11am Morning Fellowship
DESCRIPTION:
URL:https://victorylutheran.com/event/7-11am-morning-fellowship/2026-10-18/
ATTACH;FMTTYPE=image/jpeg:https://victorylutheran.com/wp-content/uploads/2023/07/Fellowship.jpg
END:VEVENT
BEGIN:VEVENT
DTSTART;TZID=America/Phoenix:20261025T083000
DTEND;TZID=America/Phoenix:20261025T110000
DTSTAMP:20260425T134543
CREATED:20230728T230208Z
LAST-MODIFIED:20250611T164918Z
UID:10008724-1792917000-1792926000@victorylutheran.com
SUMMARY:8:30-11am Morning Fellowship
DESCRIPTION:
URL:https://victorylutheran.com/event/7-11am-morning-fellowship/2026-10-25/
ATTACH;FMTTYPE=image/jpeg:https://victorylutheran.com/wp-content/uploads/2023/07/Fellowship.jpg
END:VEVENT
BEGIN:VEVENT
DTSTART;TZID=America/Phoenix:20261101T083000
DTEND;TZID=America/Phoenix:20261101T110000
DTSTAMP:20260425T134543
CREATED:20230728T230208Z
LAST-MODIFIED:20250611T164918Z
UID:10008725-1793521800-1793530800@victorylutheran.com
SUMMARY:8:30-11am Morning Fellowship
DESCRIPTION:
URL:https://victorylutheran.com/event/7-11am-morning-fellowship/2026-11-01/
ATTACH;FMTTYPE=image/jpeg:https://victorylutheran.com/wp-content/uploads/2023/07/Fellowship.jpg
END:VEVENT
BEGIN:VEVENT
DTSTART;TZID=America/Phoenix:20261108T083000
DTEND;TZID=America/Phoenix:20261108T110000
DTSTAMP:20260425T134543
CREATED:20230728T230208Z
LAST-MODIFIED:20250611T164918Z
UID:10008726-1794126600-1794135600@victorylutheran.com
SUMMARY:8:30-11am Morning Fellowship
DESCRIPTION:
URL:https://victorylutheran.com/event/7-11am-morning-fellowship/2026-11-08/
ATTACH;FMTTYPE=image/jpeg:https://victorylutheran.com/wp-content/uploads/2023/07/Fellowship.jpg
END:VEVENT
BEGIN:VEVENT
DTSTART;TZID=America/Phoenix:20261115T083000
DTEND;TZID=America/Phoenix:20261115T110000
DTSTAMP:20260425T134543
CREATED:20230728T230208Z
LAST-MODIFIED:20250611T164918Z
UID:10008727-1794731400-1794740400@victorylutheran.com
SUMMARY:8:30-11am Morning Fellowship
DESCRIPTION:
URL:https://victorylutheran.com/event/7-11am-morning-fellowship/2026-11-15/
ATTACH;FMTTYPE=image/jpeg:https://victorylutheran.com/wp-content/uploads/2023/07/Fellowship.jpg
END:VEVENT
END:VCALENDAR