BEGIN:VCALENDAR
VERSION:2.0
PRODID:-//Victory Lutheran Church - ECPv6.15.11//NONSGML v1.0//EN
CALSCALE:GREGORIAN
METHOD:PUBLISH
X-ORIGINAL-URL:https://victorylutheran.com
X-WR-CALDESC:Events for Victory Lutheran Church
REFRESH-INTERVAL;VALUE=DURATION:PT1H
X-Robots-Tag:noindex
X-PUBLISHED-TTL:PT1H
BEGIN:VTIMEZONE
TZID:America/Phoenix
BEGIN:STANDARD
TZOFFSETFROM:-0700
TZOFFSETTO:-0700
TZNAME:MST
DTSTART:20240101T000000
END:STANDARD
END:VTIMEZONE
BEGIN:VEVENT
DTSTART;TZID=America/Phoenix:20251123T093000
DTEND;TZID=America/Phoenix:20251123T103000
DTSTAMP:20260420T140405
CREATED:20251010T003424Z
LAST-MODIFIED:20251010T003804Z
UID:10009664-1763890200-1763893800@victorylutheran.com
SUMMARY:Children's Church
DESCRIPTION:
URL:https://victorylutheran.com/event/childrens-church-2/2025-11-23/
LOCATION:AZ
END:VEVENT
BEGIN:VEVENT
DTSTART;TZID=America/Phoenix:20251123T110000
DTEND;TZID=America/Phoenix:20251123T120000
DTSTAMP:20260420T140405
CREATED:20240306T000109Z
LAST-MODIFIED:20240306T000348Z
UID:10005962-1763895600-1763899200@victorylutheran.com
SUMMARY:Contemporary Worship
DESCRIPTION:Launching New  \n\n\n\nCONTEMPORARY WORSHIP SERVICE @ 11:00AMBeginning April 7th\, Victory Lutheran will introduce a Contemporary Worship Service at 11:00am on Sunday mornings. Following Easter\, the 11:00am service will shift from traditional to contemporary music\, led by a praise team under the guidance of Jackie Jewel. \n\n\n\nThis new service has been a long-requested and carefully planned endeavor. While contemporary worship has been a part of Victory for over twenty years\, it hasn’t been present at the Mesa campus for quite some time. \n\n\n\nIt’s important to note that traditional worship remains the cornerstone of Victory’s worship experience. This is our primary focus. We’re not aiming to “blend” traditional and contemporary styles. Our Saturday service at 4:00pm and Sunday services at 8:00am and 9:30am will continue to uphold traditional styles with excellence. The 11:00am Sunday service will adopt a contemporary style\, also delivered with excellence.
URL:https://victorylutheran.com/event/contemporary-worship/2025-11-23/
LOCATION:AZ
CATEGORIES:Gather Time
ATTACH;FMTTYPE=image/jpeg:https://victorylutheran.com/wp-content/uploads/2024/03/Contemporary-Countdown-Next-Sunday.jpeg
END:VEVENT
BEGIN:VEVENT
DTSTART;TZID=America/Phoenix:20251123T110000
DTEND;TZID=America/Phoenix:20251123T120000
DTSTAMP:20260420T140405
CREATED:20250926T025306Z
LAST-MODIFIED:20251205T195711Z
UID:10010592-1763895600-1763899200@victorylutheran.com
SUMMARY:Children's Church
DESCRIPTION:Children’s Church will start Sunday\, October 12 and new this year\, we will have Children’s Church available at both the 9:30 and 11:00 services!. Please remember the Children’s Ministry in your prayers.
URL:https://victorylutheran.com/event/childrens-church/2025-11-23/
LOCATION:AZ
CATEGORIES:Gather Time
ATTACH;FMTTYPE=image/jpeg:https://victorylutheran.com/wp-content/uploads/2025/09/Childrens-Church_Oct.jpg
END:VEVENT
BEGIN:VEVENT
DTSTART;TZID=America/Phoenix:20251124T090000
DTEND;TZID=America/Phoenix:20251124T113000
DTSTAMP:20260420T140405
CREATED:20251010T194254Z
LAST-MODIFIED:20251010T202529Z
UID:10000920-1763974800-1763983800@victorylutheran.com
SUMMARY:Food Pantry
DESCRIPTION:LSS-SW (Lutheran Social Services of the Southwest) 2 Food Pantry locations in Mesa. All that is needed is a photo ID. Note: We offer food only. No financial resources available. \n\n\n\nVictory Lutheran Church Food Pantry5946 E. University Drive\, Mesa\, AZ 85205Mondays & Wednesdays\, 9:00am-11:30am480-654-4539 \n\n\n\nFirst Evangelical Lutheran Church Food Pantry142 N. Date\, Mesa\, AZ 85201Tuesdays & Thursdays\, 9:00am-11:15am(except the 2nd Tuesday of the month)and the evening of the Wednesday AFTER the 2nd Tuesday 5:00-7:00pm
URL:https://victorylutheran.com/event/food-pantry-5/2025-11-24/
LOCATION:Victory Lutheran Church\, 5946 E. University Dr.\, Mesa\, AZ\, 85205\, United States
ATTACH;FMTTYPE=image/jpeg:https://victorylutheran.com/wp-content/uploads/2023/07/Food-Pantry_thumbnail.jpg
END:VEVENT
BEGIN:VEVENT
DTSTART;TZID=America/Phoenix:20251124T123000
DTEND;TZID=America/Phoenix:20251124T143000
DTSTAMP:20260420T140405
CREATED:20230802T212032Z
LAST-MODIFIED:20251010T204215Z
UID:10010425-1763987400-1763994600@victorylutheran.com
SUMMARY:GriefShare: Surviving the Holidays
DESCRIPTION:Special 1-Day Seminar\n\n\n\n\n\n\n\nWondering how you will survive the weeks surrounding Thanksgiving and Christmas? Are you dreading these holidays\, knowing that everything has changed and that happy memories from past years can’t be recreated? \n\n\n\nOur Surviving the Holidays seminar is especially for people who are grieving a loved one’s death. You will learn: \n\n\n\n\nHow to deal with the many emotions you’ll face during the holidays\n\n\n\nWhat to do about traditions and other coming changes\n\n\n\nHelpful tips for surviving social events\n\n\n\nHow to discover hope for your future
URL:https://victorylutheran.com/event/griefshare-surviving-the-holidays/2025-11-24/
LOCATION:AZ
CATEGORIES:Group Time
ATTACH;FMTTYPE=image/jpeg:https://victorylutheran.com/wp-content/uploads/2023/08/Surviving-the-Holidays_NOV-24.jpg
END:VEVENT
BEGIN:VEVENT
DTSTART;TZID=America/Phoenix:20251124T160000
DTEND;TZID=America/Phoenix:20251124T173000
DTSTAMP:20260420T140405
CREATED:20250703T195237Z
LAST-MODIFIED:20251205T171908Z
UID:10010992-1764000000-1764005400@victorylutheran.com
SUMMARY:Confirmation Class
DESCRIPTION:Our FREE Confirmation program is a three-year in-depth study of the scriptures and Luther’s Small Catechism. This program aims to provide a strong Christian foundation for youth\, emphasizing the sacraments\, commandments\, and foundational Christian beliefs. Classes are held every Monday from 4:00-5:30pm. \n\n\n\nFor more information contact Pastor Renee Bennett at 480-830-5024 xt. 121. \n\n\n\nNOTE: We will not meet December 15\, 22 & 29\, 2025.
URL:https://victorylutheran.com/event/confirmation-class-3/2025-11-24/
LOCATION:AZ
CATEGORIES:Group Time
END:VEVENT
BEGIN:VEVENT
DTSTART;TZID=America/Phoenix:20251125T133000
DTEND;TZID=America/Phoenix:20251125T150000
DTSTAMP:20260420T140405
CREATED:20251010T002443Z
LAST-MODIFIED:20251010T002450Z
UID:10009653-1764077400-1764082800@victorylutheran.com
SUMMARY:Book Club
DESCRIPTION:THE BOOK CLUBLove to read books? The Book Club meets monthly on the 4th Tuesday from 1:30-3:00pm. Please come prepared to discuss the monthly book selection. Click below for the upcoming list. Note: We will NOT meet in December.
URL:https://victorylutheran.com/event/book-club-3/2025-11-25/
LOCATION:AZ
ATTACH;FMTTYPE=image/jpeg:https://victorylutheran.com/wp-content/uploads/2025/10/Book-Club-4th-Tuesday.jpg
END:VEVENT
BEGIN:VEVENT
DTSTART;TZID=America/Phoenix:20251125T190000
DTEND;TZID=America/Phoenix:20251125T200000
DTSTAMP:20260420T140405
CREATED:20230728T214538Z
LAST-MODIFIED:20230801T172346Z
UID:10001439-1764097200-1764100800@victorylutheran.com
SUMMARY:AA Men's Meeting
DESCRIPTION:The purpose of all meetings is for A.A. members to “share their experience\, strength and hope with each other that they may solve their common problem and help others to recover from alcoholism.”
URL:https://victorylutheran.com/event/aa-mens-meeting/2025-11-25/
LOCATION:AZ
ATTACH;FMTTYPE=image/jpeg:https://victorylutheran.com/wp-content/uploads/2023/07/1.jpg
END:VEVENT
BEGIN:VEVENT
DTSTART;TZID=America/Phoenix:20251126T090000
DTEND;TZID=America/Phoenix:20251126T113000
DTSTAMP:20260420T140405
CREATED:20251010T194254Z
LAST-MODIFIED:20251010T202529Z
UID:10000921-1764147600-1764156600@victorylutheran.com
SUMMARY:Food Pantry
DESCRIPTION:LSS-SW (Lutheran Social Services of the Southwest) 2 Food Pantry locations in Mesa. All that is needed is a photo ID. Note: We offer food only. No financial resources available. \n\n\n\nVictory Lutheran Church Food Pantry5946 E. University Drive\, Mesa\, AZ 85205Mondays & Wednesdays\, 9:00am-11:30am480-654-4539 \n\n\n\nFirst Evangelical Lutheran Church Food Pantry142 N. Date\, Mesa\, AZ 85201Tuesdays & Thursdays\, 9:00am-11:15am(except the 2nd Tuesday of the month)and the evening of the Wednesday AFTER the 2nd Tuesday 5:00-7:00pm
URL:https://victorylutheran.com/event/food-pantry-5/2025-11-26/
LOCATION:Victory Lutheran Church\, 5946 E. University Dr.\, Mesa\, AZ\, 85205\, United States
ATTACH;FMTTYPE=image/jpeg:https://victorylutheran.com/wp-content/uploads/2023/07/Food-Pantry_thumbnail.jpg
END:VEVENT
BEGIN:VEVENT
DTSTART;TZID=America/Phoenix:20251126T100000
DTEND;TZID=America/Phoenix:20251126T110000
DTSTAMP:20260420T140405
CREATED:20250703T194922Z
LAST-MODIFIED:20250703T194936Z
UID:10009084-1764151200-1764154800@victorylutheran.com
SUMMARY:Men's Bible Study
DESCRIPTION:We meet each week in the courtyard Luther Room (C-1). It is a great setting for studying and discussing sermon notes. Communion is observed.
URL:https://victorylutheran.com/event/mens-bible-study-4/2025-11-26/
LOCATION:AZ
CATEGORIES:Life Groups
ATTACH;FMTTYPE=image/jpeg:https://victorylutheran.com/wp-content/uploads/2023/07/Bible-and-coffee.jpg
END:VEVENT
BEGIN:VEVENT
DTSTART;TZID=America/Phoenix:20251126T123000
DTEND;TZID=America/Phoenix:20251126T133000
DTSTAMP:20260420T140405
CREATED:20230728T214657Z
LAST-MODIFIED:20230801T172234Z
UID:10001700-1764160200-1764163800@victorylutheran.com
SUMMARY:Al-Anon Meeting
DESCRIPTION:Al-Anon Family Groups is an important source of help for anyone affected by someone else’s drinking. Al-Anon groups are made up of family members and friends of alcoholics who share their experience\, strength\, and hope with each other.
URL:https://victorylutheran.com/event/al-anon-meeting/2025-11-26/
LOCATION:AZ
ATTACH;FMTTYPE=image/jpeg:https://victorylutheran.com/wp-content/uploads/2023/07/2.jpg
END:VEVENT
BEGIN:VEVENT
DTSTART;TZID=America/Phoenix:20251126T130000
DTEND;TZID=America/Phoenix:20251126T140000
DTSTAMP:20260420T140405
CREATED:20251010T181925Z
LAST-MODIFIED:20251010T181935Z
UID:10010085-1764162000-1764165600@victorylutheran.com
SUMMARY:Bell Choir Rehearsal
DESCRIPTION:
URL:https://victorylutheran.com/event/bell-choir-rehearsal/2025-11-26/
LOCATION:AZ
END:VEVENT
BEGIN:VEVENT
DTSTART;TZID=America/Phoenix:20251126T133000
DTEND;TZID=America/Phoenix:20251126T150000
DTSTAMP:20260420T140405
CREATED:20231230T201101Z
LAST-MODIFIED:20231230T201112Z
UID:10005390-1764163800-1764169200@victorylutheran.com
SUMMARY:Women's Bible Study
DESCRIPTION:We gather each Wednesday at 1:30pm to learn and discuss God’s Word. Open to all women.
URL:https://victorylutheran.com/event/womens-bible-study/2025-11-26/
LOCATION:AZ
CATEGORIES:Group Time
ATTACH;FMTTYPE=image/jpeg:https://victorylutheran.com/wp-content/uploads/2023/12/Bible-with-flower.jpg
END:VEVENT
BEGIN:VEVENT
DTSTART;TZID=America/Phoenix:20251126T160000
DTEND;TZID=America/Phoenix:20251126T180000
DTSTAMP:20260420T140405
CREATED:20231009T170308Z
LAST-MODIFIED:20251112T214657Z
UID:10004921-1764172800-1764180000@victorylutheran.com
SUMMARY:Thanksgiving Eve Worship & Dinner
DESCRIPTION:Thanksgiving Eve Worship @ 4:00pmThanksgiving Dinner @ 5:00pm\n\n\n\nThanksgiving is a time when groups of family and friends gather to celebrate all that we are thankful for. At Victory we have a wonderful opportunity to do that together as a church family! Enjoy a buffet style meal of turkey\, mashed potatoes\, several sides\, and pie for dessert. Meals “to go” available. A limited number of meals are available at $5.00 per person. Sign up and pay at the designated table in the lobby. All proceeds from ticket sales will go to Victory’s Food Pantry.  \n\n\n\nVolunteers needed for setup\, cleanup and kitchen help. Please contact the church office at 480-830-5024 to volunteer or for tickets sales.
URL:https://victorylutheran.com/event/thanksgiving-eve-worship/
LOCATION:AZ
CATEGORIES:Gather Time
ATTACH;FMTTYPE=image/jpeg:https://victorylutheran.com/wp-content/uploads/2023/10/Thanksgiving-Eve-Worship-2025_slide.jpg
END:VEVENT
BEGIN:VEVENT
DTSTART;TZID=America/Phoenix:20251126T183000
DTEND;TZID=America/Phoenix:20251126T200000
DTSTAMP:20260420T140405
CREATED:20251010T181824Z
LAST-MODIFIED:20251204T233327Z
UID:10010060-1764181800-1764187200@victorylutheran.com
SUMMARY:Choir Rehearsal
DESCRIPTION:
URL:https://victorylutheran.com/event/choir-rehearsal/2025-11-26/
LOCATION:AZ
END:VEVENT
BEGIN:VEVENT
DTSTART;TZID=America/Phoenix:20251126T200000
DTEND;TZID=America/Phoenix:20251126T210000
DTSTAMP:20260420T140405
CREATED:20240423T172328Z
LAST-MODIFIED:20240423T172410Z
UID:10006260-1764187200-1764190800@victorylutheran.com
SUMMARY:AA Meeting
DESCRIPTION:The purpose of all meetings is for A.A. members to “share their experience\, strength and hope with each other that they may solve their common problem and help others to recover from alcoholism.”
URL:https://victorylutheran.com/event/aa-meeting/2025-11-26/
LOCATION:AZ
ATTACH;FMTTYPE=image/jpeg:https://victorylutheran.com/wp-content/uploads/2023/07/AA-book-cover.jpg
END:VEVENT
BEGIN:VEVENT
DTSTART;TZID=America/Phoenix:20251127T000000
DTEND;TZID=America/Phoenix:20251127T235959
DTSTAMP:20260420T140405
CREATED:20241107T005514Z
LAST-MODIFIED:20250403T225334Z
UID:10008085-1764201600-1764287999@victorylutheran.com
SUMMARY:OFFICE CLOSED - Thanksgiving Day
DESCRIPTION:
URL:https://victorylutheran.com/event/thanksgiving-day-office-closed/
LOCATION:AZ
END:VEVENT
BEGIN:VEVENT
DTSTART;TZID=America/Phoenix:20251127T110000
DTEND;TZID=America/Phoenix:20251127T120000
DTSTAMP:20260420T140405
CREATED:20240830T031623Z
LAST-MODIFIED:20240830T031625Z
UID:10007602-1764241200-1764244800@victorylutheran.com
SUMMARY:Al-Anon Meeting
DESCRIPTION:Al-Anon Family Groups is an important source of help for anyone affected by someone else’s drinking. Al-Anon groups are made up of family members and friends of alcoholics who share their experience\, strength\, and hope with each other.
URL:https://victorylutheran.com/event/al-anon-meeting-2/2025-11-27/
LOCATION:AZ
ATTACH;FMTTYPE=image/jpeg:https://victorylutheran.com/wp-content/uploads/2023/07/2.jpg
END:VEVENT
BEGIN:VEVENT
DTSTART;TZID=America/Phoenix:20251128T000000
DTEND;TZID=America/Phoenix:20251128T235959
DTSTAMP:20260420T140405
CREATED:20250403T225014Z
LAST-MODIFIED:20250703T195838Z
UID:10009345-1764288000-1764374399@victorylutheran.com
SUMMARY:OFFICE CLOSED
DESCRIPTION:
URL:https://victorylutheran.com/event/office-closed-4th-of-july-holiday-2/2025-11-28/
LOCATION:AZ
END:VEVENT
BEGIN:VEVENT
DTSTART;TZID=America/Phoenix:20251129T080000
DTEND;TZID=America/Phoenix:20251129T090000
DTSTAMP:20260420T140405
CREATED:20230728T214917Z
LAST-MODIFIED:20230728T220149Z
UID:10001963-1764403200-1764406800@victorylutheran.com
SUMMARY:Men's Bible Study
DESCRIPTION:We meet each week in the courtyard Fireside Room. Our study sessions are focused on exploring the Scriptures\, discussing their relevance to our daily lives\, and encouraging one another in our spiritual journeys. 
URL:https://victorylutheran.com/event/mens-bible-study/2025-11-29/
LOCATION:AZ
CATEGORIES:Life Groups
ATTACH;FMTTYPE=image/jpeg:https://victorylutheran.com/wp-content/uploads/2023/07/Bible-in-hands-e1749767525203.jpg
END:VEVENT
BEGIN:VEVENT
DTSTART;TZID=America/Phoenix:20251129T160000
DTEND;TZID=America/Phoenix:20251129T170000
DTSTAMP:20260420T140405
CREATED:20230728T231824Z
LAST-MODIFIED:20230730T162125Z
UID:10003084-1764432000-1764435600@victorylutheran.com
SUMMARY:4pm Worship
DESCRIPTION:
URL:https://victorylutheran.com/event/4pm-worship-2/2025-11-29/
LOCATION:AZ
CATEGORIES:Gather Time
ATTACH;FMTTYPE=image/jpeg:https://victorylutheran.com/wp-content/uploads/2023/07/Drone-Inside-Church-Frame-scaled.jpg
END:VEVENT
BEGIN:VEVENT
DTSTART;TZID=America/Phoenix:20251130T080000
DTEND;TZID=America/Phoenix:20251130T090000
DTSTAMP:20260420T140405
CREATED:20230728T223634Z
LAST-MODIFIED:20231009T154408Z
UID:10002554-1764489600-1764493200@victorylutheran.com
SUMMARY:8am Worship & Communion
DESCRIPTION:
URL:https://victorylutheran.com/event/8am-worship/2025-11-30/
LOCATION:AZ
ATTACH;FMTTYPE=image/jpeg:https://victorylutheran.com/wp-content/uploads/2023/07/Inside-Sanctuary.jpg
END:VEVENT
BEGIN:VEVENT
DTSTART;TZID=America/Phoenix:20251130T083000
DTEND;TZID=America/Phoenix:20251130T110000
DTSTAMP:20260420T140405
CREATED:20230728T230208Z
LAST-MODIFIED:20250611T164918Z
UID:10008677-1764491400-1764500400@victorylutheran.com
SUMMARY:8:30-11am Morning Fellowship
DESCRIPTION:
URL:https://victorylutheran.com/event/7-11am-morning-fellowship/2025-11-30/
LOCATION:AZ
ATTACH;FMTTYPE=image/jpeg:https://victorylutheran.com/wp-content/uploads/2023/07/Fellowship.jpg
END:VEVENT
BEGIN:VEVENT
DTSTART;TZID=America/Phoenix:20251130T093000
DTEND;TZID=America/Phoenix:20251130T103000
DTSTAMP:20260420T140405
CREATED:20230728T231856Z
LAST-MODIFIED:20230730T162603Z
UID:10002819-1764495000-1764498600@victorylutheran.com
SUMMARY:9:30am Worship
DESCRIPTION:
URL:https://victorylutheran.com/event/930am-worship-2/2025-11-30/
LOCATION:AZ
CATEGORIES:Gather Time
ATTACH;FMTTYPE=image/jpeg:https://victorylutheran.com/wp-content/uploads/2023/07/Inside-Sanctuary.jpg
END:VEVENT
BEGIN:VEVENT
DTSTART;TZID=America/Phoenix:20251130T093000
DTEND;TZID=America/Phoenix:20251130T103000
DTSTAMP:20260420T140405
CREATED:20251010T003424Z
LAST-MODIFIED:20251010T003804Z
UID:10009665-1764495000-1764498600@victorylutheran.com
SUMMARY:Children's Church
DESCRIPTION:
URL:https://victorylutheran.com/event/childrens-church-2/2025-11-30/
LOCATION:AZ
END:VEVENT
BEGIN:VEVENT
DTSTART;TZID=America/Phoenix:20251130T110000
DTEND;TZID=America/Phoenix:20251130T120000
DTSTAMP:20260420T140405
CREATED:20240306T000109Z
LAST-MODIFIED:20240306T000348Z
UID:10005963-1764500400-1764504000@victorylutheran.com
SUMMARY:Contemporary Worship
DESCRIPTION:Launching New  \n\n\n\nCONTEMPORARY WORSHIP SERVICE @ 11:00AMBeginning April 7th\, Victory Lutheran will introduce a Contemporary Worship Service at 11:00am on Sunday mornings. Following Easter\, the 11:00am service will shift from traditional to contemporary music\, led by a praise team under the guidance of Jackie Jewel. \n\n\n\nThis new service has been a long-requested and carefully planned endeavor. While contemporary worship has been a part of Victory for over twenty years\, it hasn’t been present at the Mesa campus for quite some time. \n\n\n\nIt’s important to note that traditional worship remains the cornerstone of Victory’s worship experience. This is our primary focus. We’re not aiming to “blend” traditional and contemporary styles. Our Saturday service at 4:00pm and Sunday services at 8:00am and 9:30am will continue to uphold traditional styles with excellence. The 11:00am Sunday service will adopt a contemporary style\, also delivered with excellence.
URL:https://victorylutheran.com/event/contemporary-worship/2025-11-30/
LOCATION:AZ
CATEGORIES:Gather Time
ATTACH;FMTTYPE=image/jpeg:https://victorylutheran.com/wp-content/uploads/2024/03/Contemporary-Countdown-Next-Sunday.jpeg
END:VEVENT
BEGIN:VEVENT
DTSTART;TZID=America/Phoenix:20251130T110000
DTEND;TZID=America/Phoenix:20251130T120000
DTSTAMP:20260420T140405
CREATED:20250926T025306Z
LAST-MODIFIED:20251205T195711Z
UID:10010593-1764500400-1764504000@victorylutheran.com
SUMMARY:Children's Church
DESCRIPTION:Children’s Church will start Sunday\, October 12 and new this year\, we will have Children’s Church available at both the 9:30 and 11:00 services!. Please remember the Children’s Ministry in your prayers.
URL:https://victorylutheran.com/event/childrens-church/2025-11-30/
LOCATION:AZ
CATEGORIES:Gather Time
ATTACH;FMTTYPE=image/jpeg:https://victorylutheran.com/wp-content/uploads/2025/09/Childrens-Church_Oct.jpg
END:VEVENT
BEGIN:VEVENT
DTSTART;TZID=America/Phoenix:20251201T090000
DTEND;TZID=America/Phoenix:20251201T113000
DTSTAMP:20260420T140405
CREATED:20251010T194254Z
LAST-MODIFIED:20251010T202529Z
UID:10000922-1764579600-1764588600@victorylutheran.com
SUMMARY:Food Pantry
DESCRIPTION:LSS-SW (Lutheran Social Services of the Southwest) 2 Food Pantry locations in Mesa. All that is needed is a photo ID. Note: We offer food only. No financial resources available. \n\n\n\nVictory Lutheran Church Food Pantry5946 E. University Drive\, Mesa\, AZ 85205Mondays & Wednesdays\, 9:00am-11:30am480-654-4539 \n\n\n\nFirst Evangelical Lutheran Church Food Pantry142 N. Date\, Mesa\, AZ 85201Tuesdays & Thursdays\, 9:00am-11:15am(except the 2nd Tuesday of the month)and the evening of the Wednesday AFTER the 2nd Tuesday 5:00-7:00pm
URL:https://victorylutheran.com/event/food-pantry-5/2025-12-01/
LOCATION:Victory Lutheran Church\, 5946 E. University Dr.\, Mesa\, AZ\, 85205\, United States
ATTACH;FMTTYPE=image/jpeg:https://victorylutheran.com/wp-content/uploads/2023/07/Food-Pantry_thumbnail.jpg
END:VEVENT
BEGIN:VEVENT
DTSTART;TZID=America/Phoenix:20251201T160000
DTEND;TZID=America/Phoenix:20251201T173000
DTSTAMP:20260420T140405
CREATED:20250703T195237Z
LAST-MODIFIED:20251205T171908Z
UID:10010993-1764604800-1764610200@victorylutheran.com
SUMMARY:Confirmation Class
DESCRIPTION:Our FREE Confirmation program is a three-year in-depth study of the scriptures and Luther’s Small Catechism. This program aims to provide a strong Christian foundation for youth\, emphasizing the sacraments\, commandments\, and foundational Christian beliefs. Classes are held every Monday from 4:00-5:30pm. \n\n\n\nFor more information contact Pastor Renee Bennett at 480-830-5024 xt. 121. \n\n\n\nNOTE: We will not meet December 15\, 22 & 29\, 2025.
URL:https://victorylutheran.com/event/confirmation-class-3/2025-12-01/
LOCATION:AZ
CATEGORIES:Group Time
END:VEVENT
BEGIN:VEVENT
DTSTART;TZID=America/Phoenix:20251202T173000
DTEND;TZID=America/Phoenix:20251202T200000
DTSTAMP:20260420T140405
CREATED:20251010T211413Z
LAST-MODIFIED:20251010T211421Z
UID:10010426-1764696600-1764705600@victorylutheran.com
SUMMARY:Christmas Lights Bus Tours
DESCRIPTION:Merry and Bright!Join us as we tour some beautiful residential light displays! The bus will leave Victory at 5:30pm and return to have cookies and cider. Sign up and pay at the Welcome Desk. Limited to 28 seats on bus. Cost $5.00. \n\n\n\nSign up soon\, seats fill up fast!
URL:https://victorylutheran.com/event/christmas-lights-bus-tours-6/
LOCATION:AZ
CATEGORIES:Social Event
ATTACH;FMTTYPE=image/jpeg:https://victorylutheran.com/wp-content/uploads/2025/10/Christmas-Lights-Bus-Tour.jpg
END:VEVENT
END:VCALENDAR